Workbook

Sheet 1. Introduction
A1: TNA - Digital ASSR Maturity Assessment Tool
A2: Introduction Distinguishing between records worthy of permanent preservation and those without further value is a significant challenge, especially when it comes to the vast amounts of digital records created by public bodies. It is widely accepted that the appraisal, selection, and sensitivity review (ASSR) of digital records will only be feasible with machine assistance. Building the capability of digital ASSR for legacy and current records requires investment in skills, infrastructure, and cross-departmental collaboration. As part of the Information Management Assessment (IMA) programme, The National Archives (TNA) has developed a Digital Appraisal, Selection, and Sensitivity Review Maturity Assessment Tool. The aim of the Tool is to provide targeted governance next steps, rather than the technical implementation or specific methods. The models use a 5-point maturity scale: 1. Beginner, 2. Emerging, 3. Learning, 4. Developing, and 5. Mastering. These levels are applied across seven key areas: Governance, Skills, Methodology, Technical Capabilities, Capacity, Engagement, and Transparency & Accountability. During the development, TNA worked with the Government Knowledge Information Management community to identify requirements and define best practices within each theme. While there was consensus on performance levels, it's important to note that organisations may achieve these outcomes through different approaches. To accommodate this flexibility, the model includes a comments column where organisations can describe their custom approaches and plans.
A3: Developed by The National Archives, UK
A4: Contact at Information.Management.Assessment@nationalarchives.gov.uk

Sheet 2. Organisational Details
A1: Organisational Details
A2: Department
A3: Date
A4: Contact
A5: Role
A6: Review Date

Sheet 3. Selection
D1: Questions | E1: Model Answers | J1: Scores - please complete all sections to see your scores
A2: ID | B2: Theme | C2: Section | D2: Category | E2: Level 1 - Beginner | F2: Level 2 - Emerging | G2: Level 3 - Learning | H2: Level 4 - Developing | I2: Level 5 - Mastering | J2: Answer Please Select in Drop-Down) | K2: Score | L2: Your score per Section | M2: Total possible per Section | N2: Your notes and comments | O2: Improvement timescale | P2: We will take the following action(s)… | Q2: 3 | R2: 4 | S2: 5 | T2: 6 | U2: 7 | V2: The person(s) responsible will be…
A3: 1.1.1 | B3: Governance and Capabilities | C3: Governance | D3: (1.1.1.) Governance: oversight, policies and methodologies in place and in use | E3: No formal oversight, governance, or processes for digital record selection, and no recognition of the challenge | F3: Recognition of the challenge but no senior support yet, and no plans, policies or methodologies in place | G3: Some policies, plans or methodologies are developed but not yet implemented | H3: Policies, plans and methodologies are in use to conduct appraisal of digital records, but difficulties experienced in implementation | I3: Mature governance in place, which is continually reviewed, improved upon and applied consistently over a number of years | K3: =IFERROR(VLOOKUP(J3, AF$3:AG$9,2,FALSE),"N/A") -> N/A | AF3: Level 1 - Beginner | AG3: 1
A4: 1.1.2 | B4: Governance and Capabilities | C4: Governance | D4: (1.1.2.) Governance: content asset and liability balance | E4: No approach to identify content as an asset and what content is a liability. Therefore the balance is heavily weighted towards liabilities | F4: Recognition of the content asset and liability challenge, but no senior management support or resource deployed | G4: Plan with resource requirements in place. Working on (a) identification of assets and (b) a strategy to categorise the remainder | H4: Assets are being identified and secured. Liabilities are identified and quarantined prior to destruction or removal | I4: Assets are routinely identified and liabilities routinely removed or destroyed | K4: =IFERROR(VLOOKUP(J4, AF$3:AG$9,2,FALSE),"N/A") -> N/A | AF4: Level 2 - Emerging | AG4: 2
A5: 1.1.3 | B5: Governance and Capabilities | C5: Governance | D5: (1.1.3.) Governance: understanding of the size of legacy digital records | E5: No understanding of the size of legacy digital records | F5: Rudimentary plans to address legacy digital records exist, with some basic forecasted understanding of scale and size | G5: Plans to address legacy digital records exist, with some forecasted understanding of scale and size | H5: Plans to address legacy digital records exist, with detailed forecasted understanding of scale and size | I5: Detailed and sophisticated planning and forecasting exists and is regularly reviewed. Scale and size of legacy records is fully understood | K5: =IFERROR(VLOOKUP(J5, AF$3:AG$9,2,FALSE),"N/A") -> N/A | AF5: Level 3 - Learning | AG5: 3
A6: 1.1.4 | B6: Governance and Capabilities | C6: Governance | D6: (1.1.4.) Governance: roles and responsibilities | E6: Responsibility for digital record review is unclear and selection activities are ad hoc or not happening. | F6: Some role holders exist and limited selection activities are happening | G6: Records team and other role holders are established and selection activities are underway | H6: Records team and other role holders are in place and responsibilities are defined. Selection activities are established. | I6: Responsibilities clear, all roles are established and selection activities are routine and regular. | K6: =IFERROR(VLOOKUP(J6, AF$3:AG$9,2,FALSE),"N/A") -> N/A | AF6: Level 4 - Developing | AG6: 4
A7: 1.1.5 | B7: Governance and Capabilities | C7: Governance | D7: (1.1.5.) Governance: risk | E7: No recognition of the risks associated with not appraising and selecting digital records. | F7: Appraisal and selection risks are recorded, but at a low level in the organisation | G7: Appraisal and selection risks are recorded and escalated to a level capable of making budget decisions, but no mitigations are agreed | H7: Appraisal and selection risks are understood and mitigated to a degree, at a level capable of making budget decisions | I7: Appraisal and Selection risks are fully recognised, at a level that can make decisions on budget, and fully mitigated. | K7: =IFERROR(VLOOKUP(J7, AF$3:AG$9,2,FALSE),"N/A") -> N/A | L7: =SUM(K3:K7) -> 0 | M7: {=SUM(5*(K3:K7<>"N/A"))} -> 0 | AF7: Level 5 - Mastering | AG7: 5
A8: 1.2.1 | B8: Governance and Capabilities | C8: Skills | D8: (1.2.1.) Skills: value and context of records | E8: Lack of ability to determine archival value and contextual relationships in digital records | F8: Building skills for digital record selection and review; value and context of records partially understood as a result | G8: Developing skills for digital record selection; value and context of records somewhat understood by reviewers | H8: Skilled resources for digital record selection are in place; value and context of records is well understood | I8: Expert skills for digital record selection. An excellent understanding of the content and subject matter of records will be transferred to TNA | K8: =IFERROR(VLOOKUP(J8, AF$3:AG$9,2,FALSE),"N/A") -> N/A | AF8: Unknown | AG8: 1
A9: 1.2.2 | B9: Governance and Capabilities | C9: Skills | D9: (1.2.2.) Skills: records collection policy and guidance | E9: No understanding of TNA's Records Collection Policy and underlying appraisal and selection guidance to help identify records of historical value | F9: Partial understanding of TNA's Records Collection Policy and underlying guidance, but not fully embedded | G9: TNA's Records Collection Policy and underlying guidance is mostly understood and followed in principle | H9: TNA's Records Collection Policy and underlying guidance is understood and often used to identify records of historical value | I9: TNA's Records Collection Policy and underlying appraisal and selection guidance is fully understood and actively used to help identify records of historical value | K9: =IFERROR(VLOOKUP(J9, AF$3:AG$9,2,FALSE),"N/A") -> N/A | AF9: N/A | AG9: N/A
A10: 1.2.3 | B10: Governance and Capabilities | C10: Skills | D10: (1.2.3.) Skills: knowledge transfer | E10: No knowledge transfer within the records team in terms of context, format, and previous work of the organisation | F10: Limited knowledge transfer within the records team in terms of context, format, and previous work of the organisation | G10: Some knowledge transfer within the records team in terms of context, format, and previous work of the organisation | H10: Detailed knowledge transfer within the records team in terms of context, format, and previous work of the organisation | I10: Full and ongoing knowledge transfer within the records team in terms of context, format, and previous work of the organisation | K10: =IFERROR(VLOOKUP(J10, AF$3:AG$9,2,FALSE),"N/A") -> N/A | L10: =SUM(K8:K10) -> 0 | M10: {=SUM(5*(K8:K10<>"N/A"))} -> 0
A11: 1.3.1 | B11: Governance and Capabilities | C11: Technical Capabilities | D11: (1.3.1.) Technical capabilities: visibility of legacy digital records | E11: No existing identification of digital records of continuing, evidential and historical value | F11: Limited identification of valuable digital records through use of retention functionality. Some audits of legacy folders, with suitable access arrangements and protection | G11: Some identification of valuable digital records through use of retention functionality. Some audits of legacy folders, with suitable access arrangements and protection | H11: Most valuable digital records are identified through the use of retention functionality and audits of legacy records | I11: Digital records of continuing, evidential and historical value for permanent preservation are clearly identified. Retention functionality and audits of legacy content fully account for all records to be appraised and selected | K11: =IFERROR(VLOOKUP(J11, AF$3:AG$9,2,FALSE),"N/A") -> N/A
A12: 1.3.2 | B12: Governance and Capabilities | C12: Technical Capabilities | D12: (1.3.2.) Technical capabilities: digital continuity | E12: No understanding of the format and medium of digital records held, and some are inaccessible because of permissions or passwords set | F12: The format and medium of digital records held is partially known, but not all is capable of being accessed for appraisal and selection | G12: The format and medium of digital records held is fully known, but not all is capable of being accessed for appraisal and selection | H12: The format and medium of digital records held is fully known, and most is able to be accessed for appraisal and selection | I12: All formats and media of digital information are identified, accessed and capable of being appraised and selected | K12: =IFERROR(VLOOKUP(J12, AF$3:AG$9,2,FALSE),"N/A") -> N/A
A13: 1.3.3. | B13: Governance and Capabilities | C13: Technical Capabilities | D13: (1.3.3.) Technical capabilities: automation and specialist tools | E13: No automation or specialist tools used in records management workflow | F13: Some automation or specialist tool use | G13: Moderate use of tools or automated processes | H13: Tools used within workflow and some flow of data between tools | I13: Fully integrated workflows combining automation and user interfaces | K13: =IFERROR(VLOOKUP(J13, AF$3:AG$9,2,FALSE),"N/A") -> N/A
A14: 1.3.4. | B14: Governance and Capabilities | C14: Technical Capabilities | D14: (1.3.4.) Technical capabilities: metadata | E14: Lack of metadata prevents effective appraisal and selection | F14: Limited metadata enables appraisal and selection, but some corruption has occurred | G14: Some metadata enables appraisal and selection, and any corruption issues have been identified | H14: Good metadata enables appraisal and selection, and any corruption issues have been corrected or overcome | I14: Metadata is complete and uncorrupted, allowing it to be fully exploited for appraisal and selection | K14: =IFERROR(VLOOKUP(J14, AF$3:AG$9,2,FALSE),"N/A") -> N/A
A15: 1.3.5 | B15: Governance and Capabilities | C15: Technical Capabilities | D15: (1.3.5.) Technical capabilities: data analysis | E15: No capability to perform data analysis of records | F15: Some capability to perform analysis of document metadata | G15: Some capability to perform analysis of record content and metadata to enhance knowledge of collections | H15: Systematic analysis of content and metadata for insight to enhance knowledge and aid decision making | I15: Analysis of content and metadata integrated into record management workflows | K15: =IFERROR(VLOOKUP(J15, AF$3:AG$9,2,FALSE),"N/A") -> N/A
A16: 1.3.6 | B16: Governance and Capabilities | C16: Technical Capabilities | D16: (1.3.6.) Technical capabilities: dashboard capability | E16: No dashboard capability is in place to appraise and select records | F16: There has been limited use of dashboard capability | G16: Dashboard capability is sometimes deployed to assist appraisal and selection | H16: Dashboard capability is deployed often to assist appraisal and selection | I16: Dashboard capability is always deployed to assist appraisal and selection and this is done as part of a regular cycle of activity | K16: =IFERROR(VLOOKUP(J16, AF$3:AG$9,2,FALSE),"N/A") -> N/A
A17: 1.3.7 | B17: Governance and Capabilities | C17: Technical Capabilities | D17: (1.3.7.) Technical capabilities: understanding of Artificial Intelligence (AI) | E17: No understanding of AI and other data driven approaches, or its potential in records management | F17: Some understanding of potential of AI and other data driven approaches, but not underlying concepts | G17: Good understanding of potential of AI and other data driven approaches, and some of the underlying concepts | H17: Good understanding of different types of AI and other data driven approaches, and how they can be applied to appraisal and selection tasks | I17: Strong enough understanding of AI and other data driven approaches to architect or design records management workflow incorporating AI appropriately | K17: =IFERROR(VLOOKUP(J17, AF$3:AG$9,2,FALSE),"N/A") -> N/A
A18: 1.3.8 | B18: Governance and Capabilities | C18: Technical Capabilities | D18: (1.3.8.) Technical capabilities: use of AI | E18: No use of AI and other data driven approaches | F18: Use of tools with AI enabled functionality and other data driven approaches | G18: Use of AI based services and other data driven approaches to perform individual tasks | H18: Use of self-managed AI based tools and other data driven approaches to perform individual tasks | I18: AI tools and other data driven approaches are integrated into workflow and processes, with quality monitored by human oversight | K18: =IFERROR(VLOOKUP(J18, AF$3:AG$9,2,FALSE),"N/A") -> N/A | L18: =SUM(K11:K18) -> 0 | M18: {=SUM(5*(K11:K18<>"N/A"))} -> 0
A19: 1.4.1 | B19: Governance and Capabilities | C19: Capacity | D19: (1.4.1.) Capacity: budget | E19: No dedicated budget for appraisal and selection activities | F19: Building business case and a plan for budget and resources | G19: Budget is allocated and planning for appraisal and selection resources is in place | H19: Resources are allocated, and there is investment in appraisal and selection infrastructure | I19: Strategic budgeting and resourcing for appraisal and selection is secure and ongoing | K19: =IFERROR(VLOOKUP(J19, AF$3:AG$9,2,FALSE),"N/A") -> N/A
A20: 1.4.2 | B20: Governance and Capabilities | C20: Capacity | D20: (1.4.2.) Capacity: senior management engagement on budget and resource needs | E20: No communication with senior management about unique requirements and strategic planning needed for digital appraisal and selection | F20: Communication with senior management has begun, although there is little appreciation of the strategic requirements for appraisal and selection | G20: Senior management are aware of the strategic requirements for digital appraisal and selection | H20: Senior management understand and endorse strategic requirements for digital appraisal and selection, although funding constraints limit full support | I20: Senior managers fully approve and support the requirements of a funded digital appraisal and selection programme | K20: =IFERROR(VLOOKUP(J20, AF$3:AG$9,2,FALSE),"N/A") -> N/A
A21: 1.4.3 | B21: Governance and Capabilities | C21: Capacity | D21: (1.4.3.) Capacity: level of activity | E21: No records are appraised on time. The Public Records Act 20 year rule is not being met | F21: Less than 50% of records are appraised on time. The Public Records Act 20 year rule is a long way from being met. | G21: Between 50% and 75% of records are appraised on time. The Public Records Act 20 year rule is partially met. | H21: More than 75% of records are appraised on time. The Public Records Act 20 year rule close to being met. | I21: All records are appraised on time. The Public Records Act 20 year rule is being fully met. Some records may be transferred early | K21: =IFERROR(VLOOKUP(J21, AF$3:AG$9,2,FALSE),"N/A") -> N/A
A22: 1.4.4 | B22: Governance and Capabilities | C22: Capacity | D22: (1.4.4.) Capacity: problem solving | E22: Where resourcing and funding cannot be obtained, there has been no problem solving or planning for the best appraisal and selection delivery with the tools and resources at your disposal | F22: Where funding or resource has been requested but is not available, limited risk assessment and problem solving has taken place, with little use of the tools and resources at your disposal | G22: Where funding or resource has been requested but is not available, some risk assessment and problem solving has taken place, and some use of the tools and resources at your disposal | H22: Where funding or resource has been requested but is not available, risk assessment and problem solving has taken place. Tools and resources at your disposal are in use, but because they are limited, it results in a less than good digital appraisal and selection solution | I22: Where funding or resource has been requested but is not available, full risk assessment and problem solving activity is complete and the best possible digital appraisal and selection solution enacted | K22: =IFERROR(VLOOKUP(J22, AF$3:AG$9,2,FALSE),"N/A") -> N/A | L22: =SUM(K19:K22) -> 0 | M22: {=SUM(5*(K19:K22<>"N/A"))} -> 0
A23: 2.1.1 | B23: Methodology | C23: Methodology | D23: (2.1.1.) Methodology | E23: No High Level Appraisal Methodology (HLAM) exists | F23: A HLAM does not exist, but supporting information asset registers and retention schedules are in place to help monitor information risk | G23: A HLAM is in draft | H23: A HLAM is shared and widely used internally, but is not signed off at board level or published | I23: A current HLAM has been signed off at board level and published on your department’s website, reviewed and updated annually | K23: =IFERROR(VLOOKUP(J23, AF$3:AG$9,2,FALSE),"N/A") -> N/A | L23: =SUM(K23:K23) -> 0 | M23: {=SUM(5*(K23:K23<>"N/A"))} -> 0
A24: 2.1.2 | B24: Methodology | C24: Policy | D24: (2.1.2.) Policy | E24: No Departmental selection policy exists | F24: A selection policy is in draft | G24: A selection policy is finalised, but is not shared or consistently used | H24: A selection policy exists, is understood and in regular use, but is not published internally | I24: An approved selection policy (which may reference record sensitivity) is published internally and regularly reviewed | K24: =IFERROR(VLOOKUP(J24, AF$3:AG$9,2,FALSE),"N/A") -> N/A | L24: =SUM(K24:K24) -> 0 | M24: {=SUM(5*(K24:K24<>"N/A"))} -> 0
A25: 2.1.3 | B25: Methodology | C25: Levels of review | D25: (2.1.3.) Levels of review | E25: Decisions on groups or categories of information at the highest level cannot be made | F25: Some groups or categories of information are understood, but decisions are often made at too low a level | G25: Many groups or categories of information are understood, but some decisions are still made at too low a level | H25: Most groups or categories of information are understood and most decisions are made at the highest level | I25: Decisions on groups or categories of information are made at the highest level. Departmental functions, business processes and history are fully understood | K25: =IFERROR(VLOOKUP(J25, AF$3:AG$9,2,FALSE),"N/A") -> N/A | L25: =SUM(K25:K25) -> 0 | M25: {=SUM(5*(K25:K25<>"N/A"))} -> 0
A26: 2.1.4 | B26: Methodology | C26: Value of records | D26: (2.1.4.) Value of records | E26: No assessment of value has been made on any records | F26: Limited assessment of value has been made | G26: Some value assessments have been made and recorded | H26: Most record groups and categories have had a value assessment and this is systematically recorded | I26: All records have been assessed for value, including those of primary and secondary value. Also those required to be kept by law, with ongoing business value or re-use value | K26: =IFERROR(VLOOKUP(J26, AF$3:AG$9,2,FALSE),"N/A") -> N/A | L26: =SUM(K26:K26) -> 0 | M26: {=SUM(5*(K26:K26<>"N/A"))} -> 0
A27: 2.2.1 | B27: Methodology | C27: Appraisal & Selection | D27: (2.2.1.) Appraisal & Selection: staged appraisal | E27: No staged appraisal of records is made, for instance, at five years (for ongoing business value and potential archival value) and later (for archival value) | F27: Limited staged appraisal of records is made at five years (or a defined period, such as those set using retention rules) | G27: Some staged appraisal of records is made at five years (or a defined period, such as those set using retention rules) | H27: Widespread staged appraisal of records is made at five years (or a defined period, such as those set using retention rules) | I27: Records are fully appraised at five years, for instance (for ongoing business value and potential archival value), and at a later stage (for archival value) | K27: =IFERROR(VLOOKUP(J27, AF$3:AG$9,2,FALSE),"N/A") -> N/A
A28: 2.2.2 | B28: Methodology | C28: Appraisal & Selection | D28: (2.2.2.) Appraisal and selection - Making decisions at an appropriate level | E28: No thinking has been made as to the level of aggregation at which appraisal decisions will be made | F28: Some thinking has begun as to the level of aggregation at which appraisal decisions will be made, but no decisions have been made | G28: The organisation has decided on the level of aggregation at which appraisal decisions will be made | H28: The organisation has experience at making appraisal decisions at a relatively high level of aggregation (for example at site, account, drive, or folder level) | I28: The organisation has experience at making appraisal decisions at a relatively high level of aggregation (for example at site, account, drive, or folder level) | K28: =IFERROR(VLOOKUP(J28, AF$3:AG$9,2,FALSE),"N/A") -> N/A
A29: 2.2.3 | B29: Methodology | C29: Appraisal & Selection | D29: (2.2.3.) Appraisal & Selection: other appraisal | E29: No datasets, algorithms, decision support tools or software are appraised and selected (where these are held) | F29: Datasets, algorithms, decision support tools or software are identified, but not considered for appraisal and selection (where these are held) | G29: Datasets, algorithms, decision support tools or software are identified, and a limited number are appraised and selected | H29: All datasets, algorithms, decision support tools or software are identified and more than 50% are appraised and selected within time limits | I29: All datasets, algorithms, decision support tools or software are identified, appraised and selected within time limits | K29: =IFERROR(VLOOKUP(J29, AF$3:AG$9,2,FALSE),"N/A") -> N/A
A30: 2.2.7 | B30: Methodology | C30: Cataloguing | D30: (2.2.4.) Cataloguing | E30: No records selected for permanent preservation are catalogued | F30: A small number of selected records are catalogued in a rudimentary manner | G30: Some selected records are catalogued using methods advised by TNA | H30: Most selected records are catalogued in accordance with TNA requirements | I30: All records selected for permanent preservation are fully catalogued in accordance with TNA requirements | K30: =IFERROR(VLOOKUP(J30, AF$3:AG$9,2,FALSE),"N/A") -> N/A | L30: =SUM(K30:K30) -> 0 | M30: {=SUM(5*(K30:K30<>"N/A"))} -> 0
A31: 2.2.8 | B31: Methodology | C31: Assurance | D31: (2.2.5.) Assurance | E31: No Quality Assurance process of appraisal and selection is in place | F31: QA processes are documented, but not in regular and consistent use | G31: QA processes are documented and used sometimes | H31: QA processes are documented and used most of the time | I31: Full QA processes are documented, enacted and used continuously | K31: =IFERROR(VLOOKUP(J31, AF$3:AG$9,2,FALSE),"N/A") -> N/A | L31: =SUM(K31:K31) -> 0 | M31: {=SUM(5*(K31:K31<>"N/A"))} -> 0
A32: 3.1.1 | B32: Engagement | C32: Context and value | D32: (3.1.1.) Context and value: internal | E32: Context and value of records is not understood because there is no engagement internally (for example with (a) other members of the KIM team, (b) departmental historians and legal experts, (c) IT, data and information assurance teams, and (d) subject matter experts) | F32: Context and value of records is only partially understood because there is only ad hoc engagement with these stakeholder groups | G32: Context and value of records is somewhat understood; engagement with these stakeholder groups needs to improve further | H32: Context and value of records is well understood because there is regular engagement with most of these stakeholder groups | I32: Context and value of records is fully understood because there is regular engagement with all these stakeholder groups | K32: =IFERROR(VLOOKUP(J32, AF$3:AG$9,2,FALSE),"N/A") -> N/A
A33: 3.1.2 | B33: Engagement | C33: Context and value | D33: (3.1.2.) Context and value: external | E33: Context and value of records is not understood because there is no engagement externally with other public records bodies and you do not know who your external stakeholders are | F33: Context and value of records is only partially understood because there is only ad hoc engagement with these external stakeholder groups | G33: Context and value of records is somewhat understood; engagement with these external stakeholder groups needs to improve further | H33: Context and value of records is well understood because there is regular engagement with most of these external stakeholder groups | I33: Context and value of records is fully understood because there is regular engagement with all these external stakeholder groups | K33: =IFERROR(VLOOKUP(J33, AF$3:AG$9,2,FALSE),"N/A") -> N/A | L33: =SUM(K32:K33) -> 0 | M33: {=SUM(5*(K32:K33<>"N/A"))} -> 0
A34: 3.1.3 | B34: Engagement | C34: GKIM and TNA | D34: (3.1.3.) GKIM and TNA | E34: No engagement with stakeholders within the GKIM community (including The National Archives) on digital appraisal and selection to improve capability | F34: Initial engagement with GKIM stakeholders on digital appraisal and selection review | G34: Ongoing stakeholder engagement with GKIM stakeholders | H34: Strong GKIM stakeholder engagement with a culture of safe sharing on digital appraisal and selection capability. | I34: Proactive GKIM stakeholder engagement, resulting in continuously improving shared capability for appraisal and selection | K34: =IFERROR(VLOOKUP(J34, AF$3:AG$9,2,FALSE),"N/A") -> N/A | L34: =SUM(K34:K34) -> 0 | M34: {=SUM(5*(K34:K34<>"N/A"))} -> 0
A35: 4.1.1 | B35: Transparency and Accountability | C35: Transparency and Accountability | D35: (4.1.1.) Transparency and Accountability | E35: No documentation of digital appraisal and selection activities | F35: Initial documentation of appraisal and selection activities has occurred, with some internal consultation | G35: Documentation of appraisal and selection activities is visible internally and easy to understand | H35: Documentation of appraisal and selection activities is easy to understand, consulted upon and published externally. | I35: There is full digital appraisal and selection documentation, published externally, with transparent reporting on activities and progress against goals | K35: =IFERROR(VLOOKUP(J35, AF$3:AG$9,2,FALSE),"N/A") -> N/A | L35: =SUM(K35:K35) -> 0 | M35: {=SUM(5*(K35:K35<>"N/A"))} -> 0
I39: Score Boundaries | N39: Theme | O39: Section | P39: Section Score (Number) | V39: Section Score (Percentage) | X39: Overall Theme Scores | Z39: Overall Selection Score
I40: Level 1 - Beginner | J40: 20%-39% | N40: Governance and Capabilities | O40: Governance | P40: =SUM(K3:K7) -> 0 | V40: =IF(M7>0,(L7/M7),"N/A") -> N/A | X40: =SUMIF($B$3:$B$35,N40,$L$3:$L$35)/SUMIF($B$3:$B$35,N40,$M$3:$M$35) -> #DIV/0! | Z40: =SUM(K3:K35)/SUM(M3:M35) -> #DIV/0!
I41: Level 2 - Emerging | J41: 40%-59% | O41: Skills | P41: =SUM(K8:K10) -> 0 | V41: =IF(M10>0,(L10/M10),"N/A") -> N/A
I42: Level 3 - Learning | J42: 60%-79% | O42: Technical Capabilities | P42: =SUM(K11:K18) -> 0 | V42: =IF(M18>0,(L18/M18),"N/A") -> N/A
I43: Level 4 - Developing | J43: 80%-99% | O43: Capacity | P43: =SUM(K19:K22) -> 0 | V43: =IF(M22>0,(L22/M22),"N/A") -> N/A
...

Sheet Sheet2
A1: Next Year
A3: Selection
A5: ID | B5: Theme | C5: Category | D5: Current Level | E5: Column-match | F5: Current description | H5: Next Level | I5: Next Level description
A6: {=_xlfn._xlws.FILTER('3. Selection'!A3:A35,'3. Selection'!O3:O35="NY")} -> #VALUE! | B6: {=INDEX('3. Selection'!B$3:B$35,MATCH(_xlfn.ANCHORARRAY(Sheet2!$A6),'3. Selection'!$A$3:$A$35,0))} -> #VALUE! | C6: {=INDEX('3. Selection'!D$3:D$35,MATCH(_xlfn.ANCHORARRAY(Sheet2!$A6),'3. Selection'!$A$3:$A$35,0))} -> #VALUE! | D6: {=INDEX('3. Selection'!J$3:J$35,MATCH(_xlfn.ANCHORARRAY(Sheet2!$A6),'3. Selection'!$A$3:$A$35,0))} -> #VALUE! | E6: {=MATCH(_xlfn.ANCHORARRAY(D6),'3. Selection'!$E$2:$I$2,0)} -> #VALUE! | F6: {=INDEX('3. Selection'!$E$3:$I$15,MATCH(_xlfn.ANCHORARRAY(Sheet2!$A6),'3. Selection'!$A$3:$A$35,0),Sheet2!$E6)} -> #VALUE! | G6: ➜ | H6: {=IF(_xlfn.ANCHORARRAY(Sheet2!E6)=5,_xlfn.ANCHORARRAY(D6),INDEX('3. Selection'!$E$2:$I$2,_xlfn.ANCHORARRAY(Sheet2!E6)+1))} -> #VALUE! | I6: {=INDEX('3. Selection'!$E$3:$I$15,MATCH(_xlfn.ANCHORARRAY(Sheet2!$A6),'3. Selection'!$A$3:$A$35,0),Sheet2!$E6+1)} -> #VALUE!
G7: ➜
G8: ➜
G9: ➜
G10: ➜
G11: ➜

Sheet LIsts
A1: No Action
A2: Next Year
A3: Next Two Years
A4: Long Term
F5: Level 1 - Beginner | G5: Level 2 - Emerging
F6: Level 2 - Emerging | G6: Level 3 - Learning
F7: Level 3 - Learning | G7: Level 4 - Developing
F8: Level 4 - Developing | G8: Level 5 - Mastering
F9: Level 5 - Mastering | G9: Level 5 - Mastering
F10: N/A | G10: N/A

Sheet 4. Sensitivity
D1: Questions | E1: Model Answers | J1: Scores - please complete all sections to see your scores
A2: ID | B2: Theme | C2: Section | D2: Category | E2: Level 1 - Beginner | F2: Level 2 - Emerging | G2: Level 3 - Learning | H2: Level 4 - Developing | I2: Level 5 - Mastering | J2: Answer Please Select in Drop-Down) | K2: Score | L2: Your score per Section | M2: Total possible per Section | N2: Your notes and comments | AD2: Improvement timescale | AE2: We will take the following action(s)… | AF2: The person(s) responsible will be…
A3: 1.1.1 | B3: Governance and Capabilities | C3: Governance | D3: (1.1.1.) Governance: oversight, policies and methodologies in place and in use | E3: No formal oversight, governance, or processes for digital Sensitivity review, and no senior leadership recognition of the challenge | F3: Recognition of the challenge but no senior support yet, no plans, policies or methodologies in place and no plan of action to gain understanding shared with the TNA | G3: Some policies, plans or methodologies are developed but not yet implemented, and senior engagement is limited | H3: Policies, plans and methodologies are in use to conduct digital sensitivity review, but difficulties experienced in implementation. Senior engagement is improving | I3: Mature governance in place, which is continually reviewed, improved upon and applied consistently over a number of years. Senior leaders are engaged continuously | K3: =IFERROR(VLOOKUP(J3, AM$3:AN$9,2,FALSE),"N/A") -> N/A | AM3: Level 1 - Beginner | AN3: 1
A4: 1.1.2 | B4: Governance and Capabilities | C4: Governance | D4: (1.1.2.) Governance: roles and responsibilities | E4: Responsibility for digital sensitivity review is unclear and activities are ad hoc or not happening | F4: Some role holders exist and limited sensitivity review activities are happening | G4: Records team and other role holders are established and sensitivity review activities are underway | H4: Records team and other role holders are in place and responsibilities are defined. Sensitivity review activities are established and being carried out | I4: Responsibilities clear, all roles are established and sensitivity review activities are carried out routinely and regularly | K4: =IFERROR(VLOOKUP(J4, AM$3:AN$9,2,FALSE),"N/A") -> N/A | AM4: Level 2 - Emerging | AN4: 2
A5: 1.1.3 | B5: Governance and Capabilities | C5: Governance | D5: (1.1.3.) Governance: risk | E5: No recognition of risks and harm associated with not carrying out sensitivity reviews, nor the impacts on information rights requirements | F5: Sensitivity review risks are recorded, but at a low level in the organisation | G5: Sensitivity review risks are recorded and escalated to a level capable of making budget decisions, but no mitigations are agreed or continuously under review | H5: Sensitivity review risks are understood and mitigated to a degree at a level capable of making budget decisions, and are kept up to date | I5: Sensitivity review risks are fully recognised, at a level that can make decisions on budget, and fully mitigated. Policies and procedures are kept up to date | K5: =IFERROR(VLOOKUP(J5, AM$3:AN$9,2,FALSE),"N/A") -> N/A | AM5: Level 3 - Learning | AN5: 3
A6: 1.1.4 | B6: Governance and Capabilities | C6: Governance | D6: (1.1.4.) Governance: risk appetite for published material | E6: The risk appetite for published material is not understood | F6: The risk appetite for published material is only partially understood or assumed | G6: The risk appetite for published material is recognised | H6: The risk appetite for published material is understood and agreed | I6: The risk appetite for published material is fully understood and agreed, and continuously reviewed | K6: =IFERROR(VLOOKUP(J6, AM$3:AN$9,2,FALSE),"N/A") -> N/A | L6: =SUM(K3:K6) -> 0 | M6: {=SUM(5*(K3:K6<>"N/A"))} -> 0 | AM6: Level 4 - Developing | AN6: 4
A7: 1.2.1 | B7: Governance and Capabilities | C7: Skills | D7: (1.2.1.) Skills: to carry out sensitivity reviews | E7: Lack of ability to carry out sensitivity reviews and redaction in digital records | F7: Building and defining the skills required for digital record sensitivity review | G7: Developing skills for digital record sensitivity reviews | H7: Skilled resources for digital record sensitivity reviews in place and under continuous improvement | I7: Expert skills for digital record sensitivity reviews are established. Good understanding of the content and types of sensitivities of Departmental records to be transferred to TNA | K7: =IFERROR(VLOOKUP(J7, AM$3:AN$9,2,FALSE),"N/A") -> N/A | AM7: Level 5 - Mastering | AN7: 5
A8: 1.2.2 | B8: Governance and Capabilities | C8: Skills | D8: (1.2.2.) Skills: understanding of legislation | E8: No understanding of Freedom of Information (FOIA) exemptions or Environmental Information Regulations (EIR) exceptions, nor section 3(4) of the Public Records Act | F8: Some awareness of FOIA and EIR exemptions and section 3(4) of the PRA | G8: Improving understanding of FOIA and EIR exemptions and section 3(4) of the PRA and how they apply to Departmental records | H8: Good knowledge of FOIA and EIR exemptions and section 3(4) of the PRA | I8: Expert knowledge of FOIA and EIR exemptions and section 3(4) of the PRA and how they apply to Departmental records | K8: =IFERROR(VLOOKUP(J8, AM$3:AN$9,2,FALSE),"N/A") -> N/A | AM8: Unknown | AN8: 1
A9: 1.2.3 | B9: Governance and Capabilities | C9: Skills | D9: (1.2.3.) Skills: knowledge transfer | E9: No knowledge transfer within the records review team, nor subject matter expertise (applicable to sensitivities within Departmental records and the information rights landscape) | F9: Knowledge transfer in the records team is ad hoc and subject matter expertise is not embedded | G9: Knowledge transfer in the records team happens, although not systematically. Subject matter expertise is maintained to a degree. Processes are in place but not always followed | H9: Knowledge transfer in the records team is systematic and a process is in place to maintain subject matter expertise to achieve consistency | I9: Proactive and regular knowledge transfer. Subject matter expertise, knowledge and access is up to date, and reflective of Departmental functions for sensitivity review consistency | K9: =IFERROR(VLOOKUP(J9, AM$3:AN$9,2,FALSE),"N/A") -> N/A | L9: =SUM(K7:K9) -> 0 | M9: {=SUM(5*(K7:K9<>"N/A"))} -> 0 | AM9: N/A | AN9: N/A
A10: 1.3.1 | B10: Governance and Capabilities | C10: Technical capabilities | D10: (1.3.1.) Technical capabilities: access to records | E10: Sensitivity review work is hampered by an inability to access sensitive records content and understand their context | F10: Access to a few sensitive records is gained, although there are significant technical constraints to access content and understand context | G10: Access to some sensitive records is gained, with some technical support and records team techniques enabling access and an understanding of context | H10: Most sensitive record content and context can be accessed, with readily available technical support and proven records team techniques. | I10: All sensitive record content and context can be accessed by the review team, as permissions and password issues have been overcome | K10: =IFERROR(VLOOKUP(J10, AM$3:AN$9,2,FALSE),"N/A") -> N/A
A11: 1.3.2 | B11: Governance and Capabilities | C11: Technical capabilities | D11: (1.3.2.) Technical capabilities: redaction tools | E11: No redaction tools are available to use | F11: Simple manual redaction tools (such as Adobe) are accessible and in use | G11: Semi-automated redaction tooling is used and there are ad hoc processes to keep these tools up to date | H11: Redaction tooling is in place which means that over half of redaction processes are automated | I11: Routine 'smart' redaction tooling is in place, which removes most manual intervention. Processes are in place to continuously update and improve | K11: =IFERROR(VLOOKUP(J11, AM$3:AN$9,2,FALSE),"N/A") -> N/A
A12: 1.3.3 | B12: Governance and Capabilities | C12: Technical capabilities | D12: (1.3.3.) Technical capabilities: automation and workflows | E12: No automated tools are available to flag potential sensitivities in content | F12: Some automation or workflow management tools in use | G12: Moderate use of tools or automated processes | H12: Tools used within workflow and some flow of data between tools | I12: Fully integrated workflows to flag sensitive content, combining automation and user interfaces | K12: =IFERROR(VLOOKUP(J12, AM$3:AN$9,2,FALSE),"N/A") -> N/A
A13: 1.3.4 | B13: Governance and Capabilities | C13: Technical capabilities | D13: (1.3.4.) Technical capabilities: data analysis | E13: No capability to perform data analysis of records | F13: Some capability to perform analysis of document metadata | G13: Some capability to perform analysis of record content and metadata to enhance knowledge of a collection | H13: Systematic analysis of content and metadata for insight to enhance knowledge and aid decision making | I13: Analysis of content and metadata integrated into record management workflows. Processes are in place to continuously update and improve | K13: =IFERROR(VLOOKUP(J13, AM$3:AN$9,2,FALSE),"N/A") -> N/A
A14: 1.3.5 | B14: Governance and Capabilities | C14: Technical capabilities | D14: (1.3.5.) Technical capabilities: understanding of Artificial Intelligence (AI) | E14: No understanding of AI or its potential in records management. No senior management buy in | F14: Some understanding of potential of AI, but not underlying concepts, in terms of capability and impacts on records management | G14: Good understanding of potential of AI, and some of the underlying concepts | H14: Good understanding of different types of AI and how they can be applied to particular tasks to support records management | I14: Strong enough understanding of AI to architect or design records management workflow incorporating AI appropriately. Knowledge is up to date and regularly reviewed | K14: =IFERROR(VLOOKUP(J14, AM$3:AN$9,2,FALSE),"N/A") -> N/A
A15: 1.3.6 | B15: Governance and Capabilities | C15: Technical capabilities | D15: (1.3.6.) Technical capabilities: use of AI | E15: No use of AI or other data driven approaches to flag multiple sensitivities in records for review | F15: Plans are in place to pilot AI to flag multiple sensitivities in records | G15: Pilots have been conducted to use AI to flag multiple sensitivities in records | H15: AI is being used effectively to flag multiple sensitivities in records with appropriate human-in-the-loop controls and processes | I15: Mature experience of using effective AI and other data driven approaches to flag multiple sensitivities in records, with appropriate human-in-the-loop controls over a number of years of transfers | K15: =IFERROR(VLOOKUP(J15, AM$3:AN$9,2,FALSE),"N/A") -> N/A | L15: =SUM(K10:K15) -> 0 | M15: {=SUM(5*(K10:K15<>"N/A"))} -> 0
A16: 1.4.1 | B16: Governance and Capabilities | C16: Capacity | D16: (1.4.1.) Capacity: budget | E16: No dedicated budget and no engagement with senior management on budget requirements | F16: Building business case and plan for budget and resources | G16: Budget is allocated and planning in place for sensitivity review resources | H16: Resources are allocated. There is investment in sensitivity review infrastructure and an acknowledgement of the need for continuous improvement | I16: Strategic budgeting and resourcing for sensitivity review is secure and ongoing | K16: =IFERROR(VLOOKUP(J16, AM$3:AN$9,2,FALSE),"N/A") -> N/A
A17: 1.4.2 | B17: Governance and Capabilities | C17: Capacity | D17: (1.4.2.) Capacity: senior management engagement on budget and resource needs | E17: No communication with senior management about the unique requirements and strategic planning needed for digital record sensitivity review. No understanding of statutory responsibilities | F17: Communication with senior management has begun, although there is little appreciation of the strategic requirements for digital sensitivity review. Risk to information rights and Public Records Act compliance is not appreciated | G17: Senior management are aware of the strategic requirements for digital sensitivity review | H17: Senior management understand and endorse strategic requirements for digital sensitivity review, although funding constraints limit full support | I17: Senior managers fully approve and support the requirements of a funded digital sensitivity review programme, with continuous review in place | K17: =IFERROR(VLOOKUP(J17, AM$3:AN$9,2,FALSE),"N/A") -> N/A
A18: 1.4.3 | B18: Governance and Capabilities | C18: Capacity | D18: (1.4.3.) Capacity: level of activity | E18: No resource exists to carry out any digital sensitivity review work | F18: Very limited resource is available to carry out digital sensitivity review work | G18: Some dedicated resource is allocated to digital sensitivity review, but it falls short of enabling the organisation to run to schedule and achieve statutory compliance | H18: Digital sensitivity review work is well resourced and is on schedule or only a year or two behind schedule | I18: Sensitivity review work is fully resourced and running to schedule or ahead of schedule | K18: =IFERROR(VLOOKUP(J18, AM$3:AN$9,2,FALSE),"N/A") -> N/A
A19: 1.4.4 | B19: Governance and Capabilities | C19: Capacity | D19: (1.4.4.) Capacity: problem solving | E19: Where insufficient resourcing and funding cannot be obtained, there has been no problem solving or planning for the best sensitivity review delivery in the circumstances. No engagement with TNA to assist with problem solving | F19: Where funding or resource has been requested but is not available, limited risk assessment and problem solving has taken place, with no sensitivity review options to consider | G19: Where funding or resource has been requested but is not available, some risk assessment and problem solving has taken place, resulting in sensitivity review solutions to be considered | H19: Where funding or resource has been requested but is not available, risk assessment and problem solving has resulted in a less than good digital sensitivity review solution | I19: Where funding or resource has been requested but is not available, full risk assessment and problem solving activity is complete and the best possible digital sensitivity review solution enacted | K19: =IFERROR(VLOOKUP(J19, AM$3:AN$9,2,FALSE),"N/A") -> N/A | L19: =SUM(K16:K19) -> 0 | M19: {=SUM(5*(K16:K19<>"N/A"))} -> 0
A20: 2.1.1 | B20: Methodology | C20: Methodology | D20: (2.1.1.) Methodology | E20: No defined methodology for digital record sensitivity reviews exists | F20: Developing a methodology for digital record sensitivity reviews. Attempts to retrofit paper-based approaches onto digital records | G20: Refining methodology, which is shared and used by sensitivity reviewers | H20: A mature methodology exists, which is published internally and is adhered to by sensitivity reviewers | I20: A robust, scalable methodology exists, which is reviewed annually. It is continuously in use and improved upon by sensitivity reviewers | K20: =IFERROR(VLOOKUP(J20, AM$3:AN$9,2,FALSE),"N/A") -> N/A | L20: =SUM(K20:K20) -> 0 | M20: {=SUM(5*(K20:K20<>"N/A"))} -> 0
A21: 2.1.2 | B21: Methodology | C21: Sensitivity review carried out | D21: (2.1.2.) Sensitivity review carried out | E21: No records are reviewed for sensitivity, and no open or closed status applied in relation to FOI, EIR and PRA exemptions and regulations | F21: Up to 25% of records requiring sensitivity review are carried out and ascribed as open or closed in accordance with FOI, EIR and PRA exemptions and regulations | G21: Up to 50% of records requiring sensitivity review are carried out and ascribed as open or closed in accordance with FOI, EIR and PRA exemptions and regulations | H21: Up to 75% of records requiring sensitivity review are carried out and ascribed as open or closed in accordance with FOI, EIR and PRA exemptions and regulations | I21: All records requiring sensitivity review are carried out and all are ascribed as open or closed in accordance with FOI, EIR and PRA exemptions and regulations | K21: =IFERROR(VLOOKUP(J21, AM$3:AN$9,2,FALSE),"N/A") -> N/A | L21: =SUM(K21:K21) -> 0 | M21: {=SUM(5*(K21:K21<>"N/A"))} -> 0
A22: 2.1.3 | B22: Methodology | C22: Classification | D22: (2.1.3.) Classification | E22: There is no adoption of the Government Security Classifications Policy (GSCP) across the Information Management (IM) environment and no plans to do so. No classification or re-classification of records is carried out as part of the sensitivity review process | F22: Has plans to adopt the GSCP but has not done so yet. Limited classification or re-classification of records is carried out as part of the sensitivity review process, but without reference to the GSCP and information rights legislation | G22: Adopts the GSCP in some areas (for instance, email and case management systems) but not everywhere. Some classification or re-classification of records is carried out as part of the sensitivity review process, with reference to the GSCP and information rights legislation | H22: Adopts the GSCP across the main IM environment (M365 or Google). Classification or re-classification of most records is carried out as part of the sensitivity review process, with reference to the GSCP and information rights legislation | I22: Adopts the GSCP across the whole IM environment. The classification and re-classification of all records for sensitivity review is fully considered, using the GSCP and information rights legislation | K22: =IFERROR(VLOOKUP(J22, AM$3:AN$9,2,FALSE),"N/A") -> N/A | L22: =SUM(K22:K22) -> 0 | M22: {=SUM(5*(K22:K22<>"N/A"))} -> 0
A23: 2.1.4 | B23: Methodology | C23: Redaction | D23: (2.1.4.) Redaction | E23: No redaction work is carried out when it is required | F23: Some ad hoc redaction is applied when it is required | G23: Redaction is regularly applied when it is required, following TNA redaction toolkit methods, although this is not defined in policy or guidance | H23: Redaction policy, guidance and processes are often applied and documented | I23: Redaction policy and guidance exists and is fully applied when it is required, with full documentation. There are regular reviews, with learning applied | K23: =IFERROR(VLOOKUP(J23, AM$3:AN$9,2,FALSE),"N/A") -> N/A | L23: =SUM(K23:K23) -> 0 | M23: {=SUM(5*(K23:K23<>"N/A"))} -> 0
A24: 2.1.5 | B24: Methodology | C24: Closure | D24: (2.1.5.) Closure | E24: There is no policy or methodology on how closure periods are applied | F24: There is no policy or methodology on how closure periods are applied, but some common knowledge is practiced | G24: Closure periods are applied for regularly, although policy and / or guidance is not in place. | H24: Closure periods are referenced in internal policy and / or guidance, so some consistency is applied | I24: Sensitivity review policy and / or guidance exists with closure periods fully explained. There are regular reviews, with learning applied | K24: =IFERROR(VLOOKUP(J24, AM$3:AN$9,2,FALSE),"N/A") -> N/A | L24: =SUM(K24:K24) -> 0 | M24: {=SUM(5*(K24:K24<>"N/A"))} -> 0
A25: 2.1.6 | B25: Methodology | C25: Retention and closure applications | D25: (2.1.6.) Retention and closure applications | E25: No applications for retention or closure are made to the Advisory Council on National Records and Archives (ACNRA), and therefore non-compliance with the PRA is not highlighted | F25: Applications for retention and closure to the ACNRA are not consistent and learning from responses is not acted upon | G25: Applications for retention and closure are sometimes made to the ACNRA and their responses acted upon | H25: Applications for retention and closure are often made to the ACNRA and their responses acted upon | I25: Applications for retention and closure are regularly made to the ACNRA and their response complied with in full | K25: =IFERROR(VLOOKUP(J25, AM$3:AN$9,2,FALSE),"N/A") -> N/A | L25: =SUM(K25:K25) -> 0 | M25: {=SUM(5*(K25:K25<>"N/A"))} -> 0
A26: 2.1.7 | B26: Methodology | C26: Record of the extent of retained records | D26: (2.1.7.) Record of the extent of retained records | E26: Where over 20 year old records are retained, there is no register of the extent of the records and reason for retention. Also, no record of known information rights risks relating to the retained records | F26: Where over 20 year old records are retained, there is some knowledge of the extent of the records and reason for retention, but this is not written down | G26: Where over 20 year old records are retained, there is a partial register of the extent of the records and reason for retention. Retention instruments are filed | H26: Where over 20 year old records are retained, there is a register of most of the records and the reason for retention. Retention instruments are retained and reviewed | I26: Where over 20 year old records are retained, there is a full register of the extent of the records and reason for retention. Retention instruments are retained and regularly reviewed | K26: =IFERROR(VLOOKUP(J26, AM$3:AN$9,2,FALSE),"N/A") -> N/A | L26: =SUM(K26:K26) -> 0 | M26: {=SUM(5*(K26:K26<>"N/A"))} -> 0
A27: 2.1.8 | B27: Methodology | C27: Storage | D27: (2.1.8.) Storage | E27: No dedicated locations are identified to store retained digital records | F27: Dedicated storage locations are identified, but are not routinely used | G27: Dedicated storage locations are used for retained records, although digital files need to be organised better | H27: Dedicated storage locations are used and a methodical process exists for organising retained records | I27: An effective and efficient long term digital file store is in place and retained records are kept in good order | K27: =IFERROR(VLOOKUP(J27, AM$3:AN$9,2,FALSE),"N/A") -> N/A | L27: =SUM(K27:K27) -> 0 | M27: {=SUM(5*(K27:K27<>"N/A"))} -> 0
A28: 2.1.9 | B28: Methodology | C28: Assurance | D28: (2.1.9.) Assurance | E28: No Quality Assurance process of sensitivity review is in place, nor oversight of the use of exemptions | F28: QA processes are documented, but not in regular and consistent use, nor reviewed | G28: QA processes are documented and used sometimes | H28: QA processes are documented and proactively used most of the time | I28: Full QA processes are documented and always enacted, regularly reviewed and updated | K28: =IFERROR(VLOOKUP(J28, AM$3:AN$9,2,FALSE),"N/A") -> N/A | L28: =SUM(K28:K28) -> 0 | M28: {=SUM(5*(K28:K28<>"N/A"))} -> 0
A29: 3.1.1 | B29: Engagement | C29: Consultation on sensitivity internally | D29: (3.1.1.) Consultation on sensitivity internally | E29: No consultation occurs within the organisation where this is necessary as part of the sensitivity review process | F29: When it is necessary to do so, consultation still only occurs on occasion internally | G29: Consultation occurs internally and to some degree | H29: Consultation within the organisation is widespread if not complete | I29: All parts of the organisation are fully consulted when the sensitivity review process identifies a need | K29: =IFERROR(VLOOKUP(J29, AM$3:AN$9,2,FALSE),"N/A") -> N/A
A30: 3.1.2 | B30: Engagement | C30: Consultation on sensitivity externally | D30: (3.1.2.) Consultation on sensitivity externally | E30: No consultation occurs with other departments and external stakeholders where this is necessary as part of the sensitivity review process. The need to consult as part of the process is not recognised | F30: Limited consultation occurs with other departments and external stakeholders where this is necessary as part of the sensitivity review process | G30: Some consultation occurs with other departments and external stakeholders where this is necessary as part of the sensitivity review process | H30: Consultation with other departments and external stakeholders, where this is necessary as part of the sensitivity review process, is widespread if not complete | I30: Other departments and external stakeholders are fully consulted when the sensitivity review process identifies a need, and review guidance is regularly updated | K30: =IFERROR(VLOOKUP(J30, AM$3:AN$9,2,FALSE),"N/A") -> N/A | L30: =SUM(K29:K30) -> 0 | M30: {=SUM(5*(K29:K30<>"N/A"))} -> 0
A31: 3.1.3 | B31: Engagement | C31: Advisory Council | D31: (3.1.3.) Advisory Council | E31: No engagement with the Advisory Council on National Records and Archives (ACNRA) and no awareness of the need for oversight | F31: Contact with the ACNRA has been established, but is not regular or consistent | G31: Engagement with the ACNRA is irregular, but improving; resulting in many inconsistencies in applications and updates | H31: Engagement with the ACNRA is regular, with applications and updates clear and consistent and only occasional need for improvement | I31: Full and positive engagement with the ACNRA. Applications and updates are delivered on time and not challenged by the ACNRA. | K31: =IFERROR(VLOOKUP(J31, AM$3:AN$9,2,FALSE),"N/A") -> N/A | L31: =SUM(K31:K31) -> 0 | M31: {=SUM(5*(K31:K31<>"N/A"))} -> 0
A32: 3.1.4 | B32: Engagement | C32: GKIM and TNA | D32: (3.1.4.) GKIM and TNA | E32: No engagement with stakeholders within the GKIM community (including The National Archives) on digital sensitivity review to improve capability and shared understanding | F32: Initial engagement with GKIM stakeholders on digital record sensitivity review to share understanding | G32: Ongoing stakeholder engagement with GKIM stakeholders to clarify shared understanding | H32: Strong GKIM stakeholder engagement with a culture of safe sharing of improving knowledge and understanding of digital sensitivity review capability | I32: Proactive GKIM stakeholder engagement, resulting in continuously improving shared capability for sensitivity review and regular and robust review of practices | K32: =IFERROR(VLOOKUP(J32, AM$3:AN$9,2,FALSE),"N/A") -> N/A | L32: =SUM(K32:K32) -> 0 | M32: {=SUM(5*(K32:K32<>"N/A"))} -> 0
A33: 4.1.1 | B33: Transparency and Accountability | C33: Transparency and Accountability | D33: (4.1.1.) Transparency and Accountability | E33: No documentation of digital record sensitivity review activities, and no recognition of the need for this | F33: Initial documentation of sensitivity review activities has occurred, with some internal consultation | G33: Documentation of sensitivity review activities is visible internally and easy to understand and implement | H33: Documentation of sensitivity review activities is easy to understand, consulted upon and accessible through external publication | I33: There is full digital sensitivity review documentation, published externally, with transparent reporting on activities and progress against goals. These are regularly reviewed and updated. | K33: =IFERROR(VLOOKUP(J33, AM$3:AN$9,2,FALSE),"N/A") -> N/A | L33: =SUM(K33:K33) -> 0 | M33: {=SUM(5*(K33:K33<>"N/A"))} -> 0
I35: Score Boundaries | N35: Theme | AD35: Section | AE35: Section Score (Number) | AF35: Section Score (Percentage) | AH35: Overall Theme Scores | AJ35: Overall Sensitivity Score
I36: Level 1 - Beginner | J36: 20%-39% | N36: Governance and Capabilities | AD36: Governance | AE36: =SUM(K3:K6) -> 0 | AF36: =IF(M6>0,(L6/M6),"N/A") -> N/A | AH36: =SUMIF($B$3:$B$33,N36,$L$3:$L$33)/SUMIF($B$3:$B$33,N36,$M$3:$M$33) -> #DIV/0! | AJ36: =SUM(K3:K33)/SUM(M3:M33) -> #DIV/0!
I37: Level 2 - Emerging | J37: 40%-59% | AD37: Skills | AE37: =SUM(K7:K9) -> 0 | AF37: =IF(M9>0,(L9/M9),"N/A") -> N/A
I38: Level 3 - Learning | J38: 60%-79% | AD38: Technical Capabilities | AE38: =SUM(K10:K15) -> 0 | AF38: =IF(M15>0,(L15/M15),"N/A") -> N/A
I39: Level 4 - Developing | J39: 80%-99% | AD39: Capacity | AE39: =SUM(K16:K19) -> 0 | AF39: =IF(M19>0,(L19/M19),"N/A") -> N/A
I40: Level 5 - Mastering | J40: 1 | N40: Methodology | AD40: Methodology | AE40: =SUM(K20:K20) -> 0 | AF40: =IF(M20>0,(L20/M20),"N/A") -> N/A | AH40: =SUMIF($B$3:$B$33,N40,$L$3:$L$33)/SUMIF($B$3:$B$33,N40,$M$3:$M$33) -> #DIV/0!
AD41: Sensitivity Review Carried Out | AE41: =SUM(K21:K21) -> 0 | AF41: =IF(M21>0,(L21/M21),"N/A") -> N/A
...

Sheet Combined
A2: Tab | B2: Tab & ID | C2: ID | D2: Theme | E2: Section | F2: Category | G2: Level 1 - Beginner | H2: Level 2 - Emerging | I2: Level 3 - Learning | J2: Level 4 - Developing | K2: Level 5 - Mastering | L2: Answer Please Select in Drop-Down) | M2: Score | N2: Your score per Section | O2: Total possible per Section | P2: Your notes and comments | Q2: Improvement timescale | R2: We will take the following action(s)… | S2: 3 | T2: 4 | U2: 5 | V2: 6 | W2: 7 | X2: The person(s) responsible will be… | Y2: Include
