Workbook

Sheet Introduction
A1: Introduction
A2: As part of its Information Management Assessment offering, TNA has developed the M365 KIM Maturity Assessment Tool to help organisations subject to the Public Records Act evaluate the effectiveness of their information and records management practices within M365 environments. The tool is based on the M365 Information Governance Maturity Model, maintained by the Information and Records Management Society (IRMS) through an international working group of national archives and records management specialists. This group provides oversight by continuously reviewing emerging M365 features, determining when updates are required, and conducting benchmarking exercises with the wider records management community to ensure that best practice definitions reflect current consensus. These benchmarking exercises give the tool collective legitimacy, grounded in what multiple Information Governance experts consider best practice. However, it is important to note that alternative approaches may also meet KIM requirements within individual organisations. This version of the Assessment Tool represents the second iteration, built on the latest update of the M365 Information Governance Maturity Model. In addition to updated content, the tool now offers enhanced interactive functionality, including improved data visualisation and action planning features.
A3: M365 KIM Maturity Assessment Tool version 2.0
A4: Developed by The National Archives, UK
A5: Contact at ima@nationalarchives.gov.uk

Sheet Organisational Details
A1: Organisational Details
A2: Department
A3: Date
A4: Contact
A5: Role
A6: Review Date

Sheet Governance
A1: ID | B1: Theme | C1: Question | G1: Current concat | H1: Goal concat | J1: Current Practice (Select one) | K1: Improvement goal (Select one) | L1: Improvement timescale | M1: We will take the following action(s)… | N1: Comments | O1: No current | P1: Multiple Current | Q1: No goal | R1: Inidividual goal no timescale | S1: Individual need following action | T1: Multiple Goals | U1: Goal <= Current | V1: n/a -> inadequate | W1: Goal but no timescale | X1: Custom selected but description not changed | Y1: Custom level needed but not specified | Z1: Timescale but no action
A2: G1 | B2: Governance | C2: If you use Microsoft 365, do you have a committee or board to oversee the use, architecture and configuration of your Microsoft 365 tenant? (NB, this is especially important if your Microsoft 365 tenant is shared by multiple organisations) | D2: G1(NA) | E2: =LEFT(D2,FIND("(",D2)-1) -> G1 | F2: Not applicable | G2: =$E2&J2 -> G1 | H2: =$E2&K2 -> G1 | I2: n/a | O2: =IF(COUNTIFS(J$2:J$241,"Yes",$E$2:$E$241,$E2)=0,TRUE,FALSE) -> TRUE | P2: =IF(COUNTIFS(J$2:J$241,"Yes",$E$2:$E$241,$E2)>1,TRUE,FALSE) -> FALSE | Q2: =IF(COUNTIFS(K$2:K$241,"Yes",$E$2:$E$241,$E2)=0,TRUE,FALSE) -> TRUE | R2: =IF(K2="Yes",IF(ISBLANK(L2),TRUE,FALSE),FALSE) -> FALSE | S2: =IF(OR(L2="Next Year",L2="Next Two Years"),IF(ISBLANK(M2),TRUE,FALSE),FALSE) -> FALSE | T2: =IF(COUNTIFS(K$2:K$241,"Yes",$E$2:$E$241,$E2)>1,TRUE,FALSE) -> FALSE | U2: =IFERROR(_xlfn.LET(_xlpm.current,INDEX($I$2:$I$241,MATCH($E2&"Yes",$G$2:$G$241,0)),_xlpm.goal,INDEX($I$2:$I$241,MATCH($E2&"Yes",$H$2:$H$241,0)),IF(OR(_xlpm.current = "[Select]", _xlpm.goal = "[Select]"),FALSE,IF(OR(AND(_xlpm.current<>"n/a",_xlpm.goal="Inadequate"), AND(_xlpm.goal = "Adequate", OR(_xlpm.current = "Adequate", _xlpm.current = "Optimal ")), AND(_xlpm.current = "Optimal ", _xlpm.goal <> 0)),TRUE,FALSE))),FALSE) -> FALSE | V2: =IFERROR(_xlfn.LET(_xlpm.current,INDEX($I$2:$I$241,MATCH($E2&"Yes",$G$2:$G$241,0)),_xlfn.LET(_xlpm.goal,INDEX($I$2:$I$241,MATCH($E2&"Yes",$H$2:$H$241,0)),IF(AND(_xlpm.current="n/a",_xlpm.goal="Inadequate"),TRUE,FALSE))),FALSE) -> FALSE | W2: =IFERROR(INDEX($L$2:$L$241,MATCH(E2&"Yes",$H$2:$H$241,0))=0,FALSE) -> FALSE | X2: =IFERROR(_xlfn.LET(_xlpm.current,INDEX($F$2:$F$241,MATCH($E2&"Yes",$G$2:$G$241,0)),_xlfn.LET(_xlpm.goal,INDEX($F$2:$F$241,MATCH($E2&"Yes",$H$2:$H$241,0)),IF(OR(IFERROR(_xlpm.current="Custom [Overwrite this text if selected]",FALSE),IFERROR(_xlpm.goal="Custom [Overwrite this text if selected]",FALSE),IFERROR(_xlpm.current="",FALSE),IFERROR(_xlpm.goal="",FALSE)),TRUE,FALSE))),FALSE) -> FALSE | Y2: =IFERROR(_xlfn.LET(_xlpm.current,INDEX($I$2:$I$241,MATCH($E2&"Yes",$G$2:$G$241,0)),_xlfn.LET(_xlpm.goal,INDEX($I$2:$I$241,MATCH($E2&"Yes",$H$2:$H$241,0)),IF(OR(IFERROR(_xlpm.current="[Select]",FALSE),IFERROR(_xlpm.goal="[Select]",FALSE),IFERROR(_xlpm.current="",FALSE),IFERROR(_xlpm.goal="",FALSE)),TRUE,FALSE))),FALSE) -> FALSE | Z2: =IFERROR(_xlfn.LET(_xlpm.matchPosition,MATCH(E2&"Yes",$H$2:$H$241,0),_xlpm.timescale,INDEX($L$2:$L$241,_xlpm.matchPosition),IF(OR(_xlpm.timescale=$AH$4,_xlpm.timescale=$AI$4),ISBLANK(INDEX($M$2:$M$241,_xlpm.matchPosition)))),FALSE) -> FALSE | AA2: {=_xlfn.LET( _xlpm.currentText,IF(OR(O2,P2),"- Please select exactly one current practice (or 'Not applicable')",""), _xlpm.goalsText,IF(T2,"- Please select exactly one goal",""), _xlpm.insufficientGoal,IF(U2,"- Note: selected goal is at same or lower level than current state",""), _xlpm.naToInadequate,IF(V2,"- Note: selected goal is inadequate",""), _xlpm.customGoalButNoDescription,IF(X2,"- Please provide a description for your custom state in column F",""), _xlpm.customGoalButNoMaturitySpecified,IF(Y2,"- Please select a maturity level for custom state",""), _xlpm.goalButNoTimescale,IF(W2,"- Please use the 'Improvement timescale' field to indicate how quickly improvement is planned for",""), _xlpm.timescaleButNoAction,IF(Z2,"- Please indicate what actions you intend to take to improve within the " & LOWER(L2),""), _xlpm.texts,_xlfn.VSTACK(_xlpm.currentText,_xlpm.goalsText,_xlpm.insufficientGoal,_xlpm.naToInadequate,_xlpm.customGoalButNoDescription,_xlpm.customGoalButNoMaturitySpecified,_xlpm.goalButNoTimescale,_xlpm.timescaleButNoAction), IFERROR(_xlfn.TEXTJOIN(CHAR(10),TRUE,_xlfn._xlws.FILTER(_xlpm.texts,_xlpm.texts <> "")),""))} -> - Please select exactly one current practice (or 'Not applicable') | AH2: Yes
D3: G1(A) | E3: =LEFT(D3,FIND("(",D3)-1) -> G1 | F3: We don't have a committee or a board, but our Microsoft 365 tenant has a clear ownership model. Issues and requests are difficult to raise and/or KIM/information governance needs are not always addressed. | G3: =$E3&J3 -> G1 | H3: =$E3&K3 -> G1 | I3: Inadequate | O3: =IF(COUNTIFS(J$2:J$241,"Yes",$E$2:$E$241,$E3)=0,TRUE,FALSE) -> TRUE | P3: =IF(COUNTIFS(J$2:J$241,"Yes",$E$2:$E$241,$E3)>1,TRUE,FALSE) -> FALSE | Q3: =IF(COUNTIFS(K$2:K$241,"Yes",$E$2:$E$241,$E3)=0,TRUE,FALSE) -> TRUE | R3: =IF(K3="Yes",IF(ISBLANK(L3),TRUE,FALSE),FALSE) -> FALSE | S3: =IF(OR(L3="Next Year",L3="Next Two Years"),IF(ISBLANK(M3),TRUE,FALSE),FALSE) -> FALSE | T3: =IF(COUNTIFS(K$2:K$241,"Yes",$E$2:$E$241,$E3)>1,TRUE,FALSE) -> FALSE | U3: =IFERROR(_xlfn.LET(_xlpm.current,INDEX($I$2:$I$241,MATCH($E3&"Yes",$G$2:$G$241,0)),_xlpm.goal,INDEX($I$2:$I$241,MATCH($E3&"Yes",$H$2:$H$241,0)),IF(OR(_xlpm.current = "[Select]", _xlpm.goal = "[Select]"),FALSE,IF(OR(AND(_xlpm.current<>"n/a",_xlpm.goal="Inadequate"), AND(_xlpm.goal = "Adequate", OR(_xlpm.current = "Adequate", _xlpm.current = "Optimal ")), AND(_xlpm.current = "Optimal ", _xlpm.goal <> 0)),TRUE,FALSE))),FALSE) -> FALSE | V3: =IFERROR(_xlfn.LET(_xlpm.current,INDEX($I$2:$I$241,MATCH($E3&"Yes",$G$2:$G$241,0)),_xlfn.LET(_xlpm.goal,INDEX($I$2:$I$241,MATCH($E3&"Yes",$H$2:$H$241,0)),IF(AND(_xlpm.current="n/a",_xlpm.goal="Inadequate"),TRUE,FALSE))),FALSE) -> FALSE | W3: =IFERROR(INDEX($L$2:$L$241,MATCH(E3&"Yes",$H$2:$H$241,0))=0,FALSE) -> FALSE | X3: =IFERROR(_xlfn.LET(_xlpm.current,INDEX($F$2:$F$241,MATCH($E3&"Yes",$G$2:$G$241,0)),_xlfn.LET(_xlpm.goal,INDEX($F$2:$F$241,MATCH($E3&"Yes",$H$2:$H$241,0)),IF(OR(IFERROR(_xlpm.current="Custom [Overwrite this text if selected]",FALSE),IFERROR(_xlpm.goal="Custom [Overwrite this text if selected]",FALSE),IFERROR(_xlpm.current="",FALSE),IFERROR(_xlpm.goal="",FALSE)),TRUE,FALSE))),FALSE) -> FALSE | Y3: =IFERROR(_xlfn.LET(_xlpm.current,INDEX($I$2:$I$241,MATCH($E3&"Yes",$G$2:$G$241,0)),_xlfn.LET(_xlpm.goal,INDEX($I$2:$I$241,MATCH($E3&"Yes",$H$2:$H$241,0)),IF(OR(IFERROR(_xlpm.current="[Select]",FALSE),IFERROR(_xlpm.goal="[Select]",FALSE),IFERROR(_xlpm.current="",FALSE),IFERROR(_xlpm.goal="",FALSE)),TRUE,FALSE))),FALSE) -> FALSE | Z3: =IFERROR(_xlfn.LET(_xlpm.matchPosition,MATCH(E3&"Yes",$H$2:$H$241,0),_xlpm.timescale,INDEX($L$2:$L$241,_xlpm.matchPosition),IF(OR(_xlpm.timescale=$AH$4,_xlpm.timescale=$AI$4),ISBLANK(INDEX($M$2:$M$241,_xlpm.matchPosition)))),FALSE) -> FALSE
D4: G1(B) | E4: =LEFT(D4,FIND("(",D4)-1) -> G1 | F4: It is not clear who is responsible for overseeing our Microsoft 365 tenant. | G4: =$E4&J4 -> G1 | H4: =$E4&K4 -> G1 | I4: Inadequate | O4: =IF(COUNTIFS(J$2:J$241,"Yes",$E$2:$E$241,$E4)=0,TRUE,FALSE) -> TRUE | P4: =IF(COUNTIFS(J$2:J$241,"Yes",$E$2:$E$241,$E4)>1,TRUE,FALSE) -> FALSE | Q4: =IF(COUNTIFS(K$2:K$241,"Yes",$E$2:$E$241,$E4)=0,TRUE,FALSE) -> TRUE | R4: =IF(K4="Yes",IF(ISBLANK(L4),TRUE,FALSE),FALSE) -> FALSE | S4: =IF(OR(L4="Next Year",L4="Next Two Years"),IF(ISBLANK(M4),TRUE,FALSE),FALSE) -> FALSE | T4: =IF(COUNTIFS(K$2:K$241,"Yes",$E$2:$E$241,$E4)>1,TRUE,FALSE) -> FALSE | U4: =IFERROR(_xlfn.LET(_xlpm.current,INDEX($I$2:$I$241,MATCH($E4&"Yes",$G$2:$G$241,0)),_xlpm.goal,INDEX($I$2:$I$241,MATCH($E4&"Yes",$H$2:$H$241,0)),IF(OR(_xlpm.current = "[Select]", _xlpm.goal = "[Select]"),FALSE,IF(OR(AND(_xlpm.current<>"n/a",_xlpm.goal="Inadequate"), AND(_xlpm.goal = "Adequate", OR(_xlpm.current = "Adequate", _xlpm.current = "Optimal ")), AND(_xlpm.current = "Optimal ", _xlpm.goal <> 0)),TRUE,FALSE))),FALSE) -> FALSE | V4: =IFERROR(_xlfn.LET(_xlpm.current,INDEX($I$2:$I$241,MATCH($E4&"Yes",$G$2:$G$241,0)),_xlfn.LET(_xlpm.goal,INDEX($I$2:$I$241,MATCH($E4&"Yes",$H$2:$H$241,0)),IF(AND(_xlpm.current="n/a",_xlpm.goal="Inadequate"),TRUE,FALSE))),FALSE) -> FALSE | W4: =IFERROR(INDEX($L$2:$L$241,MATCH(E4&"Yes",$H$2:$H$241,0))=0,FALSE) -> FALSE | X4: =IFERROR(_xlfn.LET(_xlpm.current,INDEX($F$2:$F$241,MATCH($E4&"Yes",$G$2:$G$241,0)),_xlfn.LET(_xlpm.goal,INDEX($F$2:$F$241,MATCH($E4&"Yes",$H$2:$H$241,0)),IF(OR(IFERROR(_xlpm.current="Custom [Overwrite this text if selected]",FALSE),IFERROR(_xlpm.goal="Custom [Overwrite this text if selected]",FALSE),IFERROR(_xlpm.current="",FALSE),IFERROR(_xlpm.goal="",FALSE)),TRUE,FALSE))),FALSE) -> FALSE | Y4: =IFERROR(_xlfn.LET(_xlpm.current,INDEX($I$2:$I$241,MATCH($E4&"Yes",$G$2:$G$241,0)),_xlfn.LET(_xlpm.goal,INDEX($I$2:$I$241,MATCH($E4&"Yes",$H$2:$H$241,0)),IF(OR(IFERROR(_xlpm.current="[Select]",FALSE),IFERROR(_xlpm.goal="[Select]",FALSE),IFERROR(_xlpm.current="",FALSE),IFERROR(_xlpm.goal="",FALSE)),TRUE,FALSE))),FALSE) -> FALSE | Z4: =IFERROR(_xlfn.LET(_xlpm.matchPosition,MATCH(E4&"Yes",$H$2:$H$241,0),_xlpm.timescale,INDEX($L$2:$L$241,_xlpm.matchPosition),IF(OR(_xlpm.timescale=$AH$4,_xlpm.timescale=$AI$4),ISBLANK(INDEX($M$2:$M$241,_xlpm.matchPosition)))),FALSE) -> FALSE | AH4: Next Year | AI4: Next Two Years | AJ4: Long Term | AK4: No Action
D5: G1(C) | E5: =LEFT(D5,FIND("(",D5)-1) -> G1 | F5: We have a committee / board who own and make decisions around the way our Microsoft 365 tenant is used, however the process of raising requests and changes with this board isn't clearly defined. | G5: =$E5&J5 -> G1 | H5: =$E5&K5 -> G1 | I5: Inadequate | O5: =IF(COUNTIFS(J$2:J$241,"Yes",$E$2:$E$241,$E5)=0,TRUE,FALSE) -> TRUE | P5: =IF(COUNTIFS(J$2:J$241,"Yes",$E$2:$E$241,$E5)>1,TRUE,FALSE) -> FALSE | Q5: =IF(COUNTIFS(K$2:K$241,"Yes",$E$2:$E$241,$E5)=0,TRUE,FALSE) -> TRUE | R5: =IF(K5="Yes",IF(ISBLANK(L5),TRUE,FALSE),FALSE) -> FALSE | S5: =IF(OR(L5="Next Year",L5="Next Two Years"),IF(ISBLANK(M5),TRUE,FALSE),FALSE) -> FALSE | T5: =IF(COUNTIFS(K$2:K$241,"Yes",$E$2:$E$241,$E5)>1,TRUE,FALSE) -> FALSE | U5: =IFERROR(_xlfn.LET(_xlpm.current,INDEX($I$2:$I$241,MATCH($E5&"Yes",$G$2:$G$241,0)),_xlpm.goal,INDEX($I$2:$I$241,MATCH($E5&"Yes",$H$2:$H$241,0)),IF(OR(_xlpm.current = "[Select]", _xlpm.goal = "[Select]"),FALSE,IF(OR(AND(_xlpm.current<>"n/a",_xlpm.goal="Inadequate"), AND(_xlpm.goal = "Adequate", OR(_xlpm.current = "Adequate", _xlpm.current = "Optimal ")), AND(_xlpm.current = "Optimal ", _xlpm.goal <> 0)),TRUE,FALSE))),FALSE) -> FALSE | V5: =IFERROR(_xlfn.LET(_xlpm.current,INDEX($I$2:$I$241,MATCH($E5&"Yes",$G$2:$G$241,0)),_xlfn.LET(_xlpm.goal,INDEX($I$2:$I$241,MATCH($E5&"Yes",$H$2:$H$241,0)),IF(AND(_xlpm.current="n/a",_xlpm.goal="Inadequate"),TRUE,FALSE))),FALSE) -> FALSE | W5: =IFERROR(INDEX($L$2:$L$241,MATCH(E5&"Yes",$H$2:$H$241,0))=0,FALSE) -> FALSE | X5: =IFERROR(_xlfn.LET(_xlpm.current,INDEX($F$2:$F$241,MATCH($E5&"Yes",$G$2:$G$241,0)),_xlfn.LET(_xlpm.goal,INDEX($F$2:$F$241,MATCH($E5&"Yes",$H$2:$H$241,0)),IF(OR(IFERROR(_xlpm.current="Custom [Overwrite this text if selected]",FALSE),IFERROR(_xlpm.goal="Custom [Overwrite this text if selected]",FALSE),IFERROR(_xlpm.current="",FALSE),IFERROR(_xlpm.goal="",FALSE)),TRUE,FALSE))),FALSE) -> FALSE | Y5: =IFERROR(_xlfn.LET(_xlpm.current,INDEX($I$2:$I$241,MATCH($E5&"Yes",$G$2:$G$241,0)),_xlfn.LET(_xlpm.goal,INDEX($I$2:$I$241,MATCH($E5&"Yes",$H$2:$H$241,0)),IF(OR(IFERROR(_xlpm.current="[Select]",FALSE),IFERROR(_xlpm.goal="[Select]",FALSE),IFERROR(_xlpm.current="",FALSE),IFERROR(_xlpm.goal="",FALSE)),TRUE,FALSE))),FALSE) -> FALSE | Z5: =IFERROR(_xlfn.LET(_xlpm.matchPosition,MATCH(E5&"Yes",$H$2:$H$241,0),_xlpm.timescale,INDEX($L$2:$L$241,_xlpm.matchPosition),IF(OR(_xlpm.timescale=$AH$4,_xlpm.timescale=$AI$4),ISBLANK(INDEX($M$2:$M$241,_xlpm.matchPosition)))),FALSE) -> FALSE
D6: G1(D) | E6: =LEFT(D6,FIND("(",D6)-1) -> G1 | F6: We have a committee / board who own and make decisions around the way that our Microsoft 365 tenant is used. This committee ensures that stakeholders (including knowledge and information managers, records managers, information security, governance and user representatives) are empowered to influence the way our organisation chooses to use Microsoft 365. | G6: =$E6&J6 -> G1 | H6: =$E6&K6 -> G1 | I6: Optimal | O6: =IF(COUNTIFS(J$2:J$241,"Yes",$E$2:$E$241,$E6)=0,TRUE,FALSE) -> TRUE | P6: =IF(COUNTIFS(J$2:J$241,"Yes",$E$2:$E$241,$E6)>1,TRUE,FALSE) -> FALSE | Q6: =IF(COUNTIFS(K$2:K$241,"Yes",$E$2:$E$241,$E6)=0,TRUE,FALSE) -> TRUE | R6: =IF(K6="Yes",IF(ISBLANK(L6),TRUE,FALSE),FALSE) -> FALSE | S6: =IF(OR(L6="Next Year",L6="Next Two Years"),IF(ISBLANK(M6),TRUE,FALSE),FALSE) -> FALSE | T6: =IF(COUNTIFS(K$2:K$241,"Yes",$E$2:$E$241,$E6)>1,TRUE,FALSE) -> FALSE | U6: =IFERROR(_xlfn.LET(_xlpm.current,INDEX($I$2:$I$241,MATCH($E6&"Yes",$G$2:$G$241,0)),_xlpm.goal,INDEX($I$2:$I$241,MATCH($E6&"Yes",$H$2:$H$241,0)),IF(OR(_xlpm.current = "[Select]", _xlpm.goal = "[Select]"),FALSE,IF(OR(AND(_xlpm.current<>"n/a",_xlpm.goal="Inadequate"), AND(_xlpm.goal = "Adequate", OR(_xlpm.current = "Adequate", _xlpm.current = "Optimal ")), AND(_xlpm.current = "Optimal ", _xlpm.goal <> 0)),TRUE,FALSE))),FALSE) -> FALSE | V6: =IFERROR(_xlfn.LET(_xlpm.current,INDEX($I$2:$I$241,MATCH($E6&"Yes",$G$2:$G$241,0)),_xlfn.LET(_xlpm.goal,INDEX($I$2:$I$241,MATCH($E6&"Yes",$H$2:$H$241,0)),IF(AND(_xlpm.current="n/a",_xlpm.goal="Inadequate"),TRUE,FALSE))),FALSE) -> FALSE | W6: =IFERROR(INDEX($L$2:$L$241,MATCH(E6&"Yes",$H$2:$H$241,0))=0,FALSE) -> FALSE | X6: =IFERROR(_xlfn.LET(_xlpm.current,INDEX($F$2:$F$241,MATCH($E6&"Yes",$G$2:$G$241,0)),_xlfn.LET(_xlpm.goal,INDEX($F$2:$F$241,MATCH($E6&"Yes",$H$2:$H$241,0)),IF(OR(IFERROR(_xlpm.current="Custom [Overwrite this text if selected]",FALSE),IFERROR(_xlpm.goal="Custom [Overwrite this text if selected]",FALSE),IFERROR(_xlpm.current="",FALSE),IFERROR(_xlpm.goal="",FALSE)),TRUE,FALSE))),FALSE) -> FALSE | Y6: =IFERROR(_xlfn.LET(_xlpm.current,INDEX($I$2:$I$241,MATCH($E6&"Yes",$G$2:$G$241,0)),_xlfn.LET(_xlpm.goal,INDEX($I$2:$I$241,MATCH($E6&"Yes",$H$2:$H$241,0)),IF(OR(IFERROR(_xlpm.current="[Select]",FALSE),IFERROR(_xlpm.goal="[Select]",FALSE),IFERROR(_xlpm.current="",FALSE),IFERROR(_xlpm.goal="",FALSE)),TRUE,FALSE))),FALSE) -> FALSE | Z6: =IFERROR(_xlfn.LET(_xlpm.matchPosition,MATCH(E6&"Yes",$H$2:$H$241,0),_xlpm.timescale,INDEX($L$2:$L$241,_xlpm.matchPosition),IF(OR(_xlpm.timescale=$AH$4,_xlpm.timescale=$AI$4),ISBLANK(INDEX($M$2:$M$241,_xlpm.matchPosition)))),FALSE) -> FALSE
D7: G1(E) | E7: =LEFT(D7,FIND("(",D7)-1) -> G1 | F7: Custom [Overwrite this text if selected] | G7: =$E7&J7 -> G1 | H7: =$E7&K7 -> G1 | I7: [Select] | O7: =IF(COUNTIFS(J$2:J$241,"Yes",$E$2:$E$241,$E7)=0,TRUE,FALSE) -> TRUE | P7: =IF(COUNTIFS(J$2:J$241,"Yes",$E$2:$E$241,$E7)>1,TRUE,FALSE) -> FALSE | Q7: =IF(COUNTIFS(K$2:K$241,"Yes",$E$2:$E$241,$E7)=0,TRUE,FALSE) -> TRUE | R7: =IF(K7="Yes",IF(ISBLANK(L7),TRUE,FALSE),FALSE) -> FALSE | S7: =IF(OR(L7="Next Year",L7="Next Two Years"),IF(ISBLANK(M7),TRUE,FALSE),FALSE) -> FALSE | T7: =IF(COUNTIFS(K$2:K$241,"Yes",$E$2:$E$241,$E7)>1,TRUE,FALSE) -> FALSE | U7: =IFERROR(_xlfn.LET(_xlpm.current,INDEX($I$2:$I$241,MATCH($E7&"Yes",$G$2:$G$241,0)),_xlpm.goal,INDEX($I$2:$I$241,MATCH($E7&"Yes",$H$2:$H$241,0)),IF(OR(_xlpm.current = "[Select]", _xlpm.goal = "[Select]"),FALSE,IF(OR(AND(_xlpm.current<>"n/a",_xlpm.goal="Inadequate"), AND(_xlpm.goal = "Adequate", OR(_xlpm.current = "Adequate", _xlpm.current = "Optimal ")), AND(_xlpm.current = "Optimal ", _xlpm.goal <> 0)),TRUE,FALSE))),FALSE) -> FALSE | V7: =IFERROR(_xlfn.LET(_xlpm.current,INDEX($I$2:$I$241,MATCH($E7&"Yes",$G$2:$G$241,0)),_xlfn.LET(_xlpm.goal,INDEX($I$2:$I$241,MATCH($E7&"Yes",$H$2:$H$241,0)),IF(AND(_xlpm.current="n/a",_xlpm.goal="Inadequate"),TRUE,FALSE))),FALSE) -> FALSE | W7: =IFERROR(INDEX($L$2:$L$241,MATCH(E7&"Yes",$H$2:$H$241,0))=0,FALSE) -> FALSE | X7: =IFERROR(_xlfn.LET(_xlpm.current,INDEX($F$2:$F$241,MATCH($E7&"Yes",$G$2:$G$241,0)),_xlfn.LET(_xlpm.goal,INDEX($F$2:$F$241,MATCH($E7&"Yes",$H$2:$H$241,0)),IF(OR(IFERROR(_xlpm.current="Custom [Overwrite this text if selected]",FALSE),IFERROR(_xlpm.goal="Custom [Overwrite this text if selected]",FALSE),IFERROR(_xlpm.current="",FALSE),IFERROR(_xlpm.goal="",FALSE)),TRUE,FALSE))),FALSE) -> FALSE | Y7: =IFERROR(_xlfn.LET(_xlpm.current,INDEX($I$2:$I$241,MATCH($E7&"Yes",$G$2:$G$241,0)),_xlfn.LET(_xlpm.goal,INDEX($I$2:$I$241,MATCH($E7&"Yes",$H$2:$H$241,0)),IF(OR(IFERROR(_xlpm.current="[Select]",FALSE),IFERROR(_xlpm.goal="[Select]",FALSE),IFERROR(_xlpm.current="",FALSE),IFERROR(_xlpm.goal="",FALSE)),TRUE,FALSE))),FALSE) -> FALSE | Z7: =IFERROR(_xlfn.LET(_xlpm.matchPosition,MATCH(E7&"Yes",$H$2:$H$241,0),_xlpm.timescale,INDEX($L$2:$L$241,_xlpm.matchPosition),IF(OR(_xlpm.timescale=$AH$4,_xlpm.timescale=$AI$4),ISBLANK(INDEX($M$2:$M$241,_xlpm.matchPosition)))),FALSE) -> FALSE
D8: G1(F) | E8: =LEFT(D8,FIND("(",D8)-1) -> G1 | F8: Custom [Overwrite this text if selected] | G8: =$E8&J8 -> G1 | H8: =$E8&K8 -> G1 | I8: [Select] | O8: =IF(COUNTIFS(J$2:J$241,"Yes",$E$2:$E$241,$E8)=0,TRUE,FALSE) -> TRUE | P8: =IF(COUNTIFS(J$2:J$241,"Yes",$E$2:$E$241,$E8)>1,TRUE,FALSE) -> FALSE | Q8: =IF(COUNTIFS(K$2:K$241,"Yes",$E$2:$E$241,$E8)=0,TRUE,FALSE) -> TRUE | R8: =IF(K8="Yes",IF(ISBLANK(L8),TRUE,FALSE),FALSE) -> FALSE | S8: =IF(OR(L8="Next Year",L8="Next Two Years"),IF(ISBLANK(M8),TRUE,FALSE),FALSE) -> FALSE | T8: =IF(COUNTIFS(K$2:K$241,"Yes",$E$2:$E$241,$E8)>1,TRUE,FALSE) -> FALSE | U8: =IFERROR(_xlfn.LET(_xlpm.current,INDEX($I$2:$I$241,MATCH($E8&"Yes",$G$2:$G$241,0)),_xlpm.goal,INDEX($I$2:$I$241,MATCH($E8&"Yes",$H$2:$H$241,0)),IF(OR(_xlpm.current = "[Select]", _xlpm.goal = "[Select]"),FALSE,IF(OR(AND(_xlpm.current<>"n/a",_xlpm.goal="Inadequate"), AND(_xlpm.goal = "Adequate", OR(_xlpm.current = "Adequate", _xlpm.current = "Optimal ")), AND(_xlpm.current = "Optimal ", _xlpm.goal <> 0)),TRUE,FALSE))),FALSE) -> FALSE | V8: =IFERROR(_xlfn.LET(_xlpm.current,INDEX($I$2:$I$241,MATCH($E8&"Yes",$G$2:$G$241,0)),_xlfn.LET(_xlpm.goal,INDEX($I$2:$I$241,MATCH($E8&"Yes",$H$2:$H$241,0)),IF(AND(_xlpm.current="n/a",_xlpm.goal="Inadequate"),TRUE,FALSE))),FALSE) -> FALSE | W8: =IFERROR(INDEX($L$2:$L$241,MATCH(E8&"Yes",$H$2:$H$241,0))=0,FALSE) -> FALSE | X8: =IFERROR(_xlfn.LET(_xlpm.current,INDEX($F$2:$F$241,MATCH($E8&"Yes",$G$2:$G$241,0)),_xlfn.LET(_xlpm.goal,INDEX($F$2:$F$241,MATCH($E8&"Yes",$H$2:$H$241,0)),IF(OR(IFERROR(_xlpm.current="Custom [Overwrite this text if selected]",FALSE),IFERROR(_xlpm.goal="Custom [Overwrite this text if selected]",FALSE),IFERROR(_xlpm.current="",FALSE),IFERROR(_xlpm.goal="",FALSE)),TRUE,FALSE))),FALSE) -> FALSE | Y8: =IFERROR(_xlfn.LET(_xlpm.current,INDEX($I$2:$I$241,MATCH($E8&"Yes",$G$2:$G$241,0)),_xlfn.LET(_xlpm.goal,INDEX($I$2:$I$241,MATCH($E8&"Yes",$H$2:$H$241,0)),IF(OR(IFERROR(_xlpm.current="[Select]",FALSE),IFERROR(_xlpm.goal="[Select]",FALSE),IFERROR(_xlpm.current="",FALSE),IFERROR(_xlpm.goal="",FALSE)),TRUE,FALSE))),FALSE) -> FALSE | Z8: =IFERROR(_xlfn.LET(_xlpm.matchPosition,MATCH(E8&"Yes",$H$2:$H$241,0),_xlpm.timescale,INDEX($L$2:$L$241,_xlpm.matchPosition),IF(OR(_xlpm.timescale=$AH$4,_xlpm.timescale=$AI$4),ISBLANK(INDEX($M$2:$M$241,_xlpm.matchPosition)))),FALSE) -> FALSE
A9: G2 | B9: Governance | C9: If you use OneDrive what happens to a user’s content when they leave your organisation? | D9: G2(NA) | E9: =LEFT(D9,FIND("(",D9)-1) -> G2 | F9: Not applicable | G9: =$E9&J9 -> G2 | H9: =$E9&K9 -> G2 | I9: n/a | O9: =IF(COUNTIFS(J$2:J$241,"Yes",$E$2:$E$241,$E9)=0,TRUE,FALSE) -> TRUE | P9: =IF(COUNTIFS(J$2:J$241,"Yes",$E$2:$E$241,$E9)>1,TRUE,FALSE) -> FALSE | Q9: =IF(COUNTIFS(K$2:K$241,"Yes",$E$2:$E$241,$E9)=0,TRUE,FALSE) -> TRUE | R9: =IF(K9="Yes",IF(ISBLANK(L9),TRUE,FALSE),FALSE) -> FALSE | S9: =IF(OR(L9="Next Year",L9="Next Two Years"),IF(ISBLANK(M9),TRUE,FALSE),FALSE) -> FALSE | T9: =IF(COUNTIFS(K$2:K$241,"Yes",$E$2:$E$241,$E9)>1,TRUE,FALSE) -> FALSE | U9: =IFERROR(_xlfn.LET(_xlpm.current,INDEX($I$2:$I$241,MATCH($E9&"Yes",$G$2:$G$241,0)),_xlpm.goal,INDEX($I$2:$I$241,MATCH($E9&"Yes",$H$2:$H$241,0)),IF(OR(_xlpm.current = "[Select]", _xlpm.goal = "[Select]"),FALSE,IF(OR(AND(_xlpm.current<>"n/a",_xlpm.goal="Inadequate"), AND(_xlpm.goal = "Adequate", OR(_xlpm.current = "Adequate", _xlpm.current = "Optimal ")), AND(_xlpm.current = "Optimal ", _xlpm.goal <> 0)),TRUE,FALSE))),FALSE) -> FALSE | V9: =IFERROR(_xlfn.LET(_xlpm.current,INDEX($I$2:$I$241,MATCH($E9&"Yes",$G$2:$G$241,0)),_xlfn.LET(_xlpm.goal,INDEX($I$2:$I$241,MATCH($E9&"Yes",$H$2:$H$241,0)),IF(AND(_xlpm.current="n/a",_xlpm.goal="Inadequate"),TRUE,FALSE))),FALSE) -> FALSE | W9: =IFERROR(INDEX($L$2:$L$241,MATCH(E9&"Yes",$H$2:$H$241,0))=0,FALSE) -> FALSE | X9: =IFERROR(_xlfn.LET(_xlpm.current,INDEX($F$2:$F$241,MATCH($E9&"Yes",$G$2:$G$241,0)),_xlfn.LET(_xlpm.goal,INDEX($F$2:$F$241,MATCH($E9&"Yes",$H$2:$H$241,0)),IF(OR(IFERROR(_xlpm.current="Custom [Overwrite this text if selected]",FALSE),IFERROR(_xlpm.goal="Custom [Overwrite this text if selected]",FALSE),IFERROR(_xlpm.current="",FALSE),IFERROR(_xlpm.goal="",FALSE)),TRUE,FALSE))),FALSE) -> FALSE | Y9: =IFERROR(_xlfn.LET(_xlpm.current,INDEX($I$2:$I$241,MATCH($E9&"Yes",$G$2:$G$241,0)),_xlfn.LET(_xlpm.goal,INDEX($I$2:$I$241,MATCH($E9&"Yes",$H$2:$H$241,0)),IF(OR(IFERROR(_xlpm.current="[Select]",FALSE),IFERROR(_xlpm.goal="[Select]",FALSE),IFERROR(_xlpm.current="",FALSE),IFERROR(_xlpm.goal="",FALSE)),TRUE,FALSE))),FALSE) -> FALSE | Z9: =IFERROR(_xlfn.LET(_xlpm.matchPosition,MATCH(E9&"Yes",$H$2:$H$241,0),_xlpm.timescale,INDEX($L$2:$L$241,_xlpm.matchPosition),IF(OR(_xlpm.timescale=$AH$4,_xlpm.timescale=$AI$4),ISBLANK(INDEX($M$2:$M$241,_xlpm.matchPosition)))),FALSE) -> FALSE | AA9: {=_xlfn.LET( _xlpm.currentText,IF(OR(O9,P9),"- Please select exactly one current practice (or 'Not applicable')",""), _xlpm.goalsText,IF(T9,"- Please select exactly one goal",""), _xlpm.insufficientGoal,IF(U9,"- Note: selected goal is at same or lower level than current state",""), _xlpm.naToInadequate,IF(V9,"- Note: selected goal is inadequate",""), _xlpm.customGoalButNoDescription,IF(X9,"- Please provide a description for your custom state in column F",""), _xlpm.customGoalButNoMaturitySpecified,IF(Y9,"- Please select a maturity level for custom state",""), _xlpm.goalButNoTimescale,IF(W9,"- Please use the 'Improvement timescale' field to indicate how quickly improvement is planned for",""), _xlpm.timescaleButNoAction,IF(Z9,"- Please indicate what actions you intend to take to improve within the " & LOWER(L9),""), _xlpm.texts,_xlfn.VSTACK(_xlpm.currentText,_xlpm.goalsText,_xlpm.insufficientGoal,_xlpm.naToInadequate,_xlpm.customGoalButNoDescription,_xlpm.customGoalButNoMaturitySpecified,_xlpm.goalButNoTimescale,_xlpm.timescaleButNoAction), IFERROR(_xlfn.TEXTJOIN(CHAR(10),TRUE,_xlfn._xlws.FILTER(_xlpm.texts,_xlpm.texts <> "")),""))} -> - Please select exactly one current practice (or 'Not applicable')
D10: G2(A) | E10: =LEFT(D10,FIND("(",D10)-1) -> G2 | F10: The leaver's OneDrive account is automatically deleted after the user leaves the organisation. The leaver is expected to manually review and move copies of any content of value for retention elsewhere. | G10: =$E10&J10 -> G2 | H10: =$E10&K10 -> G2 | I10: Inadequate | O10: =IF(COUNTIFS(J$2:J$241,"Yes",$E$2:$E$241,$E10)=0,TRUE,FALSE) -> TRUE | P10: =IF(COUNTIFS(J$2:J$241,"Yes",$E$2:$E$241,$E10)>1,TRUE,FALSE) -> FALSE | Q10: =IF(COUNTIFS(K$2:K$241,"Yes",$E$2:$E$241,$E10)=0,TRUE,FALSE) -> TRUE | R10: =IF(K10="Yes",IF(ISBLANK(L10),TRUE,FALSE),FALSE) -> FALSE | S10: =IF(OR(L10="Next Year",L10="Next Two Years"),IF(ISBLANK(M10),TRUE,FALSE),FALSE) -> FALSE | T10: =IF(COUNTIFS(K$2:K$241,"Yes",$E$2:$E$241,$E10)>1,TRUE,FALSE) -> FALSE | U10: =IFERROR(_xlfn.LET(_xlpm.current,INDEX($I$2:$I$241,MATCH($E10&"Yes",$G$2:$G$241,0)),_xlpm.goal,INDEX($I$2:$I$241,MATCH($E10&"Yes",$H$2:$H$241,0)),IF(OR(_xlpm.current = "[Select]", _xlpm.goal = "[Select]"),FALSE,IF(OR(AND(_xlpm.current<>"n/a",_xlpm.goal="Inadequate"), AND(_xlpm.goal = "Adequate", OR(_xlpm.current = "Adequate", _xlpm.current = "Optimal ")), AND(_xlpm.current = "Optimal ", _xlpm.goal <> 0)),TRUE,FALSE))),FALSE) -> FALSE | V10: =IFERROR(_xlfn.LET(_xlpm.current,INDEX($I$2:$I$241,MATCH($E10&"Yes",$G$2:$G$241,0)),_xlfn.LET(_xlpm.goal,INDEX($I$2:$I$241,MATCH($E10&"Yes",$H$2:$H$241,0)),IF(AND(_xlpm.current="n/a",_xlpm.goal="Inadequate"),TRUE,FALSE))),FALSE) -> FALSE | W10: =IFERROR(INDEX($L$2:$L$241,MATCH(E10&"Yes",$H$2:$H$241,0))=0,FALSE) -> FALSE | X10: =IFERROR(_xlfn.LET(_xlpm.current,INDEX($F$2:$F$241,MATCH($E10&"Yes",$G$2:$G$241,0)),_xlfn.LET(_xlpm.goal,INDEX($F$2:$F$241,MATCH($E10&"Yes",$H$2:$H$241,0)),IF(OR(IFERROR(_xlpm.current="Custom [Overwrite this text if selected]",FALSE),IFERROR(_xlpm.goal="Custom [Overwrite this text if selected]",FALSE),IFERROR(_xlpm.current="",FALSE),IFERROR(_xlpm.goal="",FALSE)),TRUE,FALSE))),FALSE) -> FALSE | Y10: =IFERROR(_xlfn.LET(_xlpm.current,INDEX($I$2:$I$241,MATCH($E10&"Yes",$G$2:$G$241,0)),_xlfn.LET(_xlpm.goal,INDEX($I$2:$I$241,MATCH($E10&"Yes",$H$2:$H$241,0)),IF(OR(IFERROR(_xlpm.current="[Select]",FALSE),IFERROR(_xlpm.goal="[Select]",FALSE),IFERROR(_xlpm.current="",FALSE),IFERROR(_xlpm.goal="",FALSE)),TRUE,FALSE))),FALSE) -> FALSE | Z10: =IFERROR(_xlfn.LET(_xlpm.matchPosition,MATCH(E10&"Yes",$H$2:$H$241,0),_xlpm.timescale,INDEX($L$2:$L$241,_xlpm.matchPosition),IF(OR(_xlpm.timescale=$AH$4,_xlpm.timescale=$AI$4),ISBLANK(INDEX($M$2:$M$241,_xlpm.matchPosition)))),FALSE) -> FALSE
D11: G2(B) | E11: =LEFT(D11,FIND("(",D11)-1) -> G2 | F11: The leaver's OneDrive account is automatically deleted after the user leaves the organisation. OneDrive content is rarely if ever reviewed before deletion. | G11: =$E11&J11 -> G2 | H11: =$E11&K11 -> G2 | I11: Inadequate | O11: =IF(COUNTIFS(J$2:J$241,"Yes",$E$2:$E$241,$E11)=0,TRUE,FALSE) -> TRUE | P11: =IF(COUNTIFS(J$2:J$241,"Yes",$E$2:$E$241,$E11)>1,TRUE,FALSE) -> FALSE | Q11: =IF(COUNTIFS(K$2:K$241,"Yes",$E$2:$E$241,$E11)=0,TRUE,FALSE) -> TRUE | R11: =IF(K11="Yes",IF(ISBLANK(L11),TRUE,FALSE),FALSE) -> FALSE | S11: =IF(OR(L11="Next Year",L11="Next Two Years"),IF(ISBLANK(M11),TRUE,FALSE),FALSE) -> FALSE | T11: =IF(COUNTIFS(K$2:K$241,"Yes",$E$2:$E$241,$E11)>1,TRUE,FALSE) -> FALSE | U11: =IFERROR(_xlfn.LET(_xlpm.current,INDEX($I$2:$I$241,MATCH($E11&"Yes",$G$2:$G$241,0)),_xlpm.goal,INDEX($I$2:$I$241,MATCH($E11&"Yes",$H$2:$H$241,0)),IF(OR(_xlpm.current = "[Select]", _xlpm.goal = "[Select]"),FALSE,IF(OR(AND(_xlpm.current<>"n/a",_xlpm.goal="Inadequate"), AND(_xlpm.goal = "Adequate", OR(_xlpm.current = "Adequate", _xlpm.current = "Optimal ")), AND(_xlpm.current = "Optimal ", _xlpm.goal <> 0)),TRUE,FALSE))),FALSE) -> FALSE | V11: =IFERROR(_xlfn.LET(_xlpm.current,INDEX($I$2:$I$241,MATCH($E11&"Yes",$G$2:$G$241,0)),_xlfn.LET(_xlpm.goal,INDEX($I$2:$I$241,MATCH($E11&"Yes",$H$2:$H$241,0)),IF(AND(_xlpm.current="n/a",_xlpm.goal="Inadequate"),TRUE,FALSE))),FALSE) -> FALSE | W11: =IFERROR(INDEX($L$2:$L$241,MATCH(E11&"Yes",$H$2:$H$241,0))=0,FALSE) -> FALSE | X11: =IFERROR(_xlfn.LET(_xlpm.current,INDEX($F$2:$F$241,MATCH($E11&"Yes",$G$2:$G$241,0)),_xlfn.LET(_xlpm.goal,INDEX($F$2:$F$241,MATCH($E11&"Yes",$H$2:$H$241,0)),IF(OR(IFERROR(_xlpm.current="Custom [Overwrite this text if selected]",FALSE),IFERROR(_xlpm.goal="Custom [Overwrite this text if selected]",FALSE),IFERROR(_xlpm.current="",FALSE),IFERROR(_xlpm.goal="",FALSE)),TRUE,FALSE))),FALSE) -> FALSE | Y11: =IFERROR(_xlfn.LET(_xlpm.current,INDEX($I$2:$I$241,MATCH($E11&"Yes",$G$2:$G$241,0)),_xlfn.LET(_xlpm.goal,INDEX($I$2:$I$241,MATCH($E11&"Yes",$H$2:$H$241,0)),IF(OR(IFERROR(_xlpm.current="[Select]",FALSE),IFERROR(_xlpm.goal="[Select]",FALSE),IFERROR(_xlpm.current="",FALSE),IFERROR(_xlpm.goal="",FALSE)),TRUE,FALSE))),FALSE) -> FALSE | Z11: =IFERROR(_xlfn.LET(_xlpm.matchPosition,MATCH(E11&"Yes",$H$2:$H$241,0),_xlpm.timescale,INDEX($L$2:$L$241,_xlpm.matchPosition),IF(OR(_xlpm.timescale=$AH$4,_xlpm.timescale=$AI$4),ISBLANK(INDEX($M$2:$M$241,_xlpm.matchPosition)))),FALSE) -> FALSE
D12: G2(C) | E12: =LEFT(D12,FIND("(",D12)-1) -> G2 | F12: The leaver's OneDrive account is kept. We intend to introduce a plan in the future to manage information stored in the OneDrive accounts of former users. | G12: =$E12&J12 -> G2 | H12: =$E12&K12 -> G2 | I12: Inadequate | O12: =IF(COUNTIFS(J$2:J$241,"Yes",$E$2:$E$241,$E12)=0,TRUE,FALSE) -> TRUE | P12: =IF(COUNTIFS(J$2:J$241,"Yes",$E$2:$E$241,$E12)>1,TRUE,FALSE) -> FALSE | Q12: =IF(COUNTIFS(K$2:K$241,"Yes",$E$2:$E$241,$E12)=0,TRUE,FALSE) -> TRUE | R12: =IF(K12="Yes",IF(ISBLANK(L12),TRUE,FALSE),FALSE) -> FALSE | S12: =IF(OR(L12="Next Year",L12="Next Two Years"),IF(ISBLANK(M12),TRUE,FALSE),FALSE) -> FALSE | T12: =IF(COUNTIFS(K$2:K$241,"Yes",$E$2:$E$241,$E12)>1,TRUE,FALSE) -> FALSE | U12: =IFERROR(_xlfn.LET(_xlpm.current,INDEX($I$2:$I$241,MATCH($E12&"Yes",$G$2:$G$241,0)),_xlpm.goal,INDEX($I$2:$I$241,MATCH($E12&"Yes",$H$2:$H$241,0)),IF(OR(_xlpm.current = "[Select]", _xlpm.goal = "[Select]"),FALSE,IF(OR(AND(_xlpm.current<>"n/a",_xlpm.goal="Inadequate"), AND(_xlpm.goal = "Adequate", OR(_xlpm.current = "Adequate", _xlpm.current = "Optimal ")), AND(_xlpm.current = "Optimal ", _xlpm.goal <> 0)),TRUE,FALSE))),FALSE) -> FALSE | V12: =IFERROR(_xlfn.LET(_xlpm.current,INDEX($I$2:$I$241,MATCH($E12&"Yes",$G$2:$G$241,0)),_xlfn.LET(_xlpm.goal,INDEX($I$2:$I$241,MATCH($E12&"Yes",$H$2:$H$241,0)),IF(AND(_xlpm.current="n/a",_xlpm.goal="Inadequate"),TRUE,FALSE))),FALSE) -> FALSE | W12: =IFERROR(INDEX($L$2:$L$241,MATCH(E12&"Yes",$H$2:$H$241,0))=0,FALSE) -> FALSE | X12: =IFERROR(_xlfn.LET(_xlpm.current,INDEX($F$2:$F$241,MATCH($E12&"Yes",$G$2:$G$241,0)),_xlfn.LET(_xlpm.goal,INDEX($F$2:$F$241,MATCH($E12&"Yes",$H$2:$H$241,0)),IF(OR(IFERROR(_xlpm.current="Custom [Overwrite this text if selected]",FALSE),IFERROR(_xlpm.goal="Custom [Overwrite this text if selected]",FALSE),IFERROR(_xlpm.current="",FALSE),IFERROR(_xlpm.goal="",FALSE)),TRUE,FALSE))),FALSE) -> FALSE | Y12: =IFERROR(_xlfn.LET(_xlpm.current,INDEX($I$2:$I$241,MATCH($E12&"Yes",$G$2:$G$241,0)),_xlfn.LET(_xlpm.goal,INDEX($I$2:$I$241,MATCH($E12&"Yes",$H$2:$H$241,0)),IF(OR(IFERROR(_xlpm.current="[Select]",FALSE),IFERROR(_xlpm.goal="[Select]",FALSE),IFERROR(_xlpm.current="",FALSE),IFERROR(_xlpm.goal="",FALSE)),TRUE,FALSE))),FALSE) -> FALSE | Z12: =IFERROR(_xlfn.LET(_xlpm.matchPosition,MATCH(E12&"Yes",$H$2:$H$241,0),_xlpm.timescale,INDEX($L$2:$L$241,_xlpm.matchPosition),IF(OR(_xlpm.timescale=$AH$4,_xlpm.timescale=$AI$4),ISBLANK(INDEX($M$2:$M$241,_xlpm.matchPosition)))),FALSE) -> FALSE
D13: G2(D) | E13: =LEFT(D13,FIND("(",D13)-1) -> G2 | F13: The leaver's line manager can review the content and copy anything that needs to be kept, then the OneDrive account is automatically deleted. | G13: =$E13&J13 -> G2 | H13: =$E13&K13 -> G2 | I13: Adequate | O13: =IF(COUNTIFS(J$2:J$241,"Yes",$E$2:$E$241,$E13)=0,TRUE,FALSE) -> TRUE | P13: =IF(COUNTIFS(J$2:J$241,"Yes",$E$2:$E$241,$E13)>1,TRUE,FALSE) -> FALSE | Q13: =IF(COUNTIFS(K$2:K$241,"Yes",$E$2:$E$241,$E13)=0,TRUE,FALSE) -> TRUE | R13: =IF(K13="Yes",IF(ISBLANK(L13),TRUE,FALSE),FALSE) -> FALSE | S13: =IF(OR(L13="Next Year",L13="Next Two Years"),IF(ISBLANK(M13),TRUE,FALSE),FALSE) -> FALSE | T13: =IF(COUNTIFS(K$2:K$241,"Yes",$E$2:$E$241,$E13)>1,TRUE,FALSE) -> FALSE | U13: =IFERROR(_xlfn.LET(_xlpm.current,INDEX($I$2:$I$241,MATCH($E13&"Yes",$G$2:$G$241,0)),_xlpm.goal,INDEX($I$2:$I$241,MATCH($E13&"Yes",$H$2:$H$241,0)),IF(OR(_xlpm.current = "[Select]", _xlpm.goal = "[Select]"),FALSE,IF(OR(AND(_xlpm.current<>"n/a",_xlpm.goal="Inadequate"), AND(_xlpm.goal = "Adequate", OR(_xlpm.current = "Adequate", _xlpm.current = "Optimal ")), AND(_xlpm.current = "Optimal ", _xlpm.goal <> 0)),TRUE,FALSE))),FALSE) -> FALSE | V13: =IFERROR(_xlfn.LET(_xlpm.current,INDEX($I$2:$I$241,MATCH($E13&"Yes",$G$2:$G$241,0)),_xlfn.LET(_xlpm.goal,INDEX($I$2:$I$241,MATCH($E13&"Yes",$H$2:$H$241,0)),IF(AND(_xlpm.current="n/a",_xlpm.goal="Inadequate"),TRUE,FALSE))),FALSE) -> FALSE | W13: =IFERROR(INDEX($L$2:$L$241,MATCH(E13&"Yes",$H$2:$H$241,0))=0,FALSE) -> FALSE | X13: =IFERROR(_xlfn.LET(_xlpm.current,INDEX($F$2:$F$241,MATCH($E13&"Yes",$G$2:$G$241,0)),_xlfn.LET(_xlpm.goal,INDEX($F$2:$F$241,MATCH($E13&"Yes",$H$2:$H$241,0)),IF(OR(IFERROR(_xlpm.current="Custom [Overwrite this text if selected]",FALSE),IFERROR(_xlpm.goal="Custom [Overwrite this text if selected]",FALSE),IFERROR(_xlpm.current="",FALSE),IFERROR(_xlpm.goal="",FALSE)),TRUE,FALSE))),FALSE) -> FALSE | Y13: =IFERROR(_xlfn.LET(_xlpm.current,INDEX($I$2:$I$241,MATCH($E13&"Yes",$G$2:$G$241,0)),_xlfn.LET(_xlpm.goal,INDEX($I$2:$I$241,MATCH($E13&"Yes",$H$2:$H$241,0)),IF(OR(IFERROR(_xlpm.current="[Select]",FALSE),IFERROR(_xlpm.goal="[Select]",FALSE),IFERROR(_xlpm.current="",FALSE),IFERROR(_xlpm.goal="",FALSE)),TRUE,FALSE))),FALSE) -> FALSE | Z13: =IFERROR(_xlfn.LET(_xlpm.matchPosition,MATCH(E13&"Yes",$H$2:$H$241,0),_xlpm.timescale,INDEX($L$2:$L$241,_xlpm.matchPosition),IF(OR(_xlpm.timescale=$AH$4,_xlpm.timescale=$AI$4),ISBLANK(INDEX($M$2:$M$241,_xlpm.matchPosition)))),FALSE) -> FALSE
D14: G2(E) | E14: =LEFT(D14,FIND("(",D14)-1) -> G2 | F14: We encourage users to move records elsewhere, and minimise storage of any content of value in OneDrive. | G14: =$E14&J14 -> G2 | H14: =$E14&K14 -> G2 | I14: Adequate | O14: =IF(COUNTIFS(J$2:J$241,"Yes",$E$2:$E$241,$E14)=0,TRUE,FALSE) -> TRUE | P14: =IF(COUNTIFS(J$2:J$241,"Yes",$E$2:$E$241,$E14)>1,TRUE,FALSE) -> FALSE | Q14: =IF(COUNTIFS(K$2:K$241,"Yes",$E$2:$E$241,$E14)=0,TRUE,FALSE) -> TRUE | R14: =IF(K14="Yes",IF(ISBLANK(L14),TRUE,FALSE),FALSE) -> FALSE | S14: =IF(OR(L14="Next Year",L14="Next Two Years"),IF(ISBLANK(M14),TRUE,FALSE),FALSE) -> FALSE | T14: =IF(COUNTIFS(K$2:K$241,"Yes",$E$2:$E$241,$E14)>1,TRUE,FALSE) -> FALSE | U14: =IFERROR(_xlfn.LET(_xlpm.current,INDEX($I$2:$I$241,MATCH($E14&"Yes",$G$2:$G$241,0)),_xlpm.goal,INDEX($I$2:$I$241,MATCH($E14&"Yes",$H$2:$H$241,0)),IF(OR(_xlpm.current = "[Select]", _xlpm.goal = "[Select]"),FALSE,IF(OR(AND(_xlpm.current<>"n/a",_xlpm.goal="Inadequate"), AND(_xlpm.goal = "Adequate", OR(_xlpm.current = "Adequate", _xlpm.current = "Optimal ")), AND(_xlpm.current = "Optimal ", _xlpm.goal <> 0)),TRUE,FALSE))),FALSE) -> FALSE | V14: =IFERROR(_xlfn.LET(_xlpm.current,INDEX($I$2:$I$241,MATCH($E14&"Yes",$G$2:$G$241,0)),_xlfn.LET(_xlpm.goal,INDEX($I$2:$I$241,MATCH($E14&"Yes",$H$2:$H$241,0)),IF(AND(_xlpm.current="n/a",_xlpm.goal="Inadequate"),TRUE,FALSE))),FALSE) -> FALSE | W14: =IFERROR(INDEX($L$2:$L$241,MATCH(E14&"Yes",$H$2:$H$241,0))=0,FALSE) -> FALSE | X14: =IFERROR(_xlfn.LET(_xlpm.current,INDEX($F$2:$F$241,MATCH($E14&"Yes",$G$2:$G$241,0)),_xlfn.LET(_xlpm.goal,INDEX($F$2:$F$241,MATCH($E14&"Yes",$H$2:$H$241,0)),IF(OR(IFERROR(_xlpm.current="Custom [Overwrite this text if selected]",FALSE),IFERROR(_xlpm.goal="Custom [Overwrite this text if selected]",FALSE),IFERROR(_xlpm.current="",FALSE),IFERROR(_xlpm.goal="",FALSE)),TRUE,FALSE))),FALSE) -> FALSE | Y14: =IFERROR(_xlfn.LET(_xlpm.current,INDEX($I$2:$I$241,MATCH($E14&"Yes",$G$2:$G$241,0)),_xlfn.LET(_xlpm.goal,INDEX($I$2:$I$241,MATCH($E14&"Yes",$H$2:$H$241,0)),IF(OR(IFERROR(_xlpm.current="[Select]",FALSE),IFERROR(_xlpm.goal="[Select]",FALSE),IFERROR(_xlpm.current="",FALSE),IFERROR(_xlpm.goal="",FALSE)),TRUE,FALSE))),FALSE) -> FALSE | Z14: =IFERROR(_xlfn.LET(_xlpm.matchPosition,MATCH(E14&"Yes",$H$2:$H$241,0),_xlpm.timescale,INDEX($L$2:$L$241,_xlpm.matchPosition),IF(OR(_xlpm.timescale=$AH$4,_xlpm.timescale=$AI$4),ISBLANK(INDEX($M$2:$M$241,_xlpm.matchPosition)))),FALSE) -> FALSE
D15: G2(F) | E15: =LEFT(D15,FIND("(",D15)-1) -> G2 | F15: The leaver's OneDrive account is kept. We rely on retention policies/labels to delete content in OneDrive content. | G15: =$E15&J15 -> G2 | H15: =$E15&K15 -> G2 | I15: Adequate | O15: =IF(COUNTIFS(J$2:J$241,"Yes",$E$2:$E$241,$E15)=0,TRUE,FALSE) -> TRUE | P15: =IF(COUNTIFS(J$2:J$241,"Yes",$E$2:$E$241,$E15)>1,TRUE,FALSE) -> FALSE | Q15: =IF(COUNTIFS(K$2:K$241,"Yes",$E$2:$E$241,$E15)=0,TRUE,FALSE) -> TRUE | R15: =IF(K15="Yes",IF(ISBLANK(L15),TRUE,FALSE),FALSE) -> FALSE | S15: =IF(OR(L15="Next Year",L15="Next Two Years"),IF(ISBLANK(M15),TRUE,FALSE),FALSE) -> FALSE | T15: =IF(COUNTIFS(K$2:K$241,"Yes",$E$2:$E$241,$E15)>1,TRUE,FALSE) -> FALSE | U15: =IFERROR(_xlfn.LET(_xlpm.current,INDEX($I$2:$I$241,MATCH($E15&"Yes",$G$2:$G$241,0)),_xlpm.goal,INDEX($I$2:$I$241,MATCH($E15&"Yes",$H$2:$H$241,0)),IF(OR(_xlpm.current = "[Select]", _xlpm.goal = "[Select]"),FALSE,IF(OR(AND(_xlpm.current<>"n/a",_xlpm.goal="Inadequate"), AND(_xlpm.goal = "Adequate", OR(_xlpm.current = "Adequate", _xlpm.current = "Optimal ")), AND(_xlpm.current = "Optimal ", _xlpm.goal <> 0)),TRUE,FALSE))),FALSE) -> FALSE | V15: =IFERROR(_xlfn.LET(_xlpm.current,INDEX($I$2:$I$241,MATCH($E15&"Yes",$G$2:$G$241,0)),_xlfn.LET(_xlpm.goal,INDEX($I$2:$I$241,MATCH($E15&"Yes",$H$2:$H$241,0)),IF(AND(_xlpm.current="n/a",_xlpm.goal="Inadequate"),TRUE,FALSE))),FALSE) -> FALSE | W15: =IFERROR(INDEX($L$2:$L$241,MATCH(E15&"Yes",$H$2:$H$241,0))=0,FALSE) -> FALSE | X15: =IFERROR(_xlfn.LET(_xlpm.current,INDEX($F$2:$F$241,MATCH($E15&"Yes",$G$2:$G$241,0)),_xlfn.LET(_xlpm.goal,INDEX($F$2:$F$241,MATCH($E15&"Yes",$H$2:$H$241,0)),IF(OR(IFERROR(_xlpm.current="Custom [Overwrite this text if selected]",FALSE),IFERROR(_xlpm.goal="Custom [Overwrite this text if selected]",FALSE),IFERROR(_xlpm.current="",FALSE),IFERROR(_xlpm.goal="",FALSE)),TRUE,FALSE))),FALSE) -> FALSE | Y15: =IFERROR(_xlfn.LET(_xlpm.current,INDEX($I$2:$I$241,MATCH($E15&"Yes",$G$2:$G$241,0)),_xlfn.LET(_xlpm.goal,INDEX($I$2:$I$241,MATCH($E15&"Yes",$H$2:$H$241,0)),IF(OR(IFERROR(_xlpm.current="[Select]",FALSE),IFERROR(_xlpm.goal="[Select]",FALSE),IFERROR(_xlpm.current="",FALSE),IFERROR(_xlpm.goal="",FALSE)),TRUE,FALSE))),FALSE) -> FALSE | Z15: =IFERROR(_xlfn.LET(_xlpm.matchPosition,MATCH(E15&"Yes",$H$2:$H$241,0),_xlpm.timescale,INDEX($L$2:$L$241,_xlpm.matchPosition),IF(OR(_xlpm.timescale=$AH$4,_xlpm.timescale=$AI$4),ISBLANK(INDEX($M$2:$M$241,_xlpm.matchPosition)))),FALSE) -> FALSE
D16: G2(G) | E16: =LEFT(D16,FIND("(",D16)-1) -> G2 | F16: Custom [Overwrite this text if selected] | G16: =$E16&J16 -> G2 | H16: =$E16&K16 -> G2 | I16: [Select] | O16: =IF(COUNTIFS(J$2:J$241,"Yes",$E$2:$E$241,$E16)=0,TRUE,FALSE) -> TRUE | P16: =IF(COUNTIFS(J$2:J$241,"Yes",$E$2:$E$241,$E16)>1,TRUE,FALSE) -> FALSE | Q16: =IF(COUNTIFS(K$2:K$241,"Yes",$E$2:$E$241,$E16)=0,TRUE,FALSE) -> TRUE | R16: =IF(K16="Yes",IF(ISBLANK(L16),TRUE,FALSE),FALSE) -> FALSE | S16: =IF(OR(L16="Next Year",L16="Next Two Years"),IF(ISBLANK(M16),TRUE,FALSE),FALSE) -> FALSE | T16: =IF(COUNTIFS(K$2:K$241,"Yes",$E$2:$E$241,$E16)>1,TRUE,FALSE) -> FALSE | U16: =IFERROR(_xlfn.LET(_xlpm.current,INDEX($I$2:$I$241,MATCH($E16&"Yes",$G$2:$G$241,0)),_xlpm.goal,INDEX($I$2:$I$241,MATCH($E16&"Yes",$H$2:$H$241,0)),IF(OR(_xlpm.current = "[Select]", _xlpm.goal = "[Select]"),FALSE,IF(OR(AND(_xlpm.current<>"n/a",_xlpm.goal="Inadequate"), AND(_xlpm.goal = "Adequate", OR(_xlpm.current = "Adequate", _xlpm.current = "Optimal ")), AND(_xlpm.current = "Optimal ", _xlpm.goal <> 0)),TRUE,FALSE))),FALSE) -> FALSE | V16: =IFERROR(_xlfn.LET(_xlpm.current,INDEX($I$2:$I$241,MATCH($E16&"Yes",$G$2:$G$241,0)),_xlfn.LET(_xlpm.goal,INDEX($I$2:$I$241,MATCH($E16&"Yes",$H$2:$H$241,0)),IF(AND(_xlpm.current="n/a",_xlpm.goal="Inadequate"),TRUE,FALSE))),FALSE) -> FALSE | W16: =IFERROR(INDEX($L$2:$L$241,MATCH(E16&"Yes",$H$2:$H$241,0))=0,FALSE) -> FALSE | X16: =IFERROR(_xlfn.LET(_xlpm.current,INDEX($F$2:$F$241,MATCH($E16&"Yes",$G$2:$G$241,0)),_xlfn.LET(_xlpm.goal,INDEX($F$2:$F$241,MATCH($E16&"Yes",$H$2:$H$241,0)),IF(OR(IFERROR(_xlpm.current="Custom [Overwrite this text if selected]",FALSE),IFERROR(_xlpm.goal="Custom [Overwrite this text if selected]",FALSE),IFERROR(_xlpm.current="",FALSE),IFERROR(_xlpm.goal="",FALSE)),TRUE,FALSE))),FALSE) -> FALSE | Y16: =IFERROR(_xlfn.LET(_xlpm.current,INDEX($I$2:$I$241,MATCH($E16&"Yes",$G$2:$G$241,0)),_xlfn.LET(_xlpm.goal,INDEX($I$2:$I$241,MATCH($E16&"Yes",$H$2:$H$241,0)),IF(OR(IFERROR(_xlpm.current="[Select]",FALSE),IFERROR(_xlpm.goal="[Select]",FALSE),IFERROR(_xlpm.current="",FALSE),IFERROR(_xlpm.goal="",FALSE)),TRUE,FALSE))),FALSE) -> FALSE | Z16: =IFERROR(_xlfn.LET(_xlpm.matchPosition,MATCH(E16&"Yes",$H$2:$H$241,0),_xlpm.timescale,INDEX($L$2:$L$241,_xlpm.matchPosition),IF(OR(_xlpm.timescale=$AH$4,_xlpm.timescale=$AI$4),ISBLANK(INDEX($M$2:$M$241,_xlpm.matchPosition)))),FALSE) -> FALSE
D17: G2(H) | E17: G2 | F17: Custom [Overwrite this text if selected] | G17: =$E17&J17 -> G2 | H17: =$E17&K17 -> G2 | I17: [Select] | O17: =IF(COUNTIFS(J$2:J$241,"Yes",$E$2:$E$241,$E17)=0,TRUE,FALSE) -> TRUE | P17: =IF(COUNTIFS(J$2:J$241,"Yes",$E$2:$E$241,$E17)>1,TRUE,FALSE) -> FALSE | Q17: =IF(COUNTIFS(K$2:K$241,"Yes",$E$2:$E$241,$E17)=0,TRUE,FALSE) -> TRUE | R17: =IF(K17="Yes",IF(ISBLANK(L17),TRUE,FALSE),FALSE) -> FALSE | S17: =IF(OR(L17="Next Year",L17="Next Two Years"),IF(ISBLANK(M17),TRUE,FALSE),FALSE) -> FALSE | T17: =IF(COUNTIFS(K$2:K$241,"Yes",$E$2:$E$241,$E17)>1,TRUE,FALSE) -> FALSE | U17: =IFERROR(_xlfn.LET(_xlpm.current,INDEX($I$2:$I$241,MATCH($E17&"Yes",$G$2:$G$241,0)),_xlpm.goal,INDEX($I$2:$I$241,MATCH($E17&"Yes",$H$2:$H$241,0)),IF(OR(_xlpm.current = "[Select]", _xlpm.goal = "[Select]"),FALSE,IF(OR(AND(_xlpm.current<>"n/a",_xlpm.goal="Inadequate"), AND(_xlpm.goal = "Adequate", OR(_xlpm.current = "Adequate", _xlpm.current = "Optimal ")), AND(_xlpm.current = "Optimal ", _xlpm.goal <> 0)),TRUE,FALSE))),FALSE) -> FALSE | V17: =IFERROR(_xlfn.LET(_xlpm.current,INDEX($I$2:$I$241,MATCH($E17&"Yes",$G$2:$G$241,0)),_xlfn.LET(_xlpm.goal,INDEX($I$2:$I$241,MATCH($E17&"Yes",$H$2:$H$241,0)),IF(AND(_xlpm.current="n/a",_xlpm.goal="Inadequate"),TRUE,FALSE))),FALSE) -> FALSE | W17: =IFERROR(INDEX($L$2:$L$241,MATCH(E17&"Yes",$H$2:$H$241,0))=0,FALSE) -> FALSE | X17: =IFERROR(_xlfn.LET(_xlpm.current,INDEX($F$2:$F$241,MATCH($E17&"Yes",$G$2:$G$241,0)),_xlfn.LET(_xlpm.goal,INDEX($F$2:$F$241,MATCH($E17&"Yes",$H$2:$H$241,0)),IF(OR(IFERROR(_xlpm.current="Custom [Overwrite this text if selected]",FALSE),IFERROR(_xlpm.goal="Custom [Overwrite this text if selected]",FALSE),IFERROR(_xlpm.current="",FALSE),IFERROR(_xlpm.goal="",FALSE)),TRUE,FALSE))),FALSE) -> FALSE | Y17: =IFERROR(_xlfn.LET(_xlpm.current,INDEX($I$2:$I$241,MATCH($E17&"Yes",$G$2:$G$241,0)),_xlfn.LET(_xlpm.goal,INDEX($I$2:$I$241,MATCH($E17&"Yes",$H$2:$H$241,0)),IF(OR(IFERROR(_xlpm.current="[Select]",FALSE),IFERROR(_xlpm.goal="[Select]",FALSE),IFERROR(_xlpm.current="",FALSE),IFERROR(_xlpm.goal="",FALSE)),TRUE,FALSE))),FALSE) -> FALSE | Z17: =IFERROR(_xlfn.LET(_xlpm.matchPosition,MATCH(E17&"Yes",$H$2:$H$241,0),_xlpm.timescale,INDEX($L$2:$L$241,_xlpm.matchPosition),IF(OR(_xlpm.timescale=$AH$4,_xlpm.timescale=$AI$4),ISBLANK(INDEX($M$2:$M$241,_xlpm.matchPosition)))),FALSE) -> FALSE
A18: G3 | B18: Governance | C18: If you use Outlook, what happens to a user’s content when they leave your organisation? | D18: G3(NA) | E18: =LEFT(D18,FIND("(",D18)-1) -> G3 | F18: Not applicable | G18: =$E18&J18 -> G3 | H18: =$E18&K18 -> G3 | I18: n/a | O18: =IF(COUNTIFS(J$2:J$241,"Yes",$E$2:$E$241,$E18)=0,TRUE,FALSE) -> TRUE | P18: =IF(COUNTIFS(J$2:J$241,"Yes",$E$2:$E$241,$E18)>1,TRUE,FALSE) -> FALSE | Q18: =IF(COUNTIFS(K$2:K$241,"Yes",$E$2:$E$241,$E18)=0,TRUE,FALSE) -> TRUE | R18: =IF(K18="Yes",IF(ISBLANK(L18),TRUE,FALSE),FALSE) -> FALSE | S18: =IF(OR(L18="Next Year",L18="Next Two Years"),IF(ISBLANK(M18),TRUE,FALSE),FALSE) -> FALSE | T18: =IF(COUNTIFS(K$2:K$241,"Yes",$E$2:$E$241,$E18)>1,TRUE,FALSE) -> FALSE | U18: =IFERROR(_xlfn.LET(_xlpm.current,INDEX($I$2:$I$241,MATCH($E18&"Yes",$G$2:$G$241,0)),_xlpm.goal,INDEX($I$2:$I$241,MATCH($E18&"Yes",$H$2:$H$241,0)),IF(OR(_xlpm.current = "[Select]", _xlpm.goal = "[Select]"),FALSE,IF(OR(AND(_xlpm.current<>"n/a",_xlpm.goal="Inadequate"), AND(_xlpm.goal = "Adequate", OR(_xlpm.current = "Adequate", _xlpm.current = "Optimal ")), AND(_xlpm.current = "Optimal ", _xlpm.goal <> 0)),TRUE,FALSE))),FALSE) -> FALSE | V18: =IFERROR(_xlfn.LET(_xlpm.current,INDEX($I$2:$I$241,MATCH($E18&"Yes",$G$2:$G$241,0)),_xlfn.LET(_xlpm.goal,INDEX($I$2:$I$241,MATCH($E18&"Yes",$H$2:$H$241,0)),IF(AND(_xlpm.current="n/a",_xlpm.goal="Inadequate"),TRUE,FALSE))),FALSE) -> FALSE | W18: =IFERROR(INDEX($L$2:$L$241,MATCH(E18&"Yes",$H$2:$H$241,0))=0,FALSE) -> FALSE | X18: =IFERROR(_xlfn.LET(_xlpm.current,INDEX($F$2:$F$241,MATCH($E18&"Yes",$G$2:$G$241,0)),_xlfn.LET(_xlpm.goal,INDEX($F$2:$F$241,MATCH($E18&"Yes",$H$2:$H$241,0)),IF(OR(IFERROR(_xlpm.current="Custom [Overwrite this text if selected]",FALSE),IFERROR(_xlpm.goal="Custom [Overwrite this text if selected]",FALSE),IFERROR(_xlpm.current="",FALSE),IFERROR(_xlpm.goal="",FALSE)),TRUE,FALSE))),FALSE) -> FALSE | Y18: =IFERROR(_xlfn.LET(_xlpm.current,INDEX($I$2:$I$241,MATCH($E18&"Yes",$G$2:$G$241,0)),_xlfn.LET(_xlpm.goal,INDEX($I$2:$I$241,MATCH($E18&"Yes",$H$2:$H$241,0)),IF(OR(IFERROR(_xlpm.current="[Select]",FALSE),IFERROR(_xlpm.goal="[Select]",FALSE),IFERROR(_xlpm.current="",FALSE),IFERROR(_xlpm.goal="",FALSE)),TRUE,FALSE))),FALSE) -> FALSE | Z18: =IFERROR(_xlfn.LET(_xlpm.matchPosition,MATCH(E18&"Yes",$H$2:$H$241,0),_xlpm.timescale,INDEX($L$2:$L$241,_xlpm.matchPosition),IF(OR(_xlpm.timescale=$AH$4,_xlpm.timescale=$AI$4),ISBLANK(INDEX($M$2:$M$241,_xlpm.matchPosition)))),FALSE) -> FALSE | AA18: {=_xlfn.LET( _xlpm.currentText,IF(OR(O18,P18),"- Please select exactly one current practice (or 'Not applicable')",""), _xlpm.goalsText,IF(T18,"- Please select exactly one goal",""), _xlpm.insufficientGoal,IF(U18,"- Note: selected goal is at same or lower level than current state",""), _xlpm.naToInadequate,IF(V18,"- Note: selected goal is inadequate",""), _xlpm.customGoalButNoDescription,IF(X18,"- Please provide a description for your custom state in column F",""), _xlpm.customGoalButNoMaturitySpecified,IF(Y18,"- Please select a maturity level for custom state",""), _xlpm.goalButNoTimescale,IF(W18,"- Please use the 'Improvement timescale' field to indicate how quickly improvement is planned for",""), _xlpm.timescaleButNoAction,IF(Z18,"- Please indicate what actions you intend to take to improve within the " & LOWER(L18),""), _xlpm.texts,_xlfn.VSTACK(_xlpm.currentText,_xlpm.goalsText,_xlpm.insufficientGoal,_xlpm.naToInadequate,_xlpm.customGoalButNoDescription,_xlpm.customGoalButNoMaturitySpecified,_xlpm.goalButNoTimescale,_xlpm.timescaleButNoAction), IFERROR(_xlfn.TEXTJOIN(CHAR(10),TRUE,_xlfn._xlws.FILTER(_xlpm.texts,_xlpm.texts <> "")),""))} -> - Please select exactly one current practice (or 'Not applicable')
D19: G3(A) | E19: =LEFT(D19,FIND("(",D19)-1) -> G3 | F19: The leaver's Outlook inbox is automatically deleted after the user leaves the organisation. Outlook content is rarely if ever reviewed before deletion. | G19: =$E19&J19 -> G3 | H19: =$E19&K19 -> G3 | I19: Inadequate | O19: =IF(COUNTIFS(J$2:J$241,"Yes",$E$2:$E$241,$E19)=0,TRUE,FALSE) -> TRUE | P19: =IF(COUNTIFS(J$2:J$241,"Yes",$E$2:$E$241,$E19)>1,TRUE,FALSE) -> FALSE | Q19: =IF(COUNTIFS(K$2:K$241,"Yes",$E$2:$E$241,$E19)=0,TRUE,FALSE) -> TRUE | R19: =IF(K19="Yes",IF(ISBLANK(L19),TRUE,FALSE),FALSE) -> FALSE | S19: =IF(OR(L19="Next Year",L19="Next Two Years"),IF(ISBLANK(M19),TRUE,FALSE),FALSE) -> FALSE | T19: =IF(COUNTIFS(K$2:K$241,"Yes",$E$2:$E$241,$E19)>1,TRUE,FALSE) -> FALSE | U19: =IFERROR(_xlfn.LET(_xlpm.current,INDEX($I$2:$I$241,MATCH($E19&"Yes",$G$2:$G$241,0)),_xlpm.goal,INDEX($I$2:$I$241,MATCH($E19&"Yes",$H$2:$H$241,0)),IF(OR(_xlpm.current = "[Select]", _xlpm.goal = "[Select]"),FALSE,IF(OR(AND(_xlpm.current<>"n/a",_xlpm.goal="Inadequate"), AND(_xlpm.goal = "Adequate", OR(_xlpm.current = "Adequate", _xlpm.current = "Optimal ")), AND(_xlpm.current = "Optimal ", _xlpm.goal <> 0)),TRUE,FALSE))),FALSE) -> FALSE | V19: =IFERROR(_xlfn.LET(_xlpm.current,INDEX($I$2:$I$241,MATCH($E19&"Yes",$G$2:$G$241,0)),_xlfn.LET(_xlpm.goal,INDEX($I$2:$I$241,MATCH($E19&"Yes",$H$2:$H$241,0)),IF(AND(_xlpm.current="n/a",_xlpm.goal="Inadequate"),TRUE,FALSE))),FALSE) -> FALSE | W19: =IFERROR(INDEX($L$2:$L$241,MATCH(E19&"Yes",$H$2:$H$241,0))=0,FALSE) -> FALSE | X19: =IFERROR(_xlfn.LET(_xlpm.current,INDEX($F$2:$F$241,MATCH($E19&"Yes",$G$2:$G$241,0)),_xlfn.LET(_xlpm.goal,INDEX($F$2:$F$241,MATCH($E19&"Yes",$H$2:$H$241,0)),IF(OR(IFERROR(_xlpm.current="Custom [Overwrite this text if selected]",FALSE),IFERROR(_xlpm.goal="Custom [Overwrite this text if selected]",FALSE),IFERROR(_xlpm.current="",FALSE),IFERROR(_xlpm.goal="",FALSE)),TRUE,FALSE))),FALSE) -> FALSE | Y19: =IFERROR(_xlfn.LET(_xlpm.current,INDEX($I$2:$I$241,MATCH($E19&"Yes",$G$2:$G$241,0)),_xlfn.LET(_xlpm.goal,INDEX($I$2:$I$241,MATCH($E19&"Yes",$H$2:$H$241,0)),IF(OR(IFERROR(_xlpm.current="[Select]",FALSE),IFERROR(_xlpm.goal="[Select]",FALSE),IFERROR(_xlpm.current="",FALSE),IFERROR(_xlpm.goal="",FALSE)),TRUE,FALSE))),FALSE) -> FALSE | Z19: =IFERROR(_xlfn.LET(_xlpm.matchPosition,MATCH(E19&"Yes",$H$2:$H$241,0),_xlpm.timescale,INDEX($L$2:$L$241,_xlpm.matchPosition),IF(OR(_xlpm.timescale=$AH$4,_xlpm.timescale=$AI$4),ISBLANK(INDEX($M$2:$M$241,_xlpm.matchPosition)))),FALSE) -> FALSE
D20: G3(B) | E20: =LEFT(D20,FIND("(",D20)-1) -> G3 | F20: The leaver's Outlook inbox is kept. We intend to introduce a plan in the future to manage information stored in the Outlook inboxes of former users. | G20: =$E20&J20 -> G3 | H20: =$E20&K20 -> G3 | I20: Inadequate | O20: =IF(COUNTIFS(J$2:J$241,"Yes",$E$2:$E$241,$E20)=0,TRUE,FALSE) -> TRUE | P20: =IF(COUNTIFS(J$2:J$241,"Yes",$E$2:$E$241,$E20)>1,TRUE,FALSE) -> FALSE | Q20: =IF(COUNTIFS(K$2:K$241,"Yes",$E$2:$E$241,$E20)=0,TRUE,FALSE) -> TRUE | R20: =IF(K20="Yes",IF(ISBLANK(L20),TRUE,FALSE),FALSE) -> FALSE | S20: =IF(OR(L20="Next Year",L20="Next Two Years"),IF(ISBLANK(M20),TRUE,FALSE),FALSE) -> FALSE | T20: =IF(COUNTIFS(K$2:K$241,"Yes",$E$2:$E$241,$E20)>1,TRUE,FALSE) -> FALSE | U20: =IFERROR(_xlfn.LET(_xlpm.current,INDEX($I$2:$I$241,MATCH($E20&"Yes",$G$2:$G$241,0)),_xlpm.goal,INDEX($I$2:$I$241,MATCH($E20&"Yes",$H$2:$H$241,0)),IF(OR(_xlpm.current = "[Select]", _xlpm.goal = "[Select]"),FALSE,IF(OR(AND(_xlpm.current<>"n/a",_xlpm.goal="Inadequate"), AND(_xlpm.goal = "Adequate", OR(_xlpm.current = "Adequate", _xlpm.current = "Optimal ")), AND(_xlpm.current = "Optimal ", _xlpm.goal <> 0)),TRUE,FALSE))),FALSE) -> FALSE | V20: =IFERROR(_xlfn.LET(_xlpm.current,INDEX($I$2:$I$241,MATCH($E20&"Yes",$G$2:$G$241,0)),_xlfn.LET(_xlpm.goal,INDEX($I$2:$I$241,MATCH($E20&"Yes",$H$2:$H$241,0)),IF(AND(_xlpm.current="n/a",_xlpm.goal="Inadequate"),TRUE,FALSE))),FALSE) -> FALSE | W20: =IFERROR(INDEX($L$2:$L$241,MATCH(E20&"Yes",$H$2:$H$241,0))=0,FALSE) -> FALSE | X20: =IFERROR(_xlfn.LET(_xlpm.current,INDEX($F$2:$F$241,MATCH($E20&"Yes",$G$2:$G$241,0)),_xlfn.LET(_xlpm.goal,INDEX($F$2:$F$241,MATCH($E20&"Yes",$H$2:$H$241,0)),IF(OR(IFERROR(_xlpm.current="Custom [Overwrite this text if selected]",FALSE),IFERROR(_xlpm.goal="Custom [Overwrite this text if selected]",FALSE),IFERROR(_xlpm.current="",FALSE),IFERROR(_xlpm.goal="",FALSE)),TRUE,FALSE))),FALSE) -> FALSE | Y20: =IFERROR(_xlfn.LET(_xlpm.current,INDEX($I$2:$I$241,MATCH($E20&"Yes",$G$2:$G$241,0)),_xlfn.LET(_xlpm.goal,INDEX($I$2:$I$241,MATCH($E20&"Yes",$H$2:$H$241,0)),IF(OR(IFERROR(_xlpm.current="[Select]",FALSE),IFERROR(_xlpm.goal="[Select]",FALSE),IFERROR(_xlpm.current="",FALSE),IFERROR(_xlpm.goal="",FALSE)),TRUE,FALSE))),FALSE) -> FALSE | Z20: =IFERROR(_xlfn.LET(_xlpm.matchPosition,MATCH(E20&"Yes",$H$2:$H$241,0),_xlpm.timescale,INDEX($L$2:$L$241,_xlpm.matchPosition),IF(OR(_xlpm.timescale=$AH$4,_xlpm.timescale=$AI$4),ISBLANK(INDEX($M$2:$M$241,_xlpm.matchPosition)))),FALSE) -> FALSE
D21: G3(C) | E21: =LEFT(D21,FIND("(",D21)-1) -> G3 | F21: The leaver's Outlook inbox is automatically deleted after the user leaves the organisation. The leaver is expected to manually review and move copies of any content of value for retention elsewhere. | G21: =$E21&J21 -> G3 | H21: =$E21&K21 -> G3 | I21: Adequate | O21: =IF(COUNTIFS(J$2:J$241,"Yes",$E$2:$E$241,$E21)=0,TRUE,FALSE) -> TRUE | P21: =IF(COUNTIFS(J$2:J$241,"Yes",$E$2:$E$241,$E21)>1,TRUE,FALSE) -> FALSE | Q21: =IF(COUNTIFS(K$2:K$241,"Yes",$E$2:$E$241,$E21)=0,TRUE,FALSE) -> TRUE | R21: =IF(K21="Yes",IF(ISBLANK(L21),TRUE,FALSE),FALSE) -> FALSE | S21: =IF(OR(L21="Next Year",L21="Next Two Years"),IF(ISBLANK(M21),TRUE,FALSE),FALSE) -> FALSE | T21: =IF(COUNTIFS(K$2:K$241,"Yes",$E$2:$E$241,$E21)>1,TRUE,FALSE) -> FALSE | U21: =IFERROR(_xlfn.LET(_xlpm.current,INDEX($I$2:$I$241,MATCH($E21&"Yes",$G$2:$G$241,0)),_xlpm.goal,INDEX($I$2:$I$241,MATCH($E21&"Yes",$H$2:$H$241,0)),IF(OR(_xlpm.current = "[Select]", _xlpm.goal = "[Select]"),FALSE,IF(OR(AND(_xlpm.current<>"n/a",_xlpm.goal="Inadequate"), AND(_xlpm.goal = "Adequate", OR(_xlpm.current = "Adequate", _xlpm.current = "Optimal ")), AND(_xlpm.current = "Optimal ", _xlpm.goal <> 0)),TRUE,FALSE))),FALSE) -> FALSE | V21: =IFERROR(_xlfn.LET(_xlpm.current,INDEX($I$2:$I$241,MATCH($E21&"Yes",$G$2:$G$241,0)),_xlfn.LET(_xlpm.goal,INDEX($I$2:$I$241,MATCH($E21&"Yes",$H$2:$H$241,0)),IF(AND(_xlpm.current="n/a",_xlpm.goal="Inadequate"),TRUE,FALSE))),FALSE) -> FALSE | W21: =IFERROR(INDEX($L$2:$L$241,MATCH(E21&"Yes",$H$2:$H$241,0))=0,FALSE) -> FALSE | X21: =IFERROR(_xlfn.LET(_xlpm.current,INDEX($F$2:$F$241,MATCH($E21&"Yes",$G$2:$G$241,0)),_xlfn.LET(_xlpm.goal,INDEX($F$2:$F$241,MATCH($E21&"Yes",$H$2:$H$241,0)),IF(OR(IFERROR(_xlpm.current="Custom [Overwrite this text if selected]",FALSE),IFERROR(_xlpm.goal="Custom [Overwrite this text if selected]",FALSE),IFERROR(_xlpm.current="",FALSE),IFERROR(_xlpm.goal="",FALSE)),TRUE,FALSE))),FALSE) -> FALSE | Y21: =IFERROR(_xlfn.LET(_xlpm.current,INDEX($I$2:$I$241,MATCH($E21&"Yes",$G$2:$G$241,0)),_xlfn.LET(_xlpm.goal,INDEX($I$2:$I$241,MATCH($E21&"Yes",$H$2:$H$241,0)),IF(OR(IFERROR(_xlpm.current="[Select]",FALSE),IFERROR(_xlpm.goal="[Select]",FALSE),IFERROR(_xlpm.current="",FALSE),IFERROR(_xlpm.goal="",FALSE)),TRUE,FALSE))),FALSE) -> FALSE | Z21: =IFERROR(_xlfn.LET(_xlpm.matchPosition,MATCH(E21&"Yes",$H$2:$H$241,0),_xlpm.timescale,INDEX($L$2:$L$241,_xlpm.matchPosition),IF(OR(_xlpm.timescale=$AH$4,_xlpm.timescale=$AI$4),ISBLANK(INDEX($M$2:$M$241,_xlpm.matchPosition)))),FALSE) -> FALSE
D22: G3(D) | E22: =LEFT(D22,FIND("(",D22)-1) -> G3 | F22: The leaver's line manager can review the content and copy anything that needs to be kept, then the Outlook inbox is automatically deleted. | G22: =$E22&J22 -> G3 | H22: =$E22&K22 -> G3 | I22: Adequate | O22: =IF(COUNTIFS(J$2:J$241,"Yes",$E$2:$E$241,$E22)=0,TRUE,FALSE) -> TRUE | P22: =IF(COUNTIFS(J$2:J$241,"Yes",$E$2:$E$241,$E22)>1,TRUE,FALSE) -> FALSE | Q22: =IF(COUNTIFS(K$2:K$241,"Yes",$E$2:$E$241,$E22)=0,TRUE,FALSE) -> TRUE | R22: =IF(K22="Yes",IF(ISBLANK(L22),TRUE,FALSE),FALSE) -> FALSE | S22: =IF(OR(L22="Next Year",L22="Next Two Years"),IF(ISBLANK(M22),TRUE,FALSE),FALSE) -> FALSE | T22: =IF(COUNTIFS(K$2:K$241,"Yes",$E$2:$E$241,$E22)>1,TRUE,FALSE) -> FALSE | U22: =IFERROR(_xlfn.LET(_xlpm.current,INDEX($I$2:$I$241,MATCH($E22&"Yes",$G$2:$G$241,0)),_xlpm.goal,INDEX($I$2:$I$241,MATCH($E22&"Yes",$H$2:$H$241,0)),IF(OR(_xlpm.current = "[Select]", _xlpm.goal = "[Select]"),FALSE,IF(OR(AND(_xlpm.current<>"n/a",_xlpm.goal="Inadequate"), AND(_xlpm.goal = "Adequate", OR(_xlpm.current = "Adequate", _xlpm.current = "Optimal ")), AND(_xlpm.current = "Optimal ", _xlpm.goal <> 0)),TRUE,FALSE))),FALSE) -> FALSE | V22: =IFERROR(_xlfn.LET(_xlpm.current,INDEX($I$2:$I$241,MATCH($E22&"Yes",$G$2:$G$241,0)),_xlfn.LET(_xlpm.goal,INDEX($I$2:$I$241,MATCH($E22&"Yes",$H$2:$H$241,0)),IF(AND(_xlpm.current="n/a",_xlpm.goal="Inadequate"),TRUE,FALSE))),FALSE) -> FALSE | W22: =IFERROR(INDEX($L$2:$L$241,MATCH(E22&"Yes",$H$2:$H$241,0))=0,FALSE) -> FALSE | X22: =IFERROR(_xlfn.LET(_xlpm.current,INDEX($F$2:$F$241,MATCH($E22&"Yes",$G$2:$G$241,0)),_xlfn.LET(_xlpm.goal,INDEX($F$2:$F$241,MATCH($E22&"Yes",$H$2:$H$241,0)),IF(OR(IFERROR(_xlpm.current="Custom [Overwrite this text if selected]",FALSE),IFERROR(_xlpm.goal="Custom [Overwrite this text if selected]",FALSE),IFERROR(_xlpm.current="",FALSE),IFERROR(_xlpm.goal="",FALSE)),TRUE,FALSE))),FALSE) -> FALSE | Y22: =IFERROR(_xlfn.LET(_xlpm.current,INDEX($I$2:$I$241,MATCH($E22&"Yes",$G$2:$G$241,0)),_xlfn.LET(_xlpm.goal,INDEX($I$2:$I$241,MATCH($E22&"Yes",$H$2:$H$241,0)),IF(OR(IFERROR(_xlpm.current="[Select]",FALSE),IFERROR(_xlpm.goal="[Select]",FALSE),IFERROR(_xlpm.current="",FALSE),IFERROR(_xlpm.goal="",FALSE)),TRUE,FALSE))),FALSE) -> FALSE | Z22: =IFERROR(_xlfn.LET(_xlpm.matchPosition,MATCH(E22&"Yes",$H$2:$H$241,0),_xlpm.timescale,INDEX($L$2:$L$241,_xlpm.matchPosition),IF(OR(_xlpm.timescale=$AH$4,_xlpm.timescale=$AI$4),ISBLANK(INDEX($M$2:$M$241,_xlpm.matchPosition)))),FALSE) -> FALSE
