Workbook

Sheet Introduction
A1: Introduction
A2: As part of its Information Management Assessment offering, TNA has developed the M365 KIM Maturity Assessment Tool to help organisations subject to the Public Records Act evaluate the effectiveness of their information and records management practices within M365 environments. The tool is based on the M365 Information Governance Maturity Model, maintained by the Information and Records Management Society (IRMS) through an international working group of national archives and records management specialists. This group provides oversight by continuously reviewing emerging M365 features, determining when updates are required, and conducting benchmarking exercises with the wider records management community to ensure that best practice definitions reflect current consensus. These benchmarking exercises give the tool collective legitimacy, grounded in what multiple Information Governance experts consider best practice. However, it is important to note that alternative approaches may also meet KIM requirements within individual organisations. This version of the Assessment Tool represents the second iteration, built on the latest update of the M365 Information Governance Maturity Model. In addition to updated content, the tool now offers enhanced interactive functionality, including improved data visualisation and action planning features.
A3: M365 KIM Maturity Assessment Tool version 2.0
A4: Developed by The National Archives, UK
A5: Contact at ima@nationalarchives.gov.uk

Sheet Organisational Details
A1: Organisational Details
A2: Department
A3: Date
A4: Contact
A5: Role
A6: Review Date

Sheet Governance
A1: ID | B1: Theme | C1: Question | G1: Current concat | H1: Goal concat | J1: Current Practice (Select one) | K1: Improvement goal (Select one) | L1: Improvement timescale | M1: We will take the following action(s)… | N1: Comments | O1: No current | P1: Multiple Current | Q1: No goal | R1: Inidividual goal no timescale | S1: Individual need following action | T1: Multiple Goals | U1: Goal <= Current | V1: n/a -> inadequate | W1: Goal but no timescale | X1: Custom selected but description not changed | Y1: Custom level needed but not specified | Z1: Timescale but no action
A2: G1 | B2: Governance | C2: If you use Microsoft 365, do you have a committee or board to oversee the use, architecture and configuration of your Microsoft 365 tenant? (NB, this is especially important if your Microsoft 365 tenant is shared by multiple organisations) | D2: G1(NA) | E2: =LEFT(D2,FIND("(",D2)-1) -> G1 | F2: Not applicable | G2: =$E2&J2 -> G1 | H2: =$E2&K2 -> G1 | I2: n/a | O2: =IF(COUNTIFS(J$2:J$241,"Yes",$E$2:$E$241,$E2)=0,TRUE,FALSE) -> TRUE | P2: =IF(COUNTIFS(J$2:J$241,"Yes",$E$2:$E$241,$E2)>1,TRUE,FALSE) -> FALSE | Q2: =IF(COUNTIFS(K$2:K$241,"Yes",$E$2:$E$241,$E2)=0,TRUE,FALSE) -> TRUE | R2: =IF(K2="Yes",IF(ISBLANK(L2),TRUE,FALSE),FALSE) -> FALSE | S2: =IF(OR(L2="Next Year",L2="Next Two Years"),IF(ISBLANK(M2),TRUE,FALSE),FALSE) -> FALSE | T2: =IF(COUNTIFS(K$2:K$241,"Yes",$E$2:$E$241,$E2)>1,TRUE,FALSE) -> FALSE | U2: =IFERROR(_xlfn.LET(_xlpm.current,INDEX($I$2:$I$241,MATCH($E2&"Yes",$G$2:$G$241,0)),_xlpm.goal,INDEX($I$2:$I$241,MATCH($E2&"Yes",$H$2:$H$241,0)),IF(OR(_xlpm.current = "[Select]", _xlpm.goal = "[Select]"),FALSE,IF(OR(AND(_xlpm.current<>"n/a",_xlpm.goal="Inadequate"), AND(_xlpm.goal = "Adequate", OR(_xlpm.current = "Adequate", _xlpm.current = "Optimal ")), AND(_xlpm.current = "Optimal ", _xlpm.goal <> 0)),TRUE,FALSE))),FALSE) -> FALSE | V2: =IFERROR(_xlfn.LET(_xlpm.current,INDEX($I$2:$I$241,MATCH($E2&"Yes",$G$2:$G$241,0)),_xlfn.LET(_xlpm.goal,INDEX($I$2:$I$241,MATCH($E2&"Yes",$H$2:$H$241,0)),IF(AND(_xlpm.current="n/a",_xlpm.goal="Inadequate"),TRUE,FALSE))),FALSE) -> FALSE | W2: =IFERROR(INDEX($L$2:$L$241,MATCH(E2&"Yes",$H$2:$H$241,0))=0,FALSE) -> FALSE | X2: =IFERROR(_xlfn.LET(_xlpm.current,INDEX($F$2:$F$241,MATCH($E2&"Yes",$G$2:$G$241,0)),_xlfn.LET(_xlpm.goal,INDEX($F$2:$F$241,MATCH($E2&"Yes",$H$2:$H$241,0)),IF(OR(IFERROR(_xlpm.current="Custom [Overwrite this text if selected]",FALSE),IFERROR(_xlpm.goal="Custom [Overwrite this text if selected]",FALSE),IFERROR(_xlpm.current="",FALSE),IFERROR(_xlpm.goal="",FALSE)),TRUE,FALSE))),FALSE) -> FALSE | Y2: =IFERROR(_xlfn.LET(_xlpm.current,INDEX($I$2:$I$241,MATCH($E2&"Yes",$G$2:$G$241,0)),_xlfn.LET(_xlpm.goal,INDEX($I$2:$I$241,MATCH($E2&"Yes",$H$2:$H$241,0)),IF(OR(IFERROR(_xlpm.current="[Select]",FALSE),IFERROR(_xlpm.goal="[Select]",FALSE),IFERROR(_xlpm.current="",FALSE),IFERROR(_xlpm.goal="",FALSE)),TRUE,FALSE))),FALSE) -> FALSE | Z2: =IFERROR(_xlfn.LET(_xlpm.matchPosition,MATCH(E2&"Yes",$H$2:$H$241,0),_xlpm.timescale,INDEX($L$2:$L$241,_xlpm.matchPosition),IF(OR(_xlpm.timescale=$AH$4,_xlpm.timescale=$AI$4),ISBLANK(INDEX($M$2:$M$241,_xlpm.matchPosition)))),FALSE) -> FALSE | AA2: {=_xlfn.LET( _xlpm.currentText,IF(OR(O2,P2),"- Please select exactly one current practice (or 'Not applicable')",""), _xlpm.goalsText,IF(T2,"- Please select exactly one goal",""), _xlpm.insufficientGoal,IF(U2,"- Note: selected goal is at same or lower level than current state",""), _xlpm.naToInadequate,IF(V2,"- Note: selected goal is inadequate",""), _xlpm.customGoalButNoDescription,IF(X2,"- Please provide a description for your custom state in column F",""), _xlpm.customGoalButNoMaturitySpecified,IF(Y2,"- Please select a maturity level for custom state",""), _xlpm.goalButNoTimescale,IF(W2,"- Please use the 'Improvement timescale' field to indicate how quickly improvement is planned for",""), _xlpm.timescaleButNoAction,IF(Z2,"- Please indicate what actions you intend to take to improve within the " & LOWER(L2),""), _xlpm.texts,_xlfn.VSTACK(_xlpm.currentText,_xlpm.goalsText,_xlpm.insufficientGoal,_xlpm.naToInadequate,_xlpm.customGoalButNoDescription,_xlpm.customGoalButNoMaturitySpecified,_xlpm.goalButNoTimescale,_xlpm.timescaleButNoAction), IFERROR(_xlfn.TEXTJOIN(CHAR(10),TRUE,_xlfn._xlws.FILTER(_xlpm.texts,_xlpm.texts <> "")),""))} -> - Please select exactly one current practice (or 'Not applicable') | AH2: Yes
D3: G1(A) | E3: =LEFT(D3,FIND("(",D3)-1) -> G1 | F3: We don't have a committee or a board, but our Microsoft 365 tenant has a clear ownership model. Issues and requests are difficult to raise and/or KIM/information governance needs are not always addressed. | G3: =$E3&J3 -> G1 | H3: =$E3&K3 -> G1 | I3: Inadequate | O3: =IF(COUNTIFS(J$2:J$241,"Yes",$E$2:$E$241,$E3)=0,TRUE,FALSE) -> TRUE | P3: =IF(COUNTIFS(J$2:J$241,"Yes",$E$2:$E$241,$E3)>1,TRUE,FALSE) -> FALSE | Q3: =IF(COUNTIFS(K$2:K$241,"Yes",$E$2:$E$241,$E3)=0,TRUE,FALSE) -> TRUE | R3: =IF(K3="Yes",IF(ISBLANK(L3),TRUE,FALSE),FALSE) -> FALSE | S3: =IF(OR(L3="Next Year",L3="Next Two Years"),IF(ISBLANK(M3),TRUE,FALSE),FALSE) -> FALSE | T3: =IF(COUNTIFS(K$2:K$241,"Yes",$E$2:$E$241,$E3)>1,TRUE,FALSE) -> FALSE | U3: =IFERROR(_xlfn.LET(_xlpm.current,INDEX($I$2:$I$241,MATCH($E3&"Yes",$G$2:$G$241,0)),_xlpm.goal,INDEX($I$2:$I$241,MATCH($E3&"Yes",$H$2:$H$241,0)),IF(OR(_xlpm.current = "[Select]", _xlpm.goal = "[Select]"),FALSE,IF(OR(AND(_xlpm.current<>"n/a",_xlpm.goal="Inadequate"), AND(_xlpm.goal = "Adequate", OR(_xlpm.current = "Adequate", _xlpm.current = "Optimal ")), AND(_xlpm.current = "Optimal ", _xlpm.goal <> 0)),TRUE,FALSE))),FALSE) -> FALSE | V3: =IFERROR(_xlfn.LET(_xlpm.current,INDEX($I$2:$I$241,MATCH($E3&"Yes",$G$2:$G$241,0)),_xlfn.LET(_xlpm.goal,INDEX($I$2:$I$241,MATCH($E3&"Yes",$H$2:$H$241,0)),IF(AND(_xlpm.current="n/a",_xlpm.goal="Inadequate"),TRUE,FALSE))),FALSE) -> FALSE | W3: =IFERROR(INDEX($L$2:$L$241,MATCH(E3&"Yes",$H$2:$H$241,0))=0,FALSE) -> FALSE | X3: =IFERROR(_xlfn.LET(_xlpm.current,INDEX($F$2:$F$241,MATCH($E3&"Yes",$G$2:$G$241,0)),_xlfn.LET(_xlpm.goal,INDEX($F$2:$F$241,MATCH($E3&"Yes",$H$2:$H$241,0)),IF(OR(IFERROR(_xlpm.current="Custom [Overwrite this text if selected]",FALSE),IFERROR(_xlpm.goal="Custom [Overwrite this text if selected]",FALSE),IFERROR(_xlpm.current="",FALSE),IFERROR(_xlpm.goal="",FALSE)),TRUE,FALSE))),FALSE) -> FALSE | Y3: =IFERROR(_xlfn.LET(_xlpm.current,INDEX($I$2:$I$241,MATCH($E3&"Yes",$G$2:$G$241,0)),_xlfn.LET(_xlpm.goal,INDEX($I$2:$I$241,MATCH($E3&"Yes",$H$2:$H$241,0)),IF(OR(IFERROR(_xlpm.current="[Select]",FALSE),IFERROR(_xlpm.goal="[Select]",FALSE),IFERROR(_xlpm.current="",FALSE),IFERROR(_xlpm.goal="",FALSE)),TRUE,FALSE))),FALSE) -> FALSE | Z3: =IFERROR(_xlfn.LET(_xlpm.matchPosition,MATCH(E3&"Yes",$H$2:$H$241,0),_xlpm.timescale,INDEX($L$2:$L$241,_xlpm.matchPosition),IF(OR(_xlpm.timescale=$AH$4,_xlpm.timescale=$AI$4),ISBLANK(INDEX($M$2:$M$241,_xlpm.matchPosition)))),FALSE) -> FALSE
D4: G1(B) | E4: =LEFT(D4,FIND("(",D4)-1) -> G1 | F4: It is not clear who is responsible for overseeing our Microsoft 365 tenant. | G4: =$E4&J4 -> G1 | H4: =$E4&K4 -> G1 | I4: Inadequate | O4: =IF(COUNTIFS(J$2:J$241,"Yes",$E$2:$E$241,$E4)=0,TRUE,FALSE) -> TRUE | P4: =IF(COUNTIFS(J$2:J$241,"Yes",$E$2:$E$241,$E4)>1,TRUE,FALSE) -> FALSE | Q4: =IF(COUNTIFS(K$2:K$241,"Yes",$E$2:$E$241,$E4)=0,TRUE,FALSE) -> TRUE | R4: =IF(K4="Yes",IF(ISBLANK(L4),TRUE,FALSE),FALSE) -> FALSE | S4: =IF(OR(L4="Next Year",L4="Next Two Years"),IF(ISBLANK(M4),TRUE,FALSE),FALSE) -> FALSE | T4: =IF(COUNTIFS(K$2:K$241,"Yes",$E$2:$E$241,$E4)>1,TRUE,FALSE) -> FALSE | U4: =IFERROR(_xlfn.LET(_xlpm.current,INDEX($I$2:$I$241,MATCH($E4&"Yes",$G$2:$G$241,0)),_xlpm.goal,INDEX($I$2:$I$241,MATCH($E4&"Yes",$H$2:$H$241,0)),IF(OR(_xlpm.current = "[Select]", _xlpm.goal = "[Select]"),FALSE,IF(OR(AND(_xlpm.current<>"n/a",_xlpm.goal="Inadequate"), AND(_xlpm.goal = "Adequate", OR(_xlpm.current = "Adequate", _xlpm.current = "Optimal ")), AND(_xlpm.current = "Optimal ", _xlpm.goal <> 0)),TRUE,FALSE))),FALSE) -> FALSE | V4: =IFERROR(_xlfn.LET(_xlpm.current,INDEX($I$2:$I$241,MATCH($E4&"Yes",$G$2:$G$241,0)),_xlfn.LET(_xlpm.goal,INDEX($I$2:$I$241,MATCH($E4&"Yes",$H$2:$H$241,0)),IF(AND(_xlpm.current="n/a",_xlpm.goal="Inadequate"),TRUE,FALSE))),FALSE) -> FALSE | W4: =IFERROR(INDEX($L$2:$L$241,MATCH(E4&"Yes",$H$2:$H$241,0))=0,FALSE) -> FALSE | X4: =IFERROR(_xlfn.LET(_xlpm.current,INDEX($F$2:$F$241,MATCH($E4&"Yes",$G$2:$G$241,0)),_xlfn.LET(_xlpm.goal,INDEX($F$2:$F$241,MATCH($E4&"Yes",$H$2:$H$241,0)),IF(OR(IFERROR(_xlpm.current="Custom [Overwrite this text if selected]",FALSE),IFERROR(_xlpm.goal="Custom [Overwrite this text if selected]",FALSE),IFERROR(_xlpm.current="",FALSE),IFERROR(_xlpm.goal="",FALSE)),TRUE,FALSE))),FALSE) -> FALSE | Y4: =IFERROR(_xlfn.LET(_xlpm.current,INDEX($I$2:$I$241,MATCH($E4&"Yes",$G$2:$G$241,0)),_xlfn.LET(_xlpm.goal,INDEX($I$2:$I$241,MATCH($E4&"Yes",$H$2:$H$241,0)),IF(OR(IFERROR(_xlpm.current="[Select]",FALSE),IFERROR(_xlpm.goal="[Select]",FALSE),IFERROR(_xlpm.current="",FALSE),IFERROR(_xlpm.goal="",FALSE)),TRUE,FALSE))),FALSE) -> FALSE | Z4: =IFERROR(_xlfn.LET(_xlpm.matchPosition,MATCH(E4&"Yes",$H$2:$H$241,0),_xlpm.timescale,INDEX($L$2:$L$241,_xlpm.matchPosition),IF(OR(_xlpm.timescale=$AH$4,_xlpm.timescale=$AI$4),ISBLANK(INDEX($M$2:$M$241,_xlpm.matchPosition)))),FALSE) -> FALSE | AH4: Next Year | AI4: Next Two Years | AJ4: Long Term | AK4: No Action
D5: G1(C) | E5: =LEFT(D5,FIND("(",D5)-1) -> G1 | F5: We have a committee / board who own and make decisions around the way our Microsoft 365 tenant is used, however the process of raising requests and changes with this board isn't clearly defined. | G5: =$E5&J5 -> G1 | H5: =$E5&K5 -> G1 | I5: Inadequate | O5: =IF(COUNTIFS(J$2:J$241,"Yes",$E$2:$E$241,$E5)=0,TRUE,FALSE) -> TRUE | P5: =IF(COUNTIFS(J$2:J$241,"Yes",$E$2:$E$241,$E5)>1,TRUE,FALSE) -> FALSE | Q5: =IF(COUNTIFS(K$2:K$241,"Yes",$E$2:$E$241,$E5)=0,TRUE,FALSE) -> TRUE | R5: =IF(K5="Yes",IF(ISBLANK(L5),TRUE,FALSE),FALSE) -> FALSE | S5: =IF(OR(L5="Next Year",L5="Next Two Years"),IF(ISBLANK(M5),TRUE,FALSE),FALSE) -> FALSE | T5: =IF(COUNTIFS(K$2:K$241,"Yes",$E$2:$E$241,$E5)>1,TRUE,FALSE) -> FALSE | U5: =IFERROR(_xlfn.LET(_xlpm.current,INDEX($I$2:$I$241,MATCH($E5&"Yes",$G$2:$G$241,0)),_xlpm.goal,INDEX($I$2:$I$241,MATCH($E5&"Yes",$H$2:$H$241,0)),IF(OR(_xlpm.current = "[Select]", _xlpm.goal = "[Select]"),FALSE,IF(OR(AND(_xlpm.current<>"n/a",_xlpm.goal="Inadequate"), AND(_xlpm.goal = "Adequate", OR(_xlpm.current = "Adequate", _xlpm.current = "Optimal ")), AND(_xlpm.current = "Optimal ", _xlpm.goal <> 0)),TRUE,FALSE))),FALSE) -> FALSE | V5: =IFERROR(_xlfn.LET(_xlpm.current,INDEX($I$2:$I$241,MATCH($E5&"Yes",$G$2:$G$241,0)),_xlfn.LET(_xlpm.goal,INDEX($I$2:$I$241,MATCH($E5&"Yes",$H$2:$H$241,0)),IF(AND(_xlpm.current="n/a",_xlpm.goal="Inadequate"),TRUE,FALSE))),FALSE) -> FALSE | W5: =IFERROR(INDEX($L$2:$L$241,MATCH(E5&"Yes",$H$2:$H$241,0))=0,FALSE) -> FALSE | X5: =IFERROR(_xlfn.LET(_xlpm.current,INDEX($F$2:$F$241,MATCH($E5&"Yes",$G$2:$G$241,0)),_xlfn.LET(_xlpm.goal,INDEX($F$2:$F$241,MATCH($E5&"Yes",$H$2:$H$241,0)),IF(OR(IFERROR(_xlpm.current="Custom [Overwrite this text if selected]",FALSE),IFERROR(_xlpm.goal="Custom [Overwrite this text if selected]",FALSE),IFERROR(_xlpm.current="",FALSE),IFERROR(_xlpm.goal="",FALSE)),TRUE,FALSE))),FALSE) -> FALSE | Y5: =IFERROR(_xlfn.LET(_xlpm.current,INDEX($I$2:$I$241,MATCH($E5&"Yes",$G$2:$G$241,0)),_xlfn.LET(_xlpm.goal,INDEX($I$2:$I$241,MATCH($E5&"Yes",$H$2:$H$241,0)),IF(OR(IFERROR(_xlpm.current="[Select]",FALSE),IFERROR(_xlpm.goal="[Select]",FALSE),IFERROR(_xlpm.current="",FALSE),IFERROR(_xlpm.goal="",FALSE)),TRUE,FALSE))),FALSE) -> FALSE | Z5: =IFERROR(_xlfn.LET(_xlpm.matchPosition,MATCH(E5&"Yes",$H$2:$H$241,0),_xlpm.timescale,INDEX($L$2:$L$241,_xlpm.matchPosition),IF(OR(_xlpm.timescale=$AH$4,_xlpm.timescale=$AI$4),ISBLANK(INDEX($M$2:$M$241,_xlpm.matchPosition)))),FALSE) -> FALSE
D6: G1(D) | E6: =LEFT(D6,FIND("(",D6)-1) -> G1 | F6: We have a committee / board who own and make decisions around the way that our Microsoft 365 tenant is used. This committee ensures that stakeholders (including knowledge and information managers, records managers, information security, governance and user representatives) are empowered to influence the way our organisation chooses to use Microsoft 365. | G6: =$E6&J6 -> G1 | H6: =$E6&K6 -> G1 | I6: Optimal | O6: =IF(COUNTIFS(J$2:J$241,"Yes",$E$2:$E$241,$E6)=0,TRUE,FALSE) -> TRUE | P6: =IF(COUNTIFS(J$2:J$241,"Yes",$E$2:$E$241,$E6)>1,TRUE,FALSE) -> FALSE | Q6: =IF(COUNTIFS(K$2:K$241,"Yes",$E$2:$E$241,$E6)=0,TRUE,FALSE) -> TRUE | R6: =IF(K6="Yes",IF(ISBLANK(L6),TRUE,FALSE),FALSE) -> FALSE | S6: =IF(OR(L6="Next Year",L6="Next Two Years"),IF(ISBLANK(M6),TRUE,FALSE),FALSE) -> FALSE | T6: =IF(COUNTIFS(K$2:K$241,"Yes",$E$2:$E$241,$E6)>1,TRUE,FALSE) -> FALSE | U6: =IFERROR(_xlfn.LET(_xlpm.current,INDEX($I$2:$I$241,MATCH($E6&"Yes",$G$2:$G$241,0)),_xlpm.goal,INDEX($I$2:$I$241,MATCH($E6&"Yes",$H$2:$H$241,0)),IF(OR(_xlpm.current = "[Select]", _xlpm.goal = "[Select]"),FALSE,IF(OR(AND(_xlpm.current<>"n/a",_xlpm.goal="Inadequate"), AND(_xlpm.goal = "Adequate", OR(_xlpm.current = "Adequate", _xlpm.current = "Optimal ")), AND(_xlpm.current = "Optimal ", _xlpm.goal <> 0)),TRUE,FALSE))),FALSE) -> FALSE | V6: =IFERROR(_xlfn.LET(_xlpm.current,INDEX($I$2:$I$241,MATCH($E6&"Yes",$G$2:$G$241,0)),_xlfn.LET(_xlpm.goal,INDEX($I$2:$I$241,MATCH($E6&"Yes",$H$2:$H$241,0)),IF(AND(_xlpm.current="n/a",_xlpm.goal="Inadequate"),TRUE,FALSE))),FALSE) -> FALSE | W6: =IFERROR(INDEX($L$2:$L$241,MATCH(E6&"Yes",$H$2:$H$241,0))=0,FALSE) -> FALSE | X6: =IFERROR(_xlfn.LET(_xlpm.current,INDEX($F$2:$F$241,MATCH($E6&"Yes",$G$2:$G$241,0)),_xlfn.LET(_xlpm.goal,INDEX($F$2:$F$241,MATCH($E6&"Yes",$H$2:$H$241,0)),IF(OR(IFERROR(_xlpm.current="Custom [Overwrite this text if selected]",FALSE),IFERROR(_xlpm.goal="Custom [Overwrite this text if selected]",FALSE),IFERROR(_xlpm.current="",FALSE),IFERROR(_xlpm.goal="",FALSE)),TRUE,FALSE))),FALSE) -> FALSE | Y6: =IFERROR(_xlfn.LET(_xlpm.current,INDEX($I$2:$I$241,MATCH($E6&"Yes",$G$2:$G$241,0)),_xlfn.LET(_xlpm.goal,INDEX($I$2:$I$241,MATCH($E6&"Yes",$H$2:$H$241,0)),IF(OR(IFERROR(_xlpm.current="[Select]",FALSE),IFERROR(_xlpm.goal="[Select]",FALSE),IFERROR(_xlpm.current="",FALSE),IFERROR(_xlpm.goal="",FALSE)),TRUE,FALSE))),FALSE) -> FALSE | Z6: =IFERROR(_xlfn.LET(_xlpm.matchPosition,MATCH(E6&"Yes",$H$2:$H$241,0),_xlpm.timescale,INDEX($L$2:$L$241,_xlpm.matchPosition),IF(OR(_xlpm.timescale=$AH$4,_xlpm.timescale=$AI$4),ISBLANK(INDEX($M$2:$M$241,_xlpm.matchPosition)))),FALSE) -> FALSE
D7: G1(E) | E7: =LEFT(D7,FIND("(",D7)-1) -> G1 | F7: Custom [Overwrite this text if selected] | G7: =$E7&J7 -> G1 | H7: =$E7&K7 -> G1 | I7: [Select] | O7: =IF(COUNTIFS(J$2:J$241,"Yes",$E$2:$E$241,$E7)=0,TRUE,FALSE) -> TRUE | P7: =IF(COUNTIFS(J$2:J$241,"Yes",$E$2:$E$241,$E7)>1,TRUE,FALSE) -> FALSE | Q7: =IF(COUNTIFS(K$2:K$241,"Yes",$E$2:$E$241,$E7)=0,TRUE,FALSE) -> TRUE | R7: =IF(K7="Yes",IF(ISBLANK(L7),TRUE,FALSE),FALSE) -> FALSE | S7: =IF(OR(L7="Next Year",L7="Next Two Years"),IF(ISBLANK(M7),TRUE,FALSE),FALSE) -> FALSE | T7: =IF(COUNTIFS(K$2:K$241,"Yes",$E$2:$E$241,$E7)>1,TRUE,FALSE) -> FALSE | U7: =IFERROR(_xlfn.LET(_xlpm.current,INDEX($I$2:$I$241,MATCH($E7&"Yes",$G$2:$G$241,0)),_xlpm.goal,INDEX($I$2:$I$241,MATCH($E7&"Yes",$H$2:$H$241,0)),IF(OR(_xlpm.current = "[Select]", _xlpm.goal = "[Select]"),FALSE,IF(OR(AND(_xlpm.current<>"n/a",_xlpm.goal="Inadequate"), AND(_xlpm.goal = "Adequate", OR(_xlpm.current = "Adequate", _xlpm.current = "Optimal ")), AND(_xlpm.current = "Optimal ", _xlpm.goal <> 0)),TRUE,FALSE))),FALSE) -> FALSE | V7: =IFERROR(_xlfn.LET(_xlpm.current,INDEX($I$2:$I$241,MATCH($E7&"Yes",$G$2:$G$241,0)),_xlfn.LET(_xlpm.goal,INDEX($I$2:$I$241,MATCH($E7&"Yes",$H$2:$H$241,0)),IF(AND(_xlpm.current="n/a",_xlpm.goal="Inadequate"),TRUE,FALSE))),FALSE) -> FALSE | W7: =IFERROR(INDEX($L$2:$L$241,MATCH(E7&"Yes",$H$2:$H$241,0))=0,FALSE) -> FALSE | X7: =IFERROR(_xlfn.LET(_xlpm.current,INDEX($F$2:$F$241,MATCH($E7&"Yes",$G$2:$G$241,0)),_xlfn.LET(_xlpm.goal,INDEX($F$2:$F$241,MATCH($E7&"Yes",$H$2:$H$241,0)),IF(OR(IFERROR(_xlpm.current="Custom [Overwrite this text if selected]",FALSE),IFERROR(_xlpm.goal="Custom [Overwrite this text if selected]",FALSE),IFERROR(_xlpm.current="",FALSE),IFERROR(_xlpm.goal="",FALSE)),TRUE,FALSE))),FALSE) -> FALSE | Y7: =IFERROR(_xlfn.LET(_xlpm.current,INDEX($I$2:$I$241,MATCH($E7&"Yes",$G$2:$G$241,0)),_xlfn.LET(_xlpm.goal,INDEX($I$2:$I$241,MATCH($E7&"Yes",$H$2:$H$241,0)),IF(OR(IFERROR(_xlpm.current="[Select]",FALSE),IFERROR(_xlpm.goal="[Select]",FALSE),IFERROR(_xlpm.current="",FALSE),IFERROR(_xlpm.goal="",FALSE)),TRUE,FALSE))),FALSE) -> FALSE | Z7: =IFERROR(_xlfn.LET(_xlpm.matchPosition,MATCH(E7&"Yes",$H$2:$H$241,0),_xlpm.timescale,INDEX($L$2:$L$241,_xlpm.matchPosition),IF(OR(_xlpm.timescale=$AH$4,_xlpm.timescale=$AI$4),ISBLANK(INDEX($M$2:$M$241,_xlpm.matchPosition)))),FALSE) -> FALSE
D8: G1(F) | E8: =LEFT(D8,FIND("(",D8)-1) -> G1 | F8: Custom [Overwrite this text if selected] | G8: =$E8&J8 -> G1 | H8: =$E8&K8 -> G1 | I8: [Select] | O8: =IF(COUNTIFS(J$2:J$241,"Yes",$E$2:$E$241,$E8)=0,TRUE,FALSE) -> TRUE | P8: =IF(COUNTIFS(J$2:J$241,"Yes",$E$2:$E$241,$E8)>1,TRUE,FALSE) -> FALSE | Q8: =IF(COUNTIFS(K$2:K$241,"Yes",$E$2:$E$241,$E8)=0,TRUE,FALSE) -> TRUE | R8: =IF(K8="Yes",IF(ISBLANK(L8),TRUE,FALSE),FALSE) -> FALSE | S8: =IF(OR(L8="Next Year",L8="Next Two Years"),IF(ISBLANK(M8),TRUE,FALSE),FALSE) -> FALSE | T8: =IF(COUNTIFS(K$2:K$241,"Yes",$E$2:$E$241,$E8)>1,TRUE,FALSE) -> FALSE | U8: =IFERROR(_xlfn.LET(_xlpm.current,INDEX($I$2:$I$241,MATCH($E8&"Yes",$G$2:$G$241,0)),_xlpm.goal,INDEX($I$2:$I$241,MATCH($E8&"Yes",$H$2:$H$241,0)),IF(OR(_xlpm.current = "[Select]", _xlpm.goal = "[Select]"),FALSE,IF(OR(AND(_xlpm.current<>"n/a",_xlpm.goal="Inadequate"), AND(_xlpm.goal = "Adequate", OR(_xlpm.current = "Adequate", _xlpm.current = "Optimal ")), AND(_xlpm.current = "Optimal ", _xlpm.goal <> 0)),TRUE,FALSE))),FALSE) -> FALSE | V8: =IFERROR(_xlfn.LET(_xlpm.current,INDEX($I$2:$I$241,MATCH($E8&"Yes",$G$2:$G$241,0)),_xlfn.LET(_xlpm.goal,INDEX($I$2:$I$241,MATCH($E8&"Yes",$H$2:$H$241,0)),IF(AND(_xlpm.current="n/a",_xlpm.goal="Inadequate"),TRUE,FALSE))),FALSE) -> FALSE | W8: =IFERROR(INDEX($L$2:$L$241,MATCH(E8&"Yes",$H$2:$H$241,0))=0,FALSE) -> FALSE | X8: =IFERROR(_xlfn.LET(_xlpm.current,INDEX($F$2:$F$241,MATCH($E8&"Yes",$G$2:$G$241,0)),_xlfn.LET(_xlpm.goal,INDEX($F$2:$F$241,MATCH($E8&"Yes",$H$2:$H$241,0)),IF(OR(IFERROR(_xlpm.current="Custom [Overwrite this text if selected]",FALSE),IFERROR(_xlpm.goal="Custom [Overwrite this text if selected]",FALSE),IFERROR(_xlpm.current="",FALSE),IFERROR(_xlpm.goal="",FALSE)),TRUE,FALSE))),FALSE) -> FALSE | Y8: =IFERROR(_xlfn.LET(_xlpm.current,INDEX($I$2:$I$241,MATCH($E8&"Yes",$G$2:$G$241,0)),_xlfn.LET(_xlpm.goal,INDEX($I$2:$I$241,MATCH($E8&"Yes",$H$2:$H$241,0)),IF(OR(IFERROR(_xlpm.current="[Select]",FALSE),IFERROR(_xlpm.goal="[Select]",FALSE),IFERROR(_xlpm.current="",FALSE),IFERROR(_xlpm.goal="",FALSE)),TRUE,FALSE))),FALSE) -> FALSE | Z8: =IFERROR(_xlfn.LET(_xlpm.matchPosition,MATCH(E8&"Yes",$H$2:$H$241,0),_xlpm.timescale,INDEX($L$2:$L$241,_xlpm.matchPosition),IF(OR(_xlpm.timescale=$AH$4,_xlpm.timescale=$AI$4),ISBLANK(INDEX($M$2:$M$241,_xlpm.matchPosition)))),FALSE) -> FALSE
A9: G2 | B9: Governance | C9: If you use OneDrive what happens to a user’s content when they leave your organisation? | D9: G2(NA) | E9: =LEFT(D9,FIND("(",D9)-1) -> G2 | F9: Not applicable | G9: =$E9&J9 -> G2 | H9: =$E9&K9 -> G2 | I9: n/a | O9: =IF(COUNTIFS(J$2:J$241,"Yes",$E$2:$E$241,$E9)=0,TRUE,FALSE) -> TRUE | P9: =IF(COUNTIFS(J$2:J$241,"Yes",$E$2:$E$241,$E9)>1,TRUE,FALSE) -> FALSE | Q9: =IF(COUNTIFS(K$2:K$241,"Yes",$E$2:$E$241,$E9)=0,TRUE,FALSE) -> TRUE | R9: =IF(K9="Yes",IF(ISBLANK(L9),TRUE,FALSE),FALSE) -> FALSE | S9: =IF(OR(L9="Next Year",L9="Next Two Years"),IF(ISBLANK(M9),TRUE,FALSE),FALSE) -> FALSE | T9: =IF(COUNTIFS(K$2:K$241,"Yes",$E$2:$E$241,$E9)>1,TRUE,FALSE) -> FALSE | U9: =IFERROR(_xlfn.LET(_xlpm.current,INDEX($I$2:$I$241,MATCH($E9&"Yes",$G$2:$G$241,0)),_xlpm.goal,INDEX($I$2:$I$241,MATCH($E9&"Yes",$H$2:$H$241,0)),IF(OR(_xlpm.current = "[Select]", _xlpm.goal = "[Select]"),FALSE,IF(OR(AND(_xlpm.current<>"n/a",_xlpm.goal="Inadequate"), AND(_xlpm.goal = "Adequate", OR(_xlpm.current = "Adequate", _xlpm.current = "Optimal ")), AND(_xlpm.current = "Optimal ", _xlpm.goal <> 0)),TRUE,FALSE))),FALSE) -> FALSE | V9: =IFERROR(_xlfn.LET(_xlpm.current,INDEX($I$2:$I$241,MATCH($E9&"Yes",$G$2:$G$241,0)),_xlfn.LET(_xlpm.goal,INDEX($I$2:$I$241,MATCH($E9&"Yes",$H$2:$H$241,0)),IF(AND(_xlpm.current="n/a",_xlpm.goal="Inadequate"),TRUE,FALSE))),FALSE) -> FALSE | W9: =IFERROR(INDEX($L$2:$L$241,MATCH(E9&"Yes",$H$2:$H$241,0))=0,FALSE) -> FALSE | X9: =IFERROR(_xlfn.LET(_xlpm.current,INDEX($F$2:$F$241,MATCH($E9&"Yes",$G$2:$G$241,0)),_xlfn.LET(_xlpm.goal,INDEX($F$2:$F$241,MATCH($E9&"Yes",$H$2:$H$241,0)),IF(OR(IFERROR(_xlpm.current="Custom [Overwrite this text if selected]",FALSE),IFERROR(_xlpm.goal="Custom [Overwrite this text if selected]",FALSE),IFERROR(_xlpm.current="",FALSE),IFERROR(_xlpm.goal="",FALSE)),TRUE,FALSE))),FALSE) -> FALSE | Y9: =IFERROR(_xlfn.LET(_xlpm.current,INDEX($I$2:$I$241,MATCH($E9&"Yes",$G$2:$G$241,0)),_xlfn.LET(_xlpm.goal,INDEX($I$2:$I$241,MATCH($E9&"Yes",$H$2:$H$241,0)),IF(OR(IFERROR(_xlpm.current="[Select]",FALSE),IFERROR(_xlpm.goal="[Select]",FALSE),IFERROR(_xlpm.current="",FALSE),IFERROR(_xlpm.goal="",FALSE)),TRUE,FALSE))),FALSE) -> FALSE | Z9: =IFERROR(_xlfn.LET(_xlpm.matchPosition,MATCH(E9&"Yes",$H$2:$H$241,0),_xlpm.timescale,INDEX($L$2:$L$241,_xlpm.matchPosition),IF(OR(_xlpm.timescale=$AH$4,_xlpm.timescale=$AI$4),ISBLANK(INDEX($M$2:$M$241,_xlpm.matchPosition)))),FALSE) -> FALSE | AA9: {=_xlfn.LET( _xlpm.currentText,IF(OR(O9,P9),"- Please select exactly one current practice (or 'Not applicable')",""), _xlpm.goalsText,IF(T9,"- Please select exactly one goal",""), _xlpm.insufficientGoal,IF(U9,"- Note: selected goal is at same or lower level than current state",""), _xlpm.naToInadequate,IF(V9,"- Note: selected goal is inadequate",""), _xlpm.customGoalButNoDescription,IF(X9,"- Please provide a description for your custom state in column F",""), _xlpm.customGoalButNoMaturitySpecified,IF(Y9,"- Please select a maturity level for custom state",""), _xlpm.goalButNoTimescale,IF(W9,"- Please use the 'Improvement timescale' field to indicate how quickly improvement is planned for",""), _xlpm.timescaleButNoAction,IF(Z9,"- Please indicate what actions you intend to take to improve within the " & LOWER(L9),""), _xlpm.texts,_xlfn.VSTACK(_xlpm.currentText,_xlpm.goalsText,_xlpm.insufficientGoal,_xlpm.naToInadequate,_xlpm.customGoalButNoDescription,_xlpm.customGoalButNoMaturitySpecified,_xlpm.goalButNoTimescale,_xlpm.timescaleButNoAction), IFERROR(_xlfn.TEXTJOIN(CHAR(10),TRUE,_xlfn._xlws.FILTER(_xlpm.texts,_xlpm.texts <> "")),""))} -> - Please select exactly one current practice (or 'Not applicable')
D10: G2(A) | E10: =LEFT(D10,FIND("(",D10)-1) -> G2 | F10: The leaver's OneDrive account is automatically deleted after the user leaves the organisation. The leaver is expected to manually review and move copies of any content of value for retention elsewhere. | G10: =$E10&J10 -> G2 | H10: =$E10&K10 -> G2 | I10: Inadequate | O10: =IF(COUNTIFS(J$2:J$241,"Yes",$E$2:$E$241,$E10)=0,TRUE,FALSE) -> TRUE | P10: =IF(COUNTIFS(J$2:J$241,"Yes",$E$2:$E$241,$E10)>1,TRUE,FALSE) -> FALSE | Q10: =IF(COUNTIFS(K$2:K$241,"Yes",$E$2:$E$241,$E10)=0,TRUE,FALSE) -> TRUE | R10: =IF(K10="Yes",IF(ISBLANK(L10),TRUE,FALSE),FALSE) -> FALSE | S10: =IF(OR(L10="Next Year",L10="Next Two Years"),IF(ISBLANK(M10),TRUE,FALSE),FALSE) -> FALSE | T10: =IF(COUNTIFS(K$2:K$241,"Yes",$E$2:$E$241,$E10)>1,TRUE,FALSE) -> FALSE | U10: =IFERROR(_xlfn.LET(_xlpm.current,INDEX($I$2:$I$241,MATCH($E10&"Yes",$G$2:$G$241,0)),_xlpm.goal,INDEX($I$2:$I$241,MATCH($E10&"Yes",$H$2:$H$241,0)),IF(OR(_xlpm.current = "[Select]", _xlpm.goal = "[Select]"),FALSE,IF(OR(AND(_xlpm.current<>"n/a",_xlpm.goal="Inadequate"), AND(_xlpm.goal = "Adequate", OR(_xlpm.current = "Adequate", _xlpm.current = "Optimal ")), AND(_xlpm.current = "Optimal ", _xlpm.goal <> 0)),TRUE,FALSE))),FALSE) -> FALSE | V10: =IFERROR(_xlfn.LET(_xlpm.current,INDEX($I$2:$I$241,MATCH($E10&"Yes",$G$2:$G$241,0)),_xlfn.LET(_xlpm.goal,INDEX($I$2:$I$241,MATCH($E10&"Yes",$H$2:$H$241,0)),IF(AND(_xlpm.current="n/a",_xlpm.goal="Inadequate"),TRUE,FALSE))),FALSE) -> FALSE | W10: =IFERROR(INDEX($L$2:$L$241,MATCH(E10&"Yes",$H$2:$H$241,0))=0,FALSE) -> FALSE | X10: =IFERROR(_xlfn.LET(_xlpm.current,INDEX($F$2:$F$241,MATCH($E10&"Yes",$G$2:$G$241,0)),_xlfn.LET(_xlpm.goal,INDEX($F$2:$F$241,MATCH($E10&"Yes",$H$2:$H$241,0)),IF(OR(IFERROR(_xlpm.current="Custom [Overwrite this text if selected]",FALSE),IFERROR(_xlpm.goal="Custom [Overwrite this text if selected]",FALSE),IFERROR(_xlpm.current="",FALSE),IFERROR(_xlpm.goal="",FALSE)),TRUE,FALSE))),FALSE) -> FALSE | Y10: =IFERROR(_xlfn.LET(_xlpm.current,INDEX($I$2:$I$241,MATCH($E10&"Yes",$G$2:$G$241,0)),_xlfn.LET(_xlpm.goal,INDEX($I$2:$I$241,MATCH($E10&"Yes",$H$2:$H$241,0)),IF(OR(IFERROR(_xlpm.current="[Select]",FALSE),IFERROR(_xlpm.goal="[Select]",FALSE),IFERROR(_xlpm.current="",FALSE),IFERROR(_xlpm.goal="",FALSE)),TRUE,FALSE))),FALSE) -> FALSE | Z10: =IFERROR(_xlfn.LET(_xlpm.matchPosition,MATCH(E10&"Yes",$H$2:$H$241,0),_xlpm.timescale,INDEX($L$2:$L$241,_xlpm.matchPosition),IF(OR(_xlpm.timescale=$AH$4,_xlpm.timescale=$AI$4),ISBLANK(INDEX($M$2:$M$241,_xlpm.matchPosition)))),FALSE) -> FALSE
D11: G2(B) | E11: =LEFT(D11,FIND("(",D11)-1) -> G2 | F11: The leaver's OneDrive account is automatically deleted after the user leaves the organisation. OneDrive content is rarely if ever reviewed before deletion. | G11: =$E11&J11 -> G2 | H11: =$E11&K11 -> G2 | I11: Inadequate | O11: =IF(COUNTIFS(J$2:J$241,"Yes",$E$2:$E$241,$E11)=0,TRUE,FALSE) -> TRUE | P11: =IF(COUNTIFS(J$2:J$241,"Yes",$E$2:$E$241,$E11)>1,TRUE,FALSE) -> FALSE | Q11: =IF(COUNTIFS(K$2:K$241,"Yes",$E$2:$E$241,$E11)=0,TRUE,FALSE) -> TRUE | R11: =IF(K11="Yes",IF(ISBLANK(L11),TRUE,FALSE),FALSE) -> FALSE | S11: =IF(OR(L11="Next Year",L11="Next Two Years"),IF(ISBLANK(M11),TRUE,FALSE),FALSE) -> FALSE | T11: =IF(COUNTIFS(K$2:K$241,"Yes",$E$2:$E$241,$E11)>1,TRUE,FALSE) -> FALSE | U11: =IFERROR(_xlfn.LET(_xlpm.current,INDEX($I$2:$I$241,MATCH($E11&"Yes",$G$2:$G$241,0)),_xlpm.goal,INDEX($I$2:$I$241,MATCH($E11&"Yes",$H$2:$H$241,0)),IF(OR(_xlpm.current = "[Select]", _xlpm.goal = "[Select]"),FALSE,IF(OR(AND(_xlpm.current<>"n/a",_xlpm.goal="Inadequate"), AND(_xlpm.goal = "Adequate", OR(_xlpm.current = "Adequate", _xlpm.current = "Optimal ")), AND(_xlpm.current = "Optimal ", _xlpm.goal <> 0)),TRUE,FALSE))),FALSE) -> FALSE | V11: =IFERROR(_xlfn.LET(_xlpm.current,INDEX($I$2:$I$241,MATCH($E11&"Yes",$G$2:$G$241,0)),_xlfn.LET(_xlpm.goal,INDEX($I$2:$I$241,MATCH($E11&"Yes",$H$2:$H$241,0)),IF(AND(_xlpm.current="n/a",_xlpm.goal="Inadequate"),TRUE,FALSE))),FALSE) -> FALSE | W11: =IFERROR(INDEX($L$2:$L$241,MATCH(E11&"Yes",$H$2:$H$241,0))=0,FALSE) -> FALSE | X11: =IFERROR(_xlfn.LET(_xlpm.current,INDEX($F$2:$F$241,MATCH($E11&"Yes",$G$2:$G$241,0)),_xlfn.LET(_xlpm.goal,INDEX($F$2:$F$241,MATCH($E11&"Yes",$H$2:$H$241,0)),IF(OR(IFERROR(_xlpm.current="Custom [Overwrite this text if selected]",FALSE),IFERROR(_xlpm.goal="Custom [Overwrite this text if selected]",FALSE),IFERROR(_xlpm.current="",FALSE),IFERROR(_xlpm.goal="",FALSE)),TRUE,FALSE))),FALSE) -> FALSE | Y11: =IFERROR(_xlfn.LET(_xlpm.current,INDEX($I$2:$I$241,MATCH($E11&"Yes",$G$2:$G$241,0)),_xlfn.LET(_xlpm.goal,INDEX($I$2:$I$241,MATCH($E11&"Yes",$H$2:$H$241,0)),IF(OR(IFERROR(_xlpm.current="[Select]",FALSE),IFERROR(_xlpm.goal="[Select]",FALSE),IFERROR(_xlpm.current="",FALSE),IFERROR(_xlpm.goal="",FALSE)),TRUE,FALSE))),FALSE) -> FALSE | Z11: =IFERROR(_xlfn.LET(_xlpm.matchPosition,MATCH(E11&"Yes",$H$2:$H$241,0),_xlpm.timescale,INDEX($L$2:$L$241,_xlpm.matchPosition),IF(OR(_xlpm.timescale=$AH$4,_xlpm.timescale=$AI$4),ISBLANK(INDEX($M$2:$M$241,_xlpm.matchPosition)))),FALSE) -> FALSE
D12: G2(C) | E12: =LEFT(D12,FIND("(",D12)-1) -> G2 | F12: The leaver's OneDrive account is kept. We intend to introduce a plan in the future to manage information stored in the OneDrive accounts of former users. | G12: =$E12&J12 -> G2 | H12: =$E12&K12 -> G2 | I12: Inadequate | O12: =IF(COUNTIFS(J$2:J$241,"Yes",$E$2:$E$241,$E12)=0,TRUE,FALSE) -> TRUE | P12: =IF(COUNTIFS(J$2:J$241,"Yes",$E$2:$E$241,$E12)>1,TRUE,FALSE) -> FALSE | Q12: =IF(COUNTIFS(K$2:K$241,"Yes",$E$2:$E$241,$E12)=0,TRUE,FALSE) -> TRUE | R12: =IF(K12="Yes",IF(ISBLANK(L12),TRUE,FALSE),FALSE) -> FALSE | S12: =IF(OR(L12="Next Year",L12="Next Two Years"),IF(ISBLANK(M12),TRUE,FALSE),FALSE) -> FALSE | T12: =IF(COUNTIFS(K$2:K$241,"Yes",$E$2:$E$241,$E12)>1,TRUE,FALSE) -> FALSE | U12: =IFERROR(_xlfn.LET(_xlpm.current,INDEX($I$2:$I$241,MATCH($E12&"Yes",$G$2:$G$241,0)),_xlpm.goal,INDEX($I$2:$I$241,MATCH($E12&"Yes",$H$2:$H$241,0)),IF(OR(_xlpm.current = "[Select]", _xlpm.goal = "[Select]"),FALSE,IF(OR(AND(_xlpm.current<>"n/a",_xlpm.goal="Inadequate"), AND(_xlpm.goal = "Adequate", OR(_xlpm.current = "Adequate", _xlpm.current = "Optimal ")), AND(_xlpm.current = "Optimal ", _xlpm.goal <> 0)),TRUE,FALSE))),FALSE) -> FALSE | V12: =IFERROR(_xlfn.LET(_xlpm.current,INDEX($I$2:$I$241,MATCH($E12&"Yes",$G$2:$G$241,0)),_xlfn.LET(_xlpm.goal,INDEX($I$2:$I$241,MATCH($E12&"Yes",$H$2:$H$241,0)),IF(AND(_xlpm.current="n/a",_xlpm.goal="Inadequate"),TRUE,FALSE))),FALSE) -> FALSE | W12: =IFERROR(INDEX($L$2:$L$241,MATCH(E12&"Yes",$H$2:$H$241,0))=0,FALSE) -> FALSE | X12: =IFERROR(_xlfn.LET(_xlpm.current,INDEX($F$2:$F$241,MATCH($E12&"Yes",$G$2:$G$241,0)),_xlfn.LET(_xlpm.goal,INDEX($F$2:$F$241,MATCH($E12&"Yes",$H$2:$H$241,0)),IF(OR(IFERROR(_xlpm.current="Custom [Overwrite this text if selected]",FALSE),IFERROR(_xlpm.goal="Custom [Overwrite this text if selected]",FALSE),IFERROR(_xlpm.current="",FALSE),IFERROR(_xlpm.goal="",FALSE)),TRUE,FALSE))),FALSE) -> FALSE | Y12: =IFERROR(_xlfn.LET(_xlpm.current,INDEX($I$2:$I$241,MATCH($E12&"Yes",$G$2:$G$241,0)),_xlfn.LET(_xlpm.goal,INDEX($I$2:$I$241,MATCH($E12&"Yes",$H$2:$H$241,0)),IF(OR(IFERROR(_xlpm.current="[Select]",FALSE),IFERROR(_xlpm.goal="[Select]",FALSE),IFERROR(_xlpm.current="",FALSE),IFERROR(_xlpm.goal="",FALSE)),TRUE,FALSE))),FALSE) -> FALSE | Z12: =IFERROR(_xlfn.LET(_xlpm.matchPosition,MATCH(E12&"Yes",$H$2:$H$241,0),_xlpm.timescale,INDEX($L$2:$L$241,_xlpm.matchPosition),IF(OR(_xlpm.timescale=$AH$4,_xlpm.timescale=$AI$4),ISBLANK(INDEX($M$2:$M$241,_xlpm.matchPosition)))),FALSE) -> FALSE
D13: G2(D) | E13: =LEFT(D13,FIND("(",D13)-1) -> G2 | F13: The leaver's line manager can review the content and copy anything that needs to be kept, then the OneDrive account is automatically deleted. | G13: =$E13&J13 -> G2 | H13: =$E13&K13 -> G2 | I13: Adequate | O13: =IF(COUNTIFS(J$2:J$241,"Yes",$E$2:$E$241,$E13)=0,TRUE,FALSE) -> TRUE | P13: =IF(COUNTIFS(J$2:J$241,"Yes",$E$2:$E$241,$E13)>1,TRUE,FALSE) -> FALSE | Q13: =IF(COUNTIFS(K$2:K$241,"Yes",$E$2:$E$241,$E13)=0,TRUE,FALSE) -> TRUE | R13: =IF(K13="Yes",IF(ISBLANK(L13),TRUE,FALSE),FALSE) -> FALSE | S13: =IF(OR(L13="Next Year",L13="Next Two Years"),IF(ISBLANK(M13),TRUE,FALSE),FALSE) -> FALSE | T13: =IF(COUNTIFS(K$2:K$241,"Yes",$E$2:$E$241,$E13)>1,TRUE,FALSE) -> FALSE | U13: =IFERROR(_xlfn.LET(_xlpm.current,INDEX($I$2:$I$241,MATCH($E13&"Yes",$G$2:$G$241,0)),_xlpm.goal,INDEX($I$2:$I$241,MATCH($E13&"Yes",$H$2:$H$241,0)),IF(OR(_xlpm.current = "[Select]", _xlpm.goal = "[Select]"),FALSE,IF(OR(AND(_xlpm.current<>"n/a",_xlpm.goal="Inadequate"), AND(_xlpm.goal = "Adequate", OR(_xlpm.current = "Adequate", _xlpm.current = "Optimal ")), AND(_xlpm.current = "Optimal ", _xlpm.goal <> 0)),TRUE,FALSE))),FALSE) -> FALSE | V13: =IFERROR(_xlfn.LET(_xlpm.current,INDEX($I$2:$I$241,MATCH($E13&"Yes",$G$2:$G$241,0)),_xlfn.LET(_xlpm.goal,INDEX($I$2:$I$241,MATCH($E13&"Yes",$H$2:$H$241,0)),IF(AND(_xlpm.current="n/a",_xlpm.goal="Inadequate"),TRUE,FALSE))),FALSE) -> FALSE | W13: =IFERROR(INDEX($L$2:$L$241,MATCH(E13&"Yes",$H$2:$H$241,0))=0,FALSE) -> FALSE | X13: =IFERROR(_xlfn.LET(_xlpm.current,INDEX($F$2:$F$241,MATCH($E13&"Yes",$G$2:$G$241,0)),_xlfn.LET(_xlpm.goal,INDEX($F$2:$F$241,MATCH($E13&"Yes",$H$2:$H$241,0)),IF(OR(IFERROR(_xlpm.current="Custom [Overwrite this text if selected]",FALSE),IFERROR(_xlpm.goal="Custom [Overwrite this text if selected]",FALSE),IFERROR(_xlpm.current="",FALSE),IFERROR(_xlpm.goal="",FALSE)),TRUE,FALSE))),FALSE) -> FALSE | Y13: =IFERROR(_xlfn.LET(_xlpm.current,INDEX($I$2:$I$241,MATCH($E13&"Yes",$G$2:$G$241,0)),_xlfn.LET(_xlpm.goal,INDEX($I$2:$I$241,MATCH($E13&"Yes",$H$2:$H$241,0)),IF(OR(IFERROR(_xlpm.current="[Select]",FALSE),IFERROR(_xlpm.goal="[Select]",FALSE),IFERROR(_xlpm.current="",FALSE),IFERROR(_xlpm.goal="",FALSE)),TRUE,FALSE))),FALSE) -> FALSE | Z13: =IFERROR(_xlfn.LET(_xlpm.matchPosition,MATCH(E13&"Yes",$H$2:$H$241,0),_xlpm.timescale,INDEX($L$2:$L$241,_xlpm.matchPosition),IF(OR(_xlpm.timescale=$AH$4,_xlpm.timescale=$AI$4),ISBLANK(INDEX($M$2:$M$241,_xlpm.matchPosition)))),FALSE) -> FALSE
D14: G2(E) | E14: =LEFT(D14,FIND("(",D14)-1) -> G2 | F14: We encourage users to move records elsewhere, and minimise storage of any content of value in OneDrive. | G14: =$E14&J14 -> G2 | H14: =$E14&K14 -> G2 | I14: Adequate | O14: =IF(COUNTIFS(J$2:J$241,"Yes",$E$2:$E$241,$E14)=0,TRUE,FALSE) -> TRUE | P14: =IF(COUNTIFS(J$2:J$241,"Yes",$E$2:$E$241,$E14)>1,TRUE,FALSE) -> FALSE | Q14: =IF(COUNTIFS(K$2:K$241,"Yes",$E$2:$E$241,$E14)=0,TRUE,FALSE) -> TRUE | R14: =IF(K14="Yes",IF(ISBLANK(L14),TRUE,FALSE),FALSE) -> FALSE | S14: =IF(OR(L14="Next Year",L14="Next Two Years"),IF(ISBLANK(M14),TRUE,FALSE),FALSE) -> FALSE | T14: =IF(COUNTIFS(K$2:K$241,"Yes",$E$2:$E$241,$E14)>1,TRUE,FALSE) -> FALSE | U14: =IFERROR(_xlfn.LET(_xlpm.current,INDEX($I$2:$I$241,MATCH($E14&"Yes",$G$2:$G$241,0)),_xlpm.goal,INDEX($I$2:$I$241,MATCH($E14&"Yes",$H$2:$H$241,0)),IF(OR(_xlpm.current = "[Select]", _xlpm.goal = "[Select]"),FALSE,IF(OR(AND(_xlpm.current<>"n/a",_xlpm.goal="Inadequate"), AND(_xlpm.goal = "Adequate", OR(_xlpm.current = "Adequate", _xlpm.current = "Optimal ")), AND(_xlpm.current = "Optimal ", _xlpm.goal <> 0)),TRUE,FALSE))),FALSE) -> FALSE | V14: =IFERROR(_xlfn.LET(_xlpm.current,INDEX($I$2:$I$241,MATCH($E14&"Yes",$G$2:$G$241,0)),_xlfn.LET(_xlpm.goal,INDEX($I$2:$I$241,MATCH($E14&"Yes",$H$2:$H$241,0)),IF(AND(_xlpm.current="n/a",_xlpm.goal="Inadequate"),TRUE,FALSE))),FALSE) -> FALSE | W14: =IFERROR(INDEX($L$2:$L$241,MATCH(E14&"Yes",$H$2:$H$241,0))=0,FALSE) -> FALSE | X14: =IFERROR(_xlfn.LET(_xlpm.current,INDEX($F$2:$F$241,MATCH($E14&"Yes",$G$2:$G$241,0)),_xlfn.LET(_xlpm.goal,INDEX($F$2:$F$241,MATCH($E14&"Yes",$H$2:$H$241,0)),IF(OR(IFERROR(_xlpm.current="Custom [Overwrite this text if selected]",FALSE),IFERROR(_xlpm.goal="Custom [Overwrite this text if selected]",FALSE),IFERROR(_xlpm.current="",FALSE),IFERROR(_xlpm.goal="",FALSE)),TRUE,FALSE))),FALSE) -> FALSE | Y14: =IFERROR(_xlfn.LET(_xlpm.current,INDEX($I$2:$I$241,MATCH($E14&"Yes",$G$2:$G$241,0)),_xlfn.LET(_xlpm.goal,INDEX($I$2:$I$241,MATCH($E14&"Yes",$H$2:$H$241,0)),IF(OR(IFERROR(_xlpm.current="[Select]",FALSE),IFERROR(_xlpm.goal="[Select]",FALSE),IFERROR(_xlpm.current="",FALSE),IFERROR(_xlpm.goal="",FALSE)),TRUE,FALSE))),FALSE) -> FALSE | Z14: =IFERROR(_xlfn.LET(_xlpm.matchPosition,MATCH(E14&"Yes",$H$2:$H$241,0),_xlpm.timescale,INDEX($L$2:$L$241,_xlpm.matchPosition),IF(OR(_xlpm.timescale=$AH$4,_xlpm.timescale=$AI$4),ISBLANK(INDEX($M$2:$M$241,_xlpm.matchPosition)))),FALSE) -> FALSE
D15: G2(F) | E15: =LEFT(D15,FIND("(",D15)-1) -> G2 | F15: The leaver's OneDrive account is kept. We rely on retention policies/labels to delete content in OneDrive content. | G15: =$E15&J15 -> G2 | H15: =$E15&K15 -> G2 | I15: Adequate | O15: =IF(COUNTIFS(J$2:J$241,"Yes",$E$2:$E$241,$E15)=0,TRUE,FALSE) -> TRUE | P15: =IF(COUNTIFS(J$2:J$241,"Yes",$E$2:$E$241,$E15)>1,TRUE,FALSE) -> FALSE | Q15: =IF(COUNTIFS(K$2:K$241,"Yes",$E$2:$E$241,$E15)=0,TRUE,FALSE) -> TRUE | R15: =IF(K15="Yes",IF(ISBLANK(L15),TRUE,FALSE),FALSE) -> FALSE | S15: =IF(OR(L15="Next Year",L15="Next Two Years"),IF(ISBLANK(M15),TRUE,FALSE),FALSE) -> FALSE | T15: =IF(COUNTIFS(K$2:K$241,"Yes",$E$2:$E$241,$E15)>1,TRUE,FALSE) -> FALSE | U15: =IFERROR(_xlfn.LET(_xlpm.current,INDEX($I$2:$I$241,MATCH($E15&"Yes",$G$2:$G$241,0)),_xlpm.goal,INDEX($I$2:$I$241,MATCH($E15&"Yes",$H$2:$H$241,0)),IF(OR(_xlpm.current = "[Select]", _xlpm.goal = "[Select]"),FALSE,IF(OR(AND(_xlpm.current<>"n/a",_xlpm.goal="Inadequate"), AND(_xlpm.goal = "Adequate", OR(_xlpm.current = "Adequate", _xlpm.current = "Optimal ")), AND(_xlpm.current = "Optimal ", _xlpm.goal <> 0)),TRUE,FALSE))),FALSE) -> FALSE | V15: =IFERROR(_xlfn.LET(_xlpm.current,INDEX($I$2:$I$241,MATCH($E15&"Yes",$G$2:$G$241,0)),_xlfn.LET(_xlpm.goal,INDEX($I$2:$I$241,MATCH($E15&"Yes",$H$2:$H$241,0)),IF(AND(_xlpm.current="n/a",_xlpm.goal="Inadequate"),TRUE,FALSE))),FALSE) -> FALSE | W15: =IFERROR(INDEX($L$2:$L$241,MATCH(E15&"Yes",$H$2:$H$241,0))=0,FALSE) -> FALSE | X15: =IFERROR(_xlfn.LET(_xlpm.current,INDEX($F$2:$F$241,MATCH($E15&"Yes",$G$2:$G$241,0)),_xlfn.LET(_xlpm.goal,INDEX($F$2:$F$241,MATCH($E15&"Yes",$H$2:$H$241,0)),IF(OR(IFERROR(_xlpm.current="Custom [Overwrite this text if selected]",FALSE),IFERROR(_xlpm.goal="Custom [Overwrite this text if selected]",FALSE),IFERROR(_xlpm.current="",FALSE),IFERROR(_xlpm.goal="",FALSE)),TRUE,FALSE))),FALSE) -> FALSE | Y15: =IFERROR(_xlfn.LET(_xlpm.current,INDEX($I$2:$I$241,MATCH($E15&"Yes",$G$2:$G$241,0)),_xlfn.LET(_xlpm.goal,INDEX($I$2:$I$241,MATCH($E15&"Yes",$H$2:$H$241,0)),IF(OR(IFERROR(_xlpm.current="[Select]",FALSE),IFERROR(_xlpm.goal="[Select]",FALSE),IFERROR(_xlpm.current="",FALSE),IFERROR(_xlpm.goal="",FALSE)),TRUE,FALSE))),FALSE) -> FALSE | Z15: =IFERROR(_xlfn.LET(_xlpm.matchPosition,MATCH(E15&"Yes",$H$2:$H$241,0),_xlpm.timescale,INDEX($L$2:$L$241,_xlpm.matchPosition),IF(OR(_xlpm.timescale=$AH$4,_xlpm.timescale=$AI$4),ISBLANK(INDEX($M$2:$M$241,_xlpm.matchPosition)))),FALSE) -> FALSE
D16: G2(G) | E16: =LEFT(D16,FIND("(",D16)-1) -> G2 | F16: Custom [Overwrite this text if selected] | G16: =$E16&J16 -> G2 | H16: =$E16&K16 -> G2 | I16: [Select] | O16: =IF(COUNTIFS(J$2:J$241,"Yes",$E$2:$E$241,$E16)=0,TRUE,FALSE) -> TRUE | P16: =IF(COUNTIFS(J$2:J$241,"Yes",$E$2:$E$241,$E16)>1,TRUE,FALSE) -> FALSE | Q16: =IF(COUNTIFS(K$2:K$241,"Yes",$E$2:$E$241,$E16)=0,TRUE,FALSE) -> TRUE | R16: =IF(K16="Yes",IF(ISBLANK(L16),TRUE,FALSE),FALSE) -> FALSE | S16: =IF(OR(L16="Next Year",L16="Next Two Years"),IF(ISBLANK(M16),TRUE,FALSE),FALSE) -> FALSE | T16: =IF(COUNTIFS(K$2:K$241,"Yes",$E$2:$E$241,$E16)>1,TRUE,FALSE) -> FALSE | U16: =IFERROR(_xlfn.LET(_xlpm.current,INDEX($I$2:$I$241,MATCH($E16&"Yes",$G$2:$G$241,0)),_xlpm.goal,INDEX($I$2:$I$241,MATCH($E16&"Yes",$H$2:$H$241,0)),IF(OR(_xlpm.current = "[Select]", _xlpm.goal = "[Select]"),FALSE,IF(OR(AND(_xlpm.current<>"n/a",_xlpm.goal="Inadequate"), AND(_xlpm.goal = "Adequate", OR(_xlpm.current = "Adequate", _xlpm.current = "Optimal ")), AND(_xlpm.current = "Optimal ", _xlpm.goal <> 0)),TRUE,FALSE))),FALSE) -> FALSE | V16: =IFERROR(_xlfn.LET(_xlpm.current,INDEX($I$2:$I$241,MATCH($E16&"Yes",$G$2:$G$241,0)),_xlfn.LET(_xlpm.goal,INDEX($I$2:$I$241,MATCH($E16&"Yes",$H$2:$H$241,0)),IF(AND(_xlpm.current="n/a",_xlpm.goal="Inadequate"),TRUE,FALSE))),FALSE) -> FALSE | W16: =IFERROR(INDEX($L$2:$L$241,MATCH(E16&"Yes",$H$2:$H$241,0))=0,FALSE) -> FALSE | X16: =IFERROR(_xlfn.LET(_xlpm.current,INDEX($F$2:$F$241,MATCH($E16&"Yes",$G$2:$G$241,0)),_xlfn.LET(_xlpm.goal,INDEX($F$2:$F$241,MATCH($E16&"Yes",$H$2:$H$241,0)),IF(OR(IFERROR(_xlpm.current="Custom [Overwrite this text if selected]",FALSE),IFERROR(_xlpm.goal="Custom [Overwrite this text if selected]",FALSE),IFERROR(_xlpm.current="",FALSE),IFERROR(_xlpm.goal="",FALSE)),TRUE,FALSE))),FALSE) -> FALSE | Y16: =IFERROR(_xlfn.LET(_xlpm.current,INDEX($I$2:$I$241,MATCH($E16&"Yes",$G$2:$G$241,0)),_xlfn.LET(_xlpm.goal,INDEX($I$2:$I$241,MATCH($E16&"Yes",$H$2:$H$241,0)),IF(OR(IFERROR(_xlpm.current="[Select]",FALSE),IFERROR(_xlpm.goal="[Select]",FALSE),IFERROR(_xlpm.current="",FALSE),IFERROR(_xlpm.goal="",FALSE)),TRUE,FALSE))),FALSE) -> FALSE | Z16: =IFERROR(_xlfn.LET(_xlpm.matchPosition,MATCH(E16&"Yes",$H$2:$H$241,0),_xlpm.timescale,INDEX($L$2:$L$241,_xlpm.matchPosition),IF(OR(_xlpm.timescale=$AH$4,_xlpm.timescale=$AI$4),ISBLANK(INDEX($M$2:$M$241,_xlpm.matchPosition)))),FALSE) -> FALSE
D17: G2(H) | E17: G2 | F17: Custom [Overwrite this text if selected] | G17: =$E17&J17 -> G2 | H17: =$E17&K17 -> G2 | I17: [Select] | O17: =IF(COUNTIFS(J$2:J$241,"Yes",$E$2:$E$241,$E17)=0,TRUE,FALSE) -> TRUE | P17: =IF(COUNTIFS(J$2:J$241,"Yes",$E$2:$E$241,$E17)>1,TRUE,FALSE) -> FALSE | Q17: =IF(COUNTIFS(K$2:K$241,"Yes",$E$2:$E$241,$E17)=0,TRUE,FALSE) -> TRUE | R17: =IF(K17="Yes",IF(ISBLANK(L17),TRUE,FALSE),FALSE) -> FALSE | S17: =IF(OR(L17="Next Year",L17="Next Two Years"),IF(ISBLANK(M17),TRUE,FALSE),FALSE) -> FALSE | T17: =IF(COUNTIFS(K$2:K$241,"Yes",$E$2:$E$241,$E17)>1,TRUE,FALSE) -> FALSE | U17: =IFERROR(_xlfn.LET(_xlpm.current,INDEX($I$2:$I$241,MATCH($E17&"Yes",$G$2:$G$241,0)),_xlpm.goal,INDEX($I$2:$I$241,MATCH($E17&"Yes",$H$2:$H$241,0)),IF(OR(_xlpm.current = "[Select]", _xlpm.goal = "[Select]"),FALSE,IF(OR(AND(_xlpm.current<>"n/a",_xlpm.goal="Inadequate"), AND(_xlpm.goal = "Adequate", OR(_xlpm.current = "Adequate", _xlpm.current = "Optimal ")), AND(_xlpm.current = "Optimal ", _xlpm.goal <> 0)),TRUE,FALSE))),FALSE) -> FALSE | V17: =IFERROR(_xlfn.LET(_xlpm.current,INDEX($I$2:$I$241,MATCH($E17&"Yes",$G$2:$G$241,0)),_xlfn.LET(_xlpm.goal,INDEX($I$2:$I$241,MATCH($E17&"Yes",$H$2:$H$241,0)),IF(AND(_xlpm.current="n/a",_xlpm.goal="Inadequate"),TRUE,FALSE))),FALSE) -> FALSE | W17: =IFERROR(INDEX($L$2:$L$241,MATCH(E17&"Yes",$H$2:$H$241,0))=0,FALSE) -> FALSE | X17: =IFERROR(_xlfn.LET(_xlpm.current,INDEX($F$2:$F$241,MATCH($E17&"Yes",$G$2:$G$241,0)),_xlfn.LET(_xlpm.goal,INDEX($F$2:$F$241,MATCH($E17&"Yes",$H$2:$H$241,0)),IF(OR(IFERROR(_xlpm.current="Custom [Overwrite this text if selected]",FALSE),IFERROR(_xlpm.goal="Custom [Overwrite this text if selected]",FALSE),IFERROR(_xlpm.current="",FALSE),IFERROR(_xlpm.goal="",FALSE)),TRUE,FALSE))),FALSE) -> FALSE | Y17: =IFERROR(_xlfn.LET(_xlpm.current,INDEX($I$2:$I$241,MATCH($E17&"Yes",$G$2:$G$241,0)),_xlfn.LET(_xlpm.goal,INDEX($I$2:$I$241,MATCH($E17&"Yes",$H$2:$H$241,0)),IF(OR(IFERROR(_xlpm.current="[Select]",FALSE),IFERROR(_xlpm.goal="[Select]",FALSE),IFERROR(_xlpm.current="",FALSE),IFERROR(_xlpm.goal="",FALSE)),TRUE,FALSE))),FALSE) -> FALSE | Z17: =IFERROR(_xlfn.LET(_xlpm.matchPosition,MATCH(E17&"Yes",$H$2:$H$241,0),_xlpm.timescale,INDEX($L$2:$L$241,_xlpm.matchPosition),IF(OR(_xlpm.timescale=$AH$4,_xlpm.timescale=$AI$4),ISBLANK(INDEX($M$2:$M$241,_xlpm.matchPosition)))),FALSE) -> FALSE
A18: G3 | B18: Governance | C18: If you use Outlook, what happens to a user’s content when they leave your organisation? | D18: G3(NA) | E18: =LEFT(D18,FIND("(",D18)-1) -> G3 | F18: Not applicable | G18: =$E18&J18 -> G3 | H18: =$E18&K18 -> G3 | I18: n/a | O18: =IF(COUNTIFS(J$2:J$241,"Yes",$E$2:$E$241,$E18)=0,TRUE,FALSE) -> TRUE | P18: =IF(COUNTIFS(J$2:J$241,"Yes",$E$2:$E$241,$E18)>1,TRUE,FALSE) -> FALSE | Q18: =IF(COUNTIFS(K$2:K$241,"Yes",$E$2:$E$241,$E18)=0,TRUE,FALSE) -> TRUE | R18: =IF(K18="Yes",IF(ISBLANK(L18),TRUE,FALSE),FALSE) -> FALSE | S18: =IF(OR(L18="Next Year",L18="Next Two Years"),IF(ISBLANK(M18),TRUE,FALSE),FALSE) -> FALSE | T18: =IF(COUNTIFS(K$2:K$241,"Yes",$E$2:$E$241,$E18)>1,TRUE,FALSE) -> FALSE | U18: =IFERROR(_xlfn.LET(_xlpm.current,INDEX($I$2:$I$241,MATCH($E18&"Yes",$G$2:$G$241,0)),_xlpm.goal,INDEX($I$2:$I$241,MATCH($E18&"Yes",$H$2:$H$241,0)),IF(OR(_xlpm.current = "[Select]", _xlpm.goal = "[Select]"),FALSE,IF(OR(AND(_xlpm.current<>"n/a",_xlpm.goal="Inadequate"), AND(_xlpm.goal = "Adequate", OR(_xlpm.current = "Adequate", _xlpm.current = "Optimal ")), AND(_xlpm.current = "Optimal ", _xlpm.goal <> 0)),TRUE,FALSE))),FALSE) -> FALSE | V18: =IFERROR(_xlfn.LET(_xlpm.current,INDEX($I$2:$I$241,MATCH($E18&"Yes",$G$2:$G$241,0)),_xlfn.LET(_xlpm.goal,INDEX($I$2:$I$241,MATCH($E18&"Yes",$H$2:$H$241,0)),IF(AND(_xlpm.current="n/a",_xlpm.goal="Inadequate"),TRUE,FALSE))),FALSE) -> FALSE | W18: =IFERROR(INDEX($L$2:$L$241,MATCH(E18&"Yes",$H$2:$H$241,0))=0,FALSE) -> FALSE | X18: =IFERROR(_xlfn.LET(_xlpm.current,INDEX($F$2:$F$241,MATCH($E18&"Yes",$G$2:$G$241,0)),_xlfn.LET(_xlpm.goal,INDEX($F$2:$F$241,MATCH($E18&"Yes",$H$2:$H$241,0)),IF(OR(IFERROR(_xlpm.current="Custom [Overwrite this text if selected]",FALSE),IFERROR(_xlpm.goal="Custom [Overwrite this text if selected]",FALSE),IFERROR(_xlpm.current="",FALSE),IFERROR(_xlpm.goal="",FALSE)),TRUE,FALSE))),FALSE) -> FALSE | Y18: =IFERROR(_xlfn.LET(_xlpm.current,INDEX($I$2:$I$241,MATCH($E18&"Yes",$G$2:$G$241,0)),_xlfn.LET(_xlpm.goal,INDEX($I$2:$I$241,MATCH($E18&"Yes",$H$2:$H$241,0)),IF(OR(IFERROR(_xlpm.current="[Select]",FALSE),IFERROR(_xlpm.goal="[Select]",FALSE),IFERROR(_xlpm.current="",FALSE),IFERROR(_xlpm.goal="",FALSE)),TRUE,FALSE))),FALSE) -> FALSE | Z18: =IFERROR(_xlfn.LET(_xlpm.matchPosition,MATCH(E18&"Yes",$H$2:$H$241,0),_xlpm.timescale,INDEX($L$2:$L$241,_xlpm.matchPosition),IF(OR(_xlpm.timescale=$AH$4,_xlpm.timescale=$AI$4),ISBLANK(INDEX($M$2:$M$241,_xlpm.matchPosition)))),FALSE) -> FALSE | AA18: {=_xlfn.LET( _xlpm.currentText,IF(OR(O18,P18),"- Please select exactly one current practice (or 'Not applicable')",""), _xlpm.goalsText,IF(T18,"- Please select exactly one goal",""), _xlpm.insufficientGoal,IF(U18,"- Note: selected goal is at same or lower level than current state",""), _xlpm.naToInadequate,IF(V18,"- Note: selected goal is inadequate",""), _xlpm.customGoalButNoDescription,IF(X18,"- Please provide a description for your custom state in column F",""), _xlpm.customGoalButNoMaturitySpecified,IF(Y18,"- Please select a maturity level for custom state",""), _xlpm.goalButNoTimescale,IF(W18,"- Please use the 'Improvement timescale' field to indicate how quickly improvement is planned for",""), _xlpm.timescaleButNoAction,IF(Z18,"- Please indicate what actions you intend to take to improve within the " & LOWER(L18),""), _xlpm.texts,_xlfn.VSTACK(_xlpm.currentText,_xlpm.goalsText,_xlpm.insufficientGoal,_xlpm.naToInadequate,_xlpm.customGoalButNoDescription,_xlpm.customGoalButNoMaturitySpecified,_xlpm.goalButNoTimescale,_xlpm.timescaleButNoAction), IFERROR(_xlfn.TEXTJOIN(CHAR(10),TRUE,_xlfn._xlws.FILTER(_xlpm.texts,_xlpm.texts <> "")),""))} -> - Please select exactly one current practice (or 'Not applicable')
D19: G3(A) | E19: =LEFT(D19,FIND("(",D19)-1) -> G3 | F19: The leaver's Outlook inbox is automatically deleted after the user leaves the organisation. Outlook content is rarely if ever reviewed before deletion. | G19: =$E19&J19 -> G3 | H19: =$E19&K19 -> G3 | I19: Inadequate | O19: =IF(COUNTIFS(J$2:J$241,"Yes",$E$2:$E$241,$E19)=0,TRUE,FALSE) -> TRUE | P19: =IF(COUNTIFS(J$2:J$241,"Yes",$E$2:$E$241,$E19)>1,TRUE,FALSE) -> FALSE | Q19: =IF(COUNTIFS(K$2:K$241,"Yes",$E$2:$E$241,$E19)=0,TRUE,FALSE) -> TRUE | R19: =IF(K19="Yes",IF(ISBLANK(L19),TRUE,FALSE),FALSE) -> FALSE | S19: =IF(OR(L19="Next Year",L19="Next Two Years"),IF(ISBLANK(M19),TRUE,FALSE),FALSE) -> FALSE | T19: =IF(COUNTIFS(K$2:K$241,"Yes",$E$2:$E$241,$E19)>1,TRUE,FALSE) -> FALSE | U19: =IFERROR(_xlfn.LET(_xlpm.current,INDEX($I$2:$I$241,MATCH($E19&"Yes",$G$2:$G$241,0)),_xlpm.goal,INDEX($I$2:$I$241,MATCH($E19&"Yes",$H$2:$H$241,0)),IF(OR(_xlpm.current = "[Select]", _xlpm.goal = "[Select]"),FALSE,IF(OR(AND(_xlpm.current<>"n/a",_xlpm.goal="Inadequate"), AND(_xlpm.goal = "Adequate", OR(_xlpm.current = "Adequate", _xlpm.current = "Optimal ")), AND(_xlpm.current = "Optimal ", _xlpm.goal <> 0)),TRUE,FALSE))),FALSE) -> FALSE | V19: =IFERROR(_xlfn.LET(_xlpm.current,INDEX($I$2:$I$241,MATCH($E19&"Yes",$G$2:$G$241,0)),_xlfn.LET(_xlpm.goal,INDEX($I$2:$I$241,MATCH($E19&"Yes",$H$2:$H$241,0)),IF(AND(_xlpm.current="n/a",_xlpm.goal="Inadequate"),TRUE,FALSE))),FALSE) -> FALSE | W19: =IFERROR(INDEX($L$2:$L$241,MATCH(E19&"Yes",$H$2:$H$241,0))=0,FALSE) -> FALSE | X19: =IFERROR(_xlfn.LET(_xlpm.current,INDEX($F$2:$F$241,MATCH($E19&"Yes",$G$2:$G$241,0)),_xlfn.LET(_xlpm.goal,INDEX($F$2:$F$241,MATCH($E19&"Yes",$H$2:$H$241,0)),IF(OR(IFERROR(_xlpm.current="Custom [Overwrite this text if selected]",FALSE),IFERROR(_xlpm.goal="Custom [Overwrite this text if selected]",FALSE),IFERROR(_xlpm.current="",FALSE),IFERROR(_xlpm.goal="",FALSE)),TRUE,FALSE))),FALSE) -> FALSE | Y19: =IFERROR(_xlfn.LET(_xlpm.current,INDEX($I$2:$I$241,MATCH($E19&"Yes",$G$2:$G$241,0)),_xlfn.LET(_xlpm.goal,INDEX($I$2:$I$241,MATCH($E19&"Yes",$H$2:$H$241,0)),IF(OR(IFERROR(_xlpm.current="[Select]",FALSE),IFERROR(_xlpm.goal="[Select]",FALSE),IFERROR(_xlpm.current="",FALSE),IFERROR(_xlpm.goal="",FALSE)),TRUE,FALSE))),FALSE) -> FALSE | Z19: =IFERROR(_xlfn.LET(_xlpm.matchPosition,MATCH(E19&"Yes",$H$2:$H$241,0),_xlpm.timescale,INDEX($L$2:$L$241,_xlpm.matchPosition),IF(OR(_xlpm.timescale=$AH$4,_xlpm.timescale=$AI$4),ISBLANK(INDEX($M$2:$M$241,_xlpm.matchPosition)))),FALSE) -> FALSE
D20: G3(B) | E20: =LEFT(D20,FIND("(",D20)-1) -> G3 | F20: The leaver's Outlook inbox is kept. We intend to introduce a plan in the future to manage information stored in the Outlook inboxes of former users. | G20: =$E20&J20 -> G3 | H20: =$E20&K20 -> G3 | I20: Inadequate | O20: =IF(COUNTIFS(J$2:J$241,"Yes",$E$2:$E$241,$E20)=0,TRUE,FALSE) -> TRUE | P20: =IF(COUNTIFS(J$2:J$241,"Yes",$E$2:$E$241,$E20)>1,TRUE,FALSE) -> FALSE | Q20: =IF(COUNTIFS(K$2:K$241,"Yes",$E$2:$E$241,$E20)=0,TRUE,FALSE) -> TRUE | R20: =IF(K20="Yes",IF(ISBLANK(L20),TRUE,FALSE),FALSE) -> FALSE | S20: =IF(OR(L20="Next Year",L20="Next Two Years"),IF(ISBLANK(M20),TRUE,FALSE),FALSE) -> FALSE | T20: =IF(COUNTIFS(K$2:K$241,"Yes",$E$2:$E$241,$E20)>1,TRUE,FALSE) -> FALSE | U20: =IFERROR(_xlfn.LET(_xlpm.current,INDEX($I$2:$I$241,MATCH($E20&"Yes",$G$2:$G$241,0)),_xlpm.goal,INDEX($I$2:$I$241,MATCH($E20&"Yes",$H$2:$H$241,0)),IF(OR(_xlpm.current = "[Select]", _xlpm.goal = "[Select]"),FALSE,IF(OR(AND(_xlpm.current<>"n/a",_xlpm.goal="Inadequate"), AND(_xlpm.goal = "Adequate", OR(_xlpm.current = "Adequate", _xlpm.current = "Optimal ")), AND(_xlpm.current = "Optimal ", _xlpm.goal <> 0)),TRUE,FALSE))),FALSE) -> FALSE | V20: =IFERROR(_xlfn.LET(_xlpm.current,INDEX($I$2:$I$241,MATCH($E20&"Yes",$G$2:$G$241,0)),_xlfn.LET(_xlpm.goal,INDEX($I$2:$I$241,MATCH($E20&"Yes",$H$2:$H$241,0)),IF(AND(_xlpm.current="n/a",_xlpm.goal="Inadequate"),TRUE,FALSE))),FALSE) -> FALSE | W20: =IFERROR(INDEX($L$2:$L$241,MATCH(E20&"Yes",$H$2:$H$241,0))=0,FALSE) -> FALSE | X20: =IFERROR(_xlfn.LET(_xlpm.current,INDEX($F$2:$F$241,MATCH($E20&"Yes",$G$2:$G$241,0)),_xlfn.LET(_xlpm.goal,INDEX($F$2:$F$241,MATCH($E20&"Yes",$H$2:$H$241,0)),IF(OR(IFERROR(_xlpm.current="Custom [Overwrite this text if selected]",FALSE),IFERROR(_xlpm.goal="Custom [Overwrite this text if selected]",FALSE),IFERROR(_xlpm.current="",FALSE),IFERROR(_xlpm.goal="",FALSE)),TRUE,FALSE))),FALSE) -> FALSE | Y20: =IFERROR(_xlfn.LET(_xlpm.current,INDEX($I$2:$I$241,MATCH($E20&"Yes",$G$2:$G$241,0)),_xlfn.LET(_xlpm.goal,INDEX($I$2:$I$241,MATCH($E20&"Yes",$H$2:$H$241,0)),IF(OR(IFERROR(_xlpm.current="[Select]",FALSE),IFERROR(_xlpm.goal="[Select]",FALSE),IFERROR(_xlpm.current="",FALSE),IFERROR(_xlpm.goal="",FALSE)),TRUE,FALSE))),FALSE) -> FALSE | Z20: =IFERROR(_xlfn.LET(_xlpm.matchPosition,MATCH(E20&"Yes",$H$2:$H$241,0),_xlpm.timescale,INDEX($L$2:$L$241,_xlpm.matchPosition),IF(OR(_xlpm.timescale=$AH$4,_xlpm.timescale=$AI$4),ISBLANK(INDEX($M$2:$M$241,_xlpm.matchPosition)))),FALSE) -> FALSE
D21: G3(C) | E21: =LEFT(D21,FIND("(",D21)-1) -> G3 | F21: The leaver's Outlook inbox is automatically deleted after the user leaves the organisation. The leaver is expected to manually review and move copies of any content of value for retention elsewhere. | G21: =$E21&J21 -> G3 | H21: =$E21&K21 -> G3 | I21: Adequate | O21: =IF(COUNTIFS(J$2:J$241,"Yes",$E$2:$E$241,$E21)=0,TRUE,FALSE) -> TRUE | P21: =IF(COUNTIFS(J$2:J$241,"Yes",$E$2:$E$241,$E21)>1,TRUE,FALSE) -> FALSE | Q21: =IF(COUNTIFS(K$2:K$241,"Yes",$E$2:$E$241,$E21)=0,TRUE,FALSE) -> TRUE | R21: =IF(K21="Yes",IF(ISBLANK(L21),TRUE,FALSE),FALSE) -> FALSE | S21: =IF(OR(L21="Next Year",L21="Next Two Years"),IF(ISBLANK(M21),TRUE,FALSE),FALSE) -> FALSE | T21: =IF(COUNTIFS(K$2:K$241,"Yes",$E$2:$E$241,$E21)>1,TRUE,FALSE) -> FALSE | U21: =IFERROR(_xlfn.LET(_xlpm.current,INDEX($I$2:$I$241,MATCH($E21&"Yes",$G$2:$G$241,0)),_xlpm.goal,INDEX($I$2:$I$241,MATCH($E21&"Yes",$H$2:$H$241,0)),IF(OR(_xlpm.current = "[Select]", _xlpm.goal = "[Select]"),FALSE,IF(OR(AND(_xlpm.current<>"n/a",_xlpm.goal="Inadequate"), AND(_xlpm.goal = "Adequate", OR(_xlpm.current = "Adequate", _xlpm.current = "Optimal ")), AND(_xlpm.current = "Optimal ", _xlpm.goal <> 0)),TRUE,FALSE))),FALSE) -> FALSE | V21: =IFERROR(_xlfn.LET(_xlpm.current,INDEX($I$2:$I$241,MATCH($E21&"Yes",$G$2:$G$241,0)),_xlfn.LET(_xlpm.goal,INDEX($I$2:$I$241,MATCH($E21&"Yes",$H$2:$H$241,0)),IF(AND(_xlpm.current="n/a",_xlpm.goal="Inadequate"),TRUE,FALSE))),FALSE) -> FALSE | W21: =IFERROR(INDEX($L$2:$L$241,MATCH(E21&"Yes",$H$2:$H$241,0))=0,FALSE) -> FALSE | X21: =IFERROR(_xlfn.LET(_xlpm.current,INDEX($F$2:$F$241,MATCH($E21&"Yes",$G$2:$G$241,0)),_xlfn.LET(_xlpm.goal,INDEX($F$2:$F$241,MATCH($E21&"Yes",$H$2:$H$241,0)),IF(OR(IFERROR(_xlpm.current="Custom [Overwrite this text if selected]",FALSE),IFERROR(_xlpm.goal="Custom [Overwrite this text if selected]",FALSE),IFERROR(_xlpm.current="",FALSE),IFERROR(_xlpm.goal="",FALSE)),TRUE,FALSE))),FALSE) -> FALSE | Y21: =IFERROR(_xlfn.LET(_xlpm.current,INDEX($I$2:$I$241,MATCH($E21&"Yes",$G$2:$G$241,0)),_xlfn.LET(_xlpm.goal,INDEX($I$2:$I$241,MATCH($E21&"Yes",$H$2:$H$241,0)),IF(OR(IFERROR(_xlpm.current="[Select]",FALSE),IFERROR(_xlpm.goal="[Select]",FALSE),IFERROR(_xlpm.current="",FALSE),IFERROR(_xlpm.goal="",FALSE)),TRUE,FALSE))),FALSE) -> FALSE | Z21: =IFERROR(_xlfn.LET(_xlpm.matchPosition,MATCH(E21&"Yes",$H$2:$H$241,0),_xlpm.timescale,INDEX($L$2:$L$241,_xlpm.matchPosition),IF(OR(_xlpm.timescale=$AH$4,_xlpm.timescale=$AI$4),ISBLANK(INDEX($M$2:$M$241,_xlpm.matchPosition)))),FALSE) -> FALSE
D22: G3(D) | E22: =LEFT(D22,FIND("(",D22)-1) -> G3 | F22: The leaver's line manager can review the content and copy anything that needs to be kept, then the Outlook inbox is automatically deleted. | G22: =$E22&J22 -> G3 | H22: =$E22&K22 -> G3 | I22: Adequate | O22: =IF(COUNTIFS(J$2:J$241,"Yes",$E$2:$E$241,$E22)=0,TRUE,FALSE) -> TRUE | P22: =IF(COUNTIFS(J$2:J$241,"Yes",$E$2:$E$241,$E22)>1,TRUE,FALSE) -> FALSE | Q22: =IF(COUNTIFS(K$2:K$241,"Yes",$E$2:$E$241,$E22)=0,TRUE,FALSE) -> TRUE | R22: =IF(K22="Yes",IF(ISBLANK(L22),TRUE,FALSE),FALSE) -> FALSE | S22: =IF(OR(L22="Next Year",L22="Next Two Years"),IF(ISBLANK(M22),TRUE,FALSE),FALSE) -> FALSE | T22: =IF(COUNTIFS(K$2:K$241,"Yes",$E$2:$E$241,$E22)>1,TRUE,FALSE) -> FALSE | U22: =IFERROR(_xlfn.LET(_xlpm.current,INDEX($I$2:$I$241,MATCH($E22&"Yes",$G$2:$G$241,0)),_xlpm.goal,INDEX($I$2:$I$241,MATCH($E22&"Yes",$H$2:$H$241,0)),IF(OR(_xlpm.current = "[Select]", _xlpm.goal = "[Select]"),FALSE,IF(OR(AND(_xlpm.current<>"n/a",_xlpm.goal="Inadequate"), AND(_xlpm.goal = "Adequate", OR(_xlpm.current = "Adequate", _xlpm.current = "Optimal ")), AND(_xlpm.current = "Optimal ", _xlpm.goal <> 0)),TRUE,FALSE))),FALSE) -> FALSE | V22: =IFERROR(_xlfn.LET(_xlpm.current,INDEX($I$2:$I$241,MATCH($E22&"Yes",$G$2:$G$241,0)),_xlfn.LET(_xlpm.goal,INDEX($I$2:$I$241,MATCH($E22&"Yes",$H$2:$H$241,0)),IF(AND(_xlpm.current="n/a",_xlpm.goal="Inadequate"),TRUE,FALSE))),FALSE) -> FALSE | W22: =IFERROR(INDEX($L$2:$L$241,MATCH(E22&"Yes",$H$2:$H$241,0))=0,FALSE) -> FALSE | X22: =IFERROR(_xlfn.LET(_xlpm.current,INDEX($F$2:$F$241,MATCH($E22&"Yes",$G$2:$G$241,0)),_xlfn.LET(_xlpm.goal,INDEX($F$2:$F$241,MATCH($E22&"Yes",$H$2:$H$241,0)),IF(OR(IFERROR(_xlpm.current="Custom [Overwrite this text if selected]",FALSE),IFERROR(_xlpm.goal="Custom [Overwrite this text if selected]",FALSE),IFERROR(_xlpm.current="",FALSE),IFERROR(_xlpm.goal="",FALSE)),TRUE,FALSE))),FALSE) -> FALSE | Y22: =IFERROR(_xlfn.LET(_xlpm.current,INDEX($I$2:$I$241,MATCH($E22&"Yes",$G$2:$G$241,0)),_xlfn.LET(_xlpm.goal,INDEX($I$2:$I$241,MATCH($E22&"Yes",$H$2:$H$241,0)),IF(OR(IFERROR(_xlpm.current="[Select]",FALSE),IFERROR(_xlpm.goal="[Select]",FALSE),IFERROR(_xlpm.current="",FALSE),IFERROR(_xlpm.goal="",FALSE)),TRUE,FALSE))),FALSE) -> FALSE | Z22: =IFERROR(_xlfn.LET(_xlpm.matchPosition,MATCH(E22&"Yes",$H$2:$H$241,0),_xlpm.timescale,INDEX($L$2:$L$241,_xlpm.matchPosition),IF(OR(_xlpm.timescale=$AH$4,_xlpm.timescale=$AI$4),ISBLANK(INDEX($M$2:$M$241,_xlpm.matchPosition)))),FALSE) -> FALSE
D23: G3(E) | E23: =LEFT(D23,FIND("(",D23)-1) -> G3 | F23: We encourage users to move records elsewhere, and minimise storage of any content of value in inboxes. | G23: =$E23&J23 -> G3 | H23: =$E23&K23 -> G3 | I23: Adequate | O23: =IF(COUNTIFS(J$2:J$241,"Yes",$E$2:$E$241,$E23)=0,TRUE,FALSE) -> TRUE | P23: =IF(COUNTIFS(J$2:J$241,"Yes",$E$2:$E$241,$E23)>1,TRUE,FALSE) -> FALSE | Q23: =IF(COUNTIFS(K$2:K$241,"Yes",$E$2:$E$241,$E23)=0,TRUE,FALSE) -> TRUE | R23: =IF(K23="Yes",IF(ISBLANK(L23),TRUE,FALSE),FALSE) -> FALSE | S23: =IF(OR(L23="Next Year",L23="Next Two Years"),IF(ISBLANK(M23),TRUE,FALSE),FALSE) -> FALSE | T23: =IF(COUNTIFS(K$2:K$241,"Yes",$E$2:$E$241,$E23)>1,TRUE,FALSE) -> FALSE | U23: =IFERROR(_xlfn.LET(_xlpm.current,INDEX($I$2:$I$241,MATCH($E23&"Yes",$G$2:$G$241,0)),_xlpm.goal,INDEX($I$2:$I$241,MATCH($E23&"Yes",$H$2:$H$241,0)),IF(OR(_xlpm.current = "[Select]", _xlpm.goal = "[Select]"),FALSE,IF(OR(AND(_xlpm.current<>"n/a",_xlpm.goal="Inadequate"), AND(_xlpm.goal = "Adequate", OR(_xlpm.current = "Adequate", _xlpm.current = "Optimal ")), AND(_xlpm.current = "Optimal ", _xlpm.goal <> 0)),TRUE,FALSE))),FALSE) -> FALSE | V23: =IFERROR(_xlfn.LET(_xlpm.current,INDEX($I$2:$I$241,MATCH($E23&"Yes",$G$2:$G$241,0)),_xlfn.LET(_xlpm.goal,INDEX($I$2:$I$241,MATCH($E23&"Yes",$H$2:$H$241,0)),IF(AND(_xlpm.current="n/a",_xlpm.goal="Inadequate"),TRUE,FALSE))),FALSE) -> FALSE | W23: =IFERROR(INDEX($L$2:$L$241,MATCH(E23&"Yes",$H$2:$H$241,0))=0,FALSE) -> FALSE | X23: =IFERROR(_xlfn.LET(_xlpm.current,INDEX($F$2:$F$241,MATCH($E23&"Yes",$G$2:$G$241,0)),_xlfn.LET(_xlpm.goal,INDEX($F$2:$F$241,MATCH($E23&"Yes",$H$2:$H$241,0)),IF(OR(IFERROR(_xlpm.current="Custom [Overwrite this text if selected]",FALSE),IFERROR(_xlpm.goal="Custom [Overwrite this text if selected]",FALSE),IFERROR(_xlpm.current="",FALSE),IFERROR(_xlpm.goal="",FALSE)),TRUE,FALSE))),FALSE) -> FALSE | Y23: =IFERROR(_xlfn.LET(_xlpm.current,INDEX($I$2:$I$241,MATCH($E23&"Yes",$G$2:$G$241,0)),_xlfn.LET(_xlpm.goal,INDEX($I$2:$I$241,MATCH($E23&"Yes",$H$2:$H$241,0)),IF(OR(IFERROR(_xlpm.current="[Select]",FALSE),IFERROR(_xlpm.goal="[Select]",FALSE),IFERROR(_xlpm.current="",FALSE),IFERROR(_xlpm.goal="",FALSE)),TRUE,FALSE))),FALSE) -> FALSE | Z23: =IFERROR(_xlfn.LET(_xlpm.matchPosition,MATCH(E23&"Yes",$H$2:$H$241,0),_xlpm.timescale,INDEX($L$2:$L$241,_xlpm.matchPosition),IF(OR(_xlpm.timescale=$AH$4,_xlpm.timescale=$AI$4),ISBLANK(INDEX($M$2:$M$241,_xlpm.matchPosition)))),FALSE) -> FALSE
D24: G3(F) | E24: =LEFT(D24,FIND("(",D24)-1) -> G3 | F24: The leaver's Outlook inbox is kept. We rely on retention policies/labels to delete content in Outlook inboxes. | G24: =$E24&J24 -> G3 | H24: =$E24&K24 -> G3 | I24: Adequate | O24: =IF(COUNTIFS(J$2:J$241,"Yes",$E$2:$E$241,$E24)=0,TRUE,FALSE) -> TRUE | P24: =IF(COUNTIFS(J$2:J$241,"Yes",$E$2:$E$241,$E24)>1,TRUE,FALSE) -> FALSE | Q24: =IF(COUNTIFS(K$2:K$241,"Yes",$E$2:$E$241,$E24)=0,TRUE,FALSE) -> TRUE | R24: =IF(K24="Yes",IF(ISBLANK(L24),TRUE,FALSE),FALSE) -> FALSE | S24: =IF(OR(L24="Next Year",L24="Next Two Years"),IF(ISBLANK(M24),TRUE,FALSE),FALSE) -> FALSE | T24: =IF(COUNTIFS(K$2:K$241,"Yes",$E$2:$E$241,$E24)>1,TRUE,FALSE) -> FALSE | U24: =IFERROR(_xlfn.LET(_xlpm.current,INDEX($I$2:$I$241,MATCH($E24&"Yes",$G$2:$G$241,0)),_xlpm.goal,INDEX($I$2:$I$241,MATCH($E24&"Yes",$H$2:$H$241,0)),IF(OR(_xlpm.current = "[Select]", _xlpm.goal = "[Select]"),FALSE,IF(OR(AND(_xlpm.current<>"n/a",_xlpm.goal="Inadequate"), AND(_xlpm.goal = "Adequate", OR(_xlpm.current = "Adequate", _xlpm.current = "Optimal ")), AND(_xlpm.current = "Optimal ", _xlpm.goal <> 0)),TRUE,FALSE))),FALSE) -> FALSE | V24: =IFERROR(_xlfn.LET(_xlpm.current,INDEX($I$2:$I$241,MATCH($E24&"Yes",$G$2:$G$241,0)),_xlfn.LET(_xlpm.goal,INDEX($I$2:$I$241,MATCH($E24&"Yes",$H$2:$H$241,0)),IF(AND(_xlpm.current="n/a",_xlpm.goal="Inadequate"),TRUE,FALSE))),FALSE) -> FALSE | W24: =IFERROR(INDEX($L$2:$L$241,MATCH(E24&"Yes",$H$2:$H$241,0))=0,FALSE) -> FALSE | X24: =IFERROR(_xlfn.LET(_xlpm.current,INDEX($F$2:$F$241,MATCH($E24&"Yes",$G$2:$G$241,0)),_xlfn.LET(_xlpm.goal,INDEX($F$2:$F$241,MATCH($E24&"Yes",$H$2:$H$241,0)),IF(OR(IFERROR(_xlpm.current="Custom [Overwrite this text if selected]",FALSE),IFERROR(_xlpm.goal="Custom [Overwrite this text if selected]",FALSE),IFERROR(_xlpm.current="",FALSE),IFERROR(_xlpm.goal="",FALSE)),TRUE,FALSE))),FALSE) -> FALSE | Y24: =IFERROR(_xlfn.LET(_xlpm.current,INDEX($I$2:$I$241,MATCH($E24&"Yes",$G$2:$G$241,0)),_xlfn.LET(_xlpm.goal,INDEX($I$2:$I$241,MATCH($E24&"Yes",$H$2:$H$241,0)),IF(OR(IFERROR(_xlpm.current="[Select]",FALSE),IFERROR(_xlpm.goal="[Select]",FALSE),IFERROR(_xlpm.current="",FALSE),IFERROR(_xlpm.goal="",FALSE)),TRUE,FALSE))),FALSE) -> FALSE | Z24: =IFERROR(_xlfn.LET(_xlpm.matchPosition,MATCH(E24&"Yes",$H$2:$H$241,0),_xlpm.timescale,INDEX($L$2:$L$241,_xlpm.matchPosition),IF(OR(_xlpm.timescale=$AH$4,_xlpm.timescale=$AI$4),ISBLANK(INDEX($M$2:$M$241,_xlpm.matchPosition)))),FALSE) -> FALSE
D25: G3(G) | E25: =LEFT(D25,FIND("(",D25)-1) -> G3 | F25: Custom [Overwrite this text if selected] | G25: =$E25&J25 -> G3 | H25: =$E25&K25 -> G3 | I25: [Select] | O25: =IF(COUNTIFS(J$2:J$241,"Yes",$E$2:$E$241,$E25)=0,TRUE,FALSE) -> TRUE | P25: =IF(COUNTIFS(J$2:J$241,"Yes",$E$2:$E$241,$E25)>1,TRUE,FALSE) -> FALSE | Q25: =IF(COUNTIFS(K$2:K$241,"Yes",$E$2:$E$241,$E25)=0,TRUE,FALSE) -> TRUE | R25: =IF(K25="Yes",IF(ISBLANK(L25),TRUE,FALSE),FALSE) -> FALSE | S25: =IF(OR(L25="Next Year",L25="Next Two Years"),IF(ISBLANK(M25),TRUE,FALSE),FALSE) -> FALSE | T25: =IF(COUNTIFS(K$2:K$241,"Yes",$E$2:$E$241,$E25)>1,TRUE,FALSE) -> FALSE | U25: =IFERROR(_xlfn.LET(_xlpm.current,INDEX($I$2:$I$241,MATCH($E25&"Yes",$G$2:$G$241,0)),_xlpm.goal,INDEX($I$2:$I$241,MATCH($E25&"Yes",$H$2:$H$241,0)),IF(OR(_xlpm.current = "[Select]", _xlpm.goal = "[Select]"),FALSE,IF(OR(AND(_xlpm.current<>"n/a",_xlpm.goal="Inadequate"), AND(_xlpm.goal = "Adequate", OR(_xlpm.current = "Adequate", _xlpm.current = "Optimal ")), AND(_xlpm.current = "Optimal ", _xlpm.goal <> 0)),TRUE,FALSE))),FALSE) -> FALSE | V25: =IFERROR(_xlfn.LET(_xlpm.current,INDEX($I$2:$I$241,MATCH($E25&"Yes",$G$2:$G$241,0)),_xlfn.LET(_xlpm.goal,INDEX($I$2:$I$241,MATCH($E25&"Yes",$H$2:$H$241,0)),IF(AND(_xlpm.current="n/a",_xlpm.goal="Inadequate"),TRUE,FALSE))),FALSE) -> FALSE | W25: =IFERROR(INDEX($L$2:$L$241,MATCH(E25&"Yes",$H$2:$H$241,0))=0,FALSE) -> FALSE | X25: =IFERROR(_xlfn.LET(_xlpm.current,INDEX($F$2:$F$241,MATCH($E25&"Yes",$G$2:$G$241,0)),_xlfn.LET(_xlpm.goal,INDEX($F$2:$F$241,MATCH($E25&"Yes",$H$2:$H$241,0)),IF(OR(IFERROR(_xlpm.current="Custom [Overwrite this text if selected]",FALSE),IFERROR(_xlpm.goal="Custom [Overwrite this text if selected]",FALSE),IFERROR(_xlpm.current="",FALSE),IFERROR(_xlpm.goal="",FALSE)),TRUE,FALSE))),FALSE) -> FALSE | Y25: =IFERROR(_xlfn.LET(_xlpm.current,INDEX($I$2:$I$241,MATCH($E25&"Yes",$G$2:$G$241,0)),_xlfn.LET(_xlpm.goal,INDEX($I$2:$I$241,MATCH($E25&"Yes",$H$2:$H$241,0)),IF(OR(IFERROR(_xlpm.current="[Select]",FALSE),IFERROR(_xlpm.goal="[Select]",FALSE),IFERROR(_xlpm.current="",FALSE),IFERROR(_xlpm.goal="",FALSE)),TRUE,FALSE))),FALSE) -> FALSE | Z25: =IFERROR(_xlfn.LET(_xlpm.matchPosition,MATCH(E25&"Yes",$H$2:$H$241,0),_xlpm.timescale,INDEX($L$2:$L$241,_xlpm.matchPosition),IF(OR(_xlpm.timescale=$AH$4,_xlpm.timescale=$AI$4),ISBLANK(INDEX($M$2:$M$241,_xlpm.matchPosition)))),FALSE) -> FALSE
D26: G3(H) | E26: =LEFT(D26,FIND("(",D26)-1) -> G3 | F26: Custom [Overwrite this text if selected] | G26: =$E26&J26 -> G3 | H26: =$E26&K26 -> G3 | I26: [Select] | O26: =IF(COUNTIFS(J$2:J$241,"Yes",$E$2:$E$241,$E26)=0,TRUE,FALSE) -> TRUE | P26: =IF(COUNTIFS(J$2:J$241,"Yes",$E$2:$E$241,$E26)>1,TRUE,FALSE) -> FALSE | Q26: =IF(COUNTIFS(K$2:K$241,"Yes",$E$2:$E$241,$E26)=0,TRUE,FALSE) -> TRUE | R26: =IF(K26="Yes",IF(ISBLANK(L26),TRUE,FALSE),FALSE) -> FALSE | S26: =IF(OR(L26="Next Year",L26="Next Two Years"),IF(ISBLANK(M26),TRUE,FALSE),FALSE) -> FALSE | T26: =IF(COUNTIFS(K$2:K$241,"Yes",$E$2:$E$241,$E26)>1,TRUE,FALSE) -> FALSE | U26: =IFERROR(_xlfn.LET(_xlpm.current,INDEX($I$2:$I$241,MATCH($E26&"Yes",$G$2:$G$241,0)),_xlpm.goal,INDEX($I$2:$I$241,MATCH($E26&"Yes",$H$2:$H$241,0)),IF(OR(_xlpm.current = "[Select]", _xlpm.goal = "[Select]"),FALSE,IF(OR(AND(_xlpm.current<>"n/a",_xlpm.goal="Inadequate"), AND(_xlpm.goal = "Adequate", OR(_xlpm.current = "Adequate", _xlpm.current = "Optimal ")), AND(_xlpm.current = "Optimal ", _xlpm.goal <> 0)),TRUE,FALSE))),FALSE) -> FALSE | V26: =IFERROR(_xlfn.LET(_xlpm.current,INDEX($I$2:$I$241,MATCH($E26&"Yes",$G$2:$G$241,0)),_xlfn.LET(_xlpm.goal,INDEX($I$2:$I$241,MATCH($E26&"Yes",$H$2:$H$241,0)),IF(AND(_xlpm.current="n/a",_xlpm.goal="Inadequate"),TRUE,FALSE))),FALSE) -> FALSE | W26: =IFERROR(INDEX($L$2:$L$241,MATCH(E26&"Yes",$H$2:$H$241,0))=0,FALSE) -> FALSE | X26: =IFERROR(_xlfn.LET(_xlpm.current,INDEX($F$2:$F$241,MATCH($E26&"Yes",$G$2:$G$241,0)),_xlfn.LET(_xlpm.goal,INDEX($F$2:$F$241,MATCH($E26&"Yes",$H$2:$H$241,0)),IF(OR(IFERROR(_xlpm.current="Custom [Overwrite this text if selected]",FALSE),IFERROR(_xlpm.goal="Custom [Overwrite this text if selected]",FALSE),IFERROR(_xlpm.current="",FALSE),IFERROR(_xlpm.goal="",FALSE)),TRUE,FALSE))),FALSE) -> FALSE | Y26: =IFERROR(_xlfn.LET(_xlpm.current,INDEX($I$2:$I$241,MATCH($E26&"Yes",$G$2:$G$241,0)),_xlfn.LET(_xlpm.goal,INDEX($I$2:$I$241,MATCH($E26&"Yes",$H$2:$H$241,0)),IF(OR(IFERROR(_xlpm.current="[Select]",FALSE),IFERROR(_xlpm.goal="[Select]",FALSE),IFERROR(_xlpm.current="",FALSE),IFERROR(_xlpm.goal="",FALSE)),TRUE,FALSE))),FALSE) -> FALSE | Z26: =IFERROR(_xlfn.LET(_xlpm.matchPosition,MATCH(E26&"Yes",$H$2:$H$241,0),_xlpm.timescale,INDEX($L$2:$L$241,_xlpm.matchPosition),IF(OR(_xlpm.timescale=$AH$4,_xlpm.timescale=$AI$4),ISBLANK(INDEX($M$2:$M$241,_xlpm.matchPosition)))),FALSE) -> FALSE
A27: G4 | B27: Governance | C27: How do you ensure that content stored in Microsoft 365 is included in your response to Information Rights Requests? | D27: G4(NA) | E27: =LEFT(D27,FIND("(",D27)-1) -> G4 | F27: Not applicable | G27: =$E27&J27 -> G4 | H27: =$E27&K27 -> G4 | I27: n/a | O27: =IF(COUNTIFS(J$2:J$241,"Yes",$E$2:$E$241,$E27)=0,TRUE,FALSE) -> TRUE | P27: =IF(COUNTIFS(J$2:J$241,"Yes",$E$2:$E$241,$E27)>1,TRUE,FALSE) -> FALSE | Q27: =IF(COUNTIFS(K$2:K$241,"Yes",$E$2:$E$241,$E27)=0,TRUE,FALSE) -> TRUE | R27: =IF(K27="Yes",IF(ISBLANK(L27),TRUE,FALSE),FALSE) -> FALSE | S27: =IF(OR(L27="Next Year",L27="Next Two Years"),IF(ISBLANK(M27),TRUE,FALSE),FALSE) -> FALSE | T27: =IF(COUNTIFS(K$2:K$241,"Yes",$E$2:$E$241,$E27)>1,TRUE,FALSE) -> FALSE | U27: =IFERROR(_xlfn.LET(_xlpm.current,INDEX($I$2:$I$241,MATCH($E27&"Yes",$G$2:$G$241,0)),_xlpm.goal,INDEX($I$2:$I$241,MATCH($E27&"Yes",$H$2:$H$241,0)),IF(OR(_xlpm.current = "[Select]", _xlpm.goal = "[Select]"),FALSE,IF(OR(AND(_xlpm.current<>"n/a",_xlpm.goal="Inadequate"), AND(_xlpm.goal = "Adequate", OR(_xlpm.current = "Adequate", _xlpm.current = "Optimal ")), AND(_xlpm.current = "Optimal ", _xlpm.goal <> 0)),TRUE,FALSE))),FALSE) -> FALSE | V27: =IFERROR(_xlfn.LET(_xlpm.current,INDEX($I$2:$I$241,MATCH($E27&"Yes",$G$2:$G$241,0)),_xlfn.LET(_xlpm.goal,INDEX($I$2:$I$241,MATCH($E27&"Yes",$H$2:$H$241,0)),IF(AND(_xlpm.current="n/a",_xlpm.goal="Inadequate"),TRUE,FALSE))),FALSE) -> FALSE | W27: =IFERROR(INDEX($L$2:$L$241,MATCH(E27&"Yes",$H$2:$H$241,0))=0,FALSE) -> FALSE | X27: =IFERROR(_xlfn.LET(_xlpm.current,INDEX($F$2:$F$241,MATCH($E27&"Yes",$G$2:$G$241,0)),_xlfn.LET(_xlpm.goal,INDEX($F$2:$F$241,MATCH($E27&"Yes",$H$2:$H$241,0)),IF(OR(IFERROR(_xlpm.current="Custom [Overwrite this text if selected]",FALSE),IFERROR(_xlpm.goal="Custom [Overwrite this text if selected]",FALSE),IFERROR(_xlpm.current="",FALSE),IFERROR(_xlpm.goal="",FALSE)),TRUE,FALSE))),FALSE) -> FALSE | Y27: =IFERROR(_xlfn.LET(_xlpm.current,INDEX($I$2:$I$241,MATCH($E27&"Yes",$G$2:$G$241,0)),_xlfn.LET(_xlpm.goal,INDEX($I$2:$I$241,MATCH($E27&"Yes",$H$2:$H$241,0)),IF(OR(IFERROR(_xlpm.current="[Select]",FALSE),IFERROR(_xlpm.goal="[Select]",FALSE),IFERROR(_xlpm.current="",FALSE),IFERROR(_xlpm.goal="",FALSE)),TRUE,FALSE))),FALSE) -> FALSE | Z27: =IFERROR(_xlfn.LET(_xlpm.matchPosition,MATCH(E27&"Yes",$H$2:$H$241,0),_xlpm.timescale,INDEX($L$2:$L$241,_xlpm.matchPosition),IF(OR(_xlpm.timescale=$AH$4,_xlpm.timescale=$AI$4),ISBLANK(INDEX($M$2:$M$241,_xlpm.matchPosition)))),FALSE) -> FALSE | AA27: {=_xlfn.LET( _xlpm.currentText,IF(OR(O27,P27),"- Please select exactly one current practice (or 'Not applicable')",""), _xlpm.goalsText,IF(T27,"- Please select exactly one goal",""), _xlpm.insufficientGoal,IF(U27,"- Note: selected goal is at same or lower level than current state",""), _xlpm.naToInadequate,IF(V27,"- Note: selected goal is inadequate",""), _xlpm.customGoalButNoDescription,IF(X27,"- Please provide a description for your custom state in column F",""), _xlpm.customGoalButNoMaturitySpecified,IF(Y27,"- Please select a maturity level for custom state",""), _xlpm.goalButNoTimescale,IF(W27,"- Please use the 'Improvement timescale' field to indicate how quickly improvement is planned for",""), _xlpm.timescaleButNoAction,IF(Z27,"- Please indicate what actions you intend to take to improve within the " & LOWER(L27),""), _xlpm.texts,_xlfn.VSTACK(_xlpm.currentText,_xlpm.goalsText,_xlpm.insufficientGoal,_xlpm.naToInadequate,_xlpm.customGoalButNoDescription,_xlpm.customGoalButNoMaturitySpecified,_xlpm.goalButNoTimescale,_xlpm.timescaleButNoAction), IFERROR(_xlfn.TEXTJOIN(CHAR(10),TRUE,_xlfn._xlws.FILTER(_xlpm.texts,_xlpm.texts <> "")),""))} -> - Please select exactly one current practice (or 'Not applicable')
D28: G4(A) | E28: =LEFT(D28,FIND("(",D28)-1) -> G4 | F28: We have a largely manual process, which endeavours to include content stored in Microsoft 365 within Information Rights Requests. | G28: =$E28&J28 -> G4 | H28: =$E28&K28 -> G4 | I28: Inadequate | O28: =IF(COUNTIFS(J$2:J$241,"Yes",$E$2:$E$241,$E28)=0,TRUE,FALSE) -> TRUE | P28: =IF(COUNTIFS(J$2:J$241,"Yes",$E$2:$E$241,$E28)>1,TRUE,FALSE) -> FALSE | Q28: =IF(COUNTIFS(K$2:K$241,"Yes",$E$2:$E$241,$E28)=0,TRUE,FALSE) -> TRUE | R28: =IF(K28="Yes",IF(ISBLANK(L28),TRUE,FALSE),FALSE) -> FALSE | S28: =IF(OR(L28="Next Year",L28="Next Two Years"),IF(ISBLANK(M28),TRUE,FALSE),FALSE) -> FALSE | T28: =IF(COUNTIFS(K$2:K$241,"Yes",$E$2:$E$241,$E28)>1,TRUE,FALSE) -> FALSE | U28: =IFERROR(_xlfn.LET(_xlpm.current,INDEX($I$2:$I$241,MATCH($E28&"Yes",$G$2:$G$241,0)),_xlpm.goal,INDEX($I$2:$I$241,MATCH($E28&"Yes",$H$2:$H$241,0)),IF(OR(_xlpm.current = "[Select]", _xlpm.goal = "[Select]"),FALSE,IF(OR(AND(_xlpm.current<>"n/a",_xlpm.goal="Inadequate"), AND(_xlpm.goal = "Adequate", OR(_xlpm.current = "Adequate", _xlpm.current = "Optimal ")), AND(_xlpm.current = "Optimal ", _xlpm.goal <> 0)),TRUE,FALSE))),FALSE) -> FALSE | V28: =IFERROR(_xlfn.LET(_xlpm.current,INDEX($I$2:$I$241,MATCH($E28&"Yes",$G$2:$G$241,0)),_xlfn.LET(_xlpm.goal,INDEX($I$2:$I$241,MATCH($E28&"Yes",$H$2:$H$241,0)),IF(AND(_xlpm.current="n/a",_xlpm.goal="Inadequate"),TRUE,FALSE))),FALSE) -> FALSE | W28: =IFERROR(INDEX($L$2:$L$241,MATCH(E28&"Yes",$H$2:$H$241,0))=0,FALSE) -> FALSE | X28: =IFERROR(_xlfn.LET(_xlpm.current,INDEX($F$2:$F$241,MATCH($E28&"Yes",$G$2:$G$241,0)),_xlfn.LET(_xlpm.goal,INDEX($F$2:$F$241,MATCH($E28&"Yes",$H$2:$H$241,0)),IF(OR(IFERROR(_xlpm.current="Custom [Overwrite this text if selected]",FALSE),IFERROR(_xlpm.goal="Custom [Overwrite this text if selected]",FALSE),IFERROR(_xlpm.current="",FALSE),IFERROR(_xlpm.goal="",FALSE)),TRUE,FALSE))),FALSE) -> FALSE | Y28: =IFERROR(_xlfn.LET(_xlpm.current,INDEX($I$2:$I$241,MATCH($E28&"Yes",$G$2:$G$241,0)),_xlfn.LET(_xlpm.goal,INDEX($I$2:$I$241,MATCH($E28&"Yes",$H$2:$H$241,0)),IF(OR(IFERROR(_xlpm.current="[Select]",FALSE),IFERROR(_xlpm.goal="[Select]",FALSE),IFERROR(_xlpm.current="",FALSE),IFERROR(_xlpm.goal="",FALSE)),TRUE,FALSE))),FALSE) -> FALSE | Z28: =IFERROR(_xlfn.LET(_xlpm.matchPosition,MATCH(E28&"Yes",$H$2:$H$241,0),_xlpm.timescale,INDEX($L$2:$L$241,_xlpm.matchPosition),IF(OR(_xlpm.timescale=$AH$4,_xlpm.timescale=$AI$4),ISBLANK(INDEX($M$2:$M$241,_xlpm.matchPosition)))),FALSE) -> FALSE
D29: G4(B) | E29: =LEFT(D29,FIND("(",D29)-1) -> G4 | F29: We use a third-party Information Rights Request tool/process outside of Microsoft 365 to assist our response to Information Rights Requests. | G29: =$E29&J29 -> G4 | H29: =$E29&K29 -> G4 | I29: Inadequate | O29: =IF(COUNTIFS(J$2:J$241,"Yes",$E$2:$E$241,$E29)=0,TRUE,FALSE) -> TRUE | P29: =IF(COUNTIFS(J$2:J$241,"Yes",$E$2:$E$241,$E29)>1,TRUE,FALSE) -> FALSE | Q29: =IF(COUNTIFS(K$2:K$241,"Yes",$E$2:$E$241,$E29)=0,TRUE,FALSE) -> TRUE | R29: =IF(K29="Yes",IF(ISBLANK(L29),TRUE,FALSE),FALSE) -> FALSE | S29: =IF(OR(L29="Next Year",L29="Next Two Years"),IF(ISBLANK(M29),TRUE,FALSE),FALSE) -> FALSE | T29: =IF(COUNTIFS(K$2:K$241,"Yes",$E$2:$E$241,$E29)>1,TRUE,FALSE) -> FALSE | U29: =IFERROR(_xlfn.LET(_xlpm.current,INDEX($I$2:$I$241,MATCH($E29&"Yes",$G$2:$G$241,0)),_xlpm.goal,INDEX($I$2:$I$241,MATCH($E29&"Yes",$H$2:$H$241,0)),IF(OR(_xlpm.current = "[Select]", _xlpm.goal = "[Select]"),FALSE,IF(OR(AND(_xlpm.current<>"n/a",_xlpm.goal="Inadequate"), AND(_xlpm.goal = "Adequate", OR(_xlpm.current = "Adequate", _xlpm.current = "Optimal ")), AND(_xlpm.current = "Optimal ", _xlpm.goal <> 0)),TRUE,FALSE))),FALSE) -> FALSE | V29: =IFERROR(_xlfn.LET(_xlpm.current,INDEX($I$2:$I$241,MATCH($E29&"Yes",$G$2:$G$241,0)),_xlfn.LET(_xlpm.goal,INDEX($I$2:$I$241,MATCH($E29&"Yes",$H$2:$H$241,0)),IF(AND(_xlpm.current="n/a",_xlpm.goal="Inadequate"),TRUE,FALSE))),FALSE) -> FALSE | W29: =IFERROR(INDEX($L$2:$L$241,MATCH(E29&"Yes",$H$2:$H$241,0))=0,FALSE) -> FALSE | X29: =IFERROR(_xlfn.LET(_xlpm.current,INDEX($F$2:$F$241,MATCH($E29&"Yes",$G$2:$G$241,0)),_xlfn.LET(_xlpm.goal,INDEX($F$2:$F$241,MATCH($E29&"Yes",$H$2:$H$241,0)),IF(OR(IFERROR(_xlpm.current="Custom [Overwrite this text if selected]",FALSE),IFERROR(_xlpm.goal="Custom [Overwrite this text if selected]",FALSE),IFERROR(_xlpm.current="",FALSE),IFERROR(_xlpm.goal="",FALSE)),TRUE,FALSE))),FALSE) -> FALSE | Y29: =IFERROR(_xlfn.LET(_xlpm.current,INDEX($I$2:$I$241,MATCH($E29&"Yes",$G$2:$G$241,0)),_xlfn.LET(_xlpm.goal,INDEX($I$2:$I$241,MATCH($E29&"Yes",$H$2:$H$241,0)),IF(OR(IFERROR(_xlpm.current="[Select]",FALSE),IFERROR(_xlpm.goal="[Select]",FALSE),IFERROR(_xlpm.current="",FALSE),IFERROR(_xlpm.goal="",FALSE)),TRUE,FALSE))),FALSE) -> FALSE | Z29: =IFERROR(_xlfn.LET(_xlpm.matchPosition,MATCH(E29&"Yes",$H$2:$H$241,0),_xlpm.timescale,INDEX($L$2:$L$241,_xlpm.matchPosition),IF(OR(_xlpm.timescale=$AH$4,_xlpm.timescale=$AI$4),ISBLANK(INDEX($M$2:$M$241,_xlpm.matchPosition)))),FALSE) -> FALSE
D30: G4(C) | E30: =LEFT(D30,FIND("(",D30)-1) -> G4 | F30: We use Microsoft Priva's 'Subject Rights Request' capability to assist our response to Information Rights Requests. | G30: =$E30&J30 -> G4 | H30: =$E30&K30 -> G4 | I30: Optimal | O30: =IF(COUNTIFS(J$2:J$241,"Yes",$E$2:$E$241,$E30)=0,TRUE,FALSE) -> TRUE | P30: =IF(COUNTIFS(J$2:J$241,"Yes",$E$2:$E$241,$E30)>1,TRUE,FALSE) -> FALSE | Q30: =IF(COUNTIFS(K$2:K$241,"Yes",$E$2:$E$241,$E30)=0,TRUE,FALSE) -> TRUE | R30: =IF(K30="Yes",IF(ISBLANK(L30),TRUE,FALSE),FALSE) -> FALSE | S30: =IF(OR(L30="Next Year",L30="Next Two Years"),IF(ISBLANK(M30),TRUE,FALSE),FALSE) -> FALSE | T30: =IF(COUNTIFS(K$2:K$241,"Yes",$E$2:$E$241,$E30)>1,TRUE,FALSE) -> FALSE | U30: =IFERROR(_xlfn.LET(_xlpm.current,INDEX($I$2:$I$241,MATCH($E30&"Yes",$G$2:$G$241,0)),_xlpm.goal,INDEX($I$2:$I$241,MATCH($E30&"Yes",$H$2:$H$241,0)),IF(OR(_xlpm.current = "[Select]", _xlpm.goal = "[Select]"),FALSE,IF(OR(AND(_xlpm.current<>"n/a",_xlpm.goal="Inadequate"), AND(_xlpm.goal = "Adequate", OR(_xlpm.current = "Adequate", _xlpm.current = "Optimal ")), AND(_xlpm.current = "Optimal ", _xlpm.goal <> 0)),TRUE,FALSE))),FALSE) -> FALSE | V30: =IFERROR(_xlfn.LET(_xlpm.current,INDEX($I$2:$I$241,MATCH($E30&"Yes",$G$2:$G$241,0)),_xlfn.LET(_xlpm.goal,INDEX($I$2:$I$241,MATCH($E30&"Yes",$H$2:$H$241,0)),IF(AND(_xlpm.current="n/a",_xlpm.goal="Inadequate"),TRUE,FALSE))),FALSE) -> FALSE | W30: =IFERROR(INDEX($L$2:$L$241,MATCH(E30&"Yes",$H$2:$H$241,0))=0,FALSE) -> FALSE | X30: =IFERROR(_xlfn.LET(_xlpm.current,INDEX($F$2:$F$241,MATCH($E30&"Yes",$G$2:$G$241,0)),_xlfn.LET(_xlpm.goal,INDEX($F$2:$F$241,MATCH($E30&"Yes",$H$2:$H$241,0)),IF(OR(IFERROR(_xlpm.current="Custom [Overwrite this text if selected]",FALSE),IFERROR(_xlpm.goal="Custom [Overwrite this text if selected]",FALSE),IFERROR(_xlpm.current="",FALSE),IFERROR(_xlpm.goal="",FALSE)),TRUE,FALSE))),FALSE) -> FALSE | Y30: =IFERROR(_xlfn.LET(_xlpm.current,INDEX($I$2:$I$241,MATCH($E30&"Yes",$G$2:$G$241,0)),_xlfn.LET(_xlpm.goal,INDEX($I$2:$I$241,MATCH($E30&"Yes",$H$2:$H$241,0)),IF(OR(IFERROR(_xlpm.current="[Select]",FALSE),IFERROR(_xlpm.goal="[Select]",FALSE),IFERROR(_xlpm.current="",FALSE),IFERROR(_xlpm.goal="",FALSE)),TRUE,FALSE))),FALSE) -> FALSE | Z30: =IFERROR(_xlfn.LET(_xlpm.matchPosition,MATCH(E30&"Yes",$H$2:$H$241,0),_xlpm.timescale,INDEX($L$2:$L$241,_xlpm.matchPosition),IF(OR(_xlpm.timescale=$AH$4,_xlpm.timescale=$AI$4),ISBLANK(INDEX($M$2:$M$241,_xlpm.matchPosition)))),FALSE) -> FALSE
D31: G4(D) | E31: =LEFT(D31,FIND("(",D31)-1) -> G4 | F31: We use Microsoft Purview's 'Content Search' or 'eDiscovery' capabilities to assist our response to Information Rights Requests. | G31: =$E31&J31 -> G4 | H31: =$E31&K31 -> G4 | I31: Optimal | O31: =IF(COUNTIFS(J$2:J$241,"Yes",$E$2:$E$241,$E31)=0,TRUE,FALSE) -> TRUE | P31: =IF(COUNTIFS(J$2:J$241,"Yes",$E$2:$E$241,$E31)>1,TRUE,FALSE) -> FALSE | Q31: =IF(COUNTIFS(K$2:K$241,"Yes",$E$2:$E$241,$E31)=0,TRUE,FALSE) -> TRUE | R31: =IF(K31="Yes",IF(ISBLANK(L31),TRUE,FALSE),FALSE) -> FALSE | S31: =IF(OR(L31="Next Year",L31="Next Two Years"),IF(ISBLANK(M31),TRUE,FALSE),FALSE) -> FALSE | T31: =IF(COUNTIFS(K$2:K$241,"Yes",$E$2:$E$241,$E31)>1,TRUE,FALSE) -> FALSE | U31: =IFERROR(_xlfn.LET(_xlpm.current,INDEX($I$2:$I$241,MATCH($E31&"Yes",$G$2:$G$241,0)),_xlpm.goal,INDEX($I$2:$I$241,MATCH($E31&"Yes",$H$2:$H$241,0)),IF(OR(_xlpm.current = "[Select]", _xlpm.goal = "[Select]"),FALSE,IF(OR(AND(_xlpm.current<>"n/a",_xlpm.goal="Inadequate"), AND(_xlpm.goal = "Adequate", OR(_xlpm.current = "Adequate", _xlpm.current = "Optimal ")), AND(_xlpm.current = "Optimal ", _xlpm.goal <> 0)),TRUE,FALSE))),FALSE) -> FALSE | V31: =IFERROR(_xlfn.LET(_xlpm.current,INDEX($I$2:$I$241,MATCH($E31&"Yes",$G$2:$G$241,0)),_xlfn.LET(_xlpm.goal,INDEX($I$2:$I$241,MATCH($E31&"Yes",$H$2:$H$241,0)),IF(AND(_xlpm.current="n/a",_xlpm.goal="Inadequate"),TRUE,FALSE))),FALSE) -> FALSE | W31: =IFERROR(INDEX($L$2:$L$241,MATCH(E31&"Yes",$H$2:$H$241,0))=0,FALSE) -> FALSE | X31: =IFERROR(_xlfn.LET(_xlpm.current,INDEX($F$2:$F$241,MATCH($E31&"Yes",$G$2:$G$241,0)),_xlfn.LET(_xlpm.goal,INDEX($F$2:$F$241,MATCH($E31&"Yes",$H$2:$H$241,0)),IF(OR(IFERROR(_xlpm.current="Custom [Overwrite this text if selected]",FALSE),IFERROR(_xlpm.goal="Custom [Overwrite this text if selected]",FALSE),IFERROR(_xlpm.current="",FALSE),IFERROR(_xlpm.goal="",FALSE)),TRUE,FALSE))),FALSE) -> FALSE | Y31: =IFERROR(_xlfn.LET(_xlpm.current,INDEX($I$2:$I$241,MATCH($E31&"Yes",$G$2:$G$241,0)),_xlfn.LET(_xlpm.goal,INDEX($I$2:$I$241,MATCH($E31&"Yes",$H$2:$H$241,0)),IF(OR(IFERROR(_xlpm.current="[Select]",FALSE),IFERROR(_xlpm.goal="[Select]",FALSE),IFERROR(_xlpm.current="",FALSE),IFERROR(_xlpm.goal="",FALSE)),TRUE,FALSE))),FALSE) -> FALSE | Z31: =IFERROR(_xlfn.LET(_xlpm.matchPosition,MATCH(E31&"Yes",$H$2:$H$241,0),_xlpm.timescale,INDEX($L$2:$L$241,_xlpm.matchPosition),IF(OR(_xlpm.timescale=$AH$4,_xlpm.timescale=$AI$4),ISBLANK(INDEX($M$2:$M$241,_xlpm.matchPosition)))),FALSE) -> FALSE
D32: G4(E) | E32: =LEFT(D32,FIND("(",D32)-1) -> G4 | F32: Custom [Overwrite this text if selected] | G32: =$E32&J32 -> G4 | H32: =$E32&K32 -> G4 | I32: [Select] | O32: =IF(COUNTIFS(J$2:J$241,"Yes",$E$2:$E$241,$E32)=0,TRUE,FALSE) -> TRUE | P32: =IF(COUNTIFS(J$2:J$241,"Yes",$E$2:$E$241,$E32)>1,TRUE,FALSE) -> FALSE | Q32: =IF(COUNTIFS(K$2:K$241,"Yes",$E$2:$E$241,$E32)=0,TRUE,FALSE) -> TRUE | R32: =IF(K32="Yes",IF(ISBLANK(L32),TRUE,FALSE),FALSE) -> FALSE | S32: =IF(OR(L32="Next Year",L32="Next Two Years"),IF(ISBLANK(M32),TRUE,FALSE),FALSE) -> FALSE | T32: =IF(COUNTIFS(K$2:K$241,"Yes",$E$2:$E$241,$E32)>1,TRUE,FALSE) -> FALSE | U32: =IFERROR(_xlfn.LET(_xlpm.current,INDEX($I$2:$I$241,MATCH($E32&"Yes",$G$2:$G$241,0)),_xlpm.goal,INDEX($I$2:$I$241,MATCH($E32&"Yes",$H$2:$H$241,0)),IF(OR(_xlpm.current = "[Select]", _xlpm.goal = "[Select]"),FALSE,IF(OR(AND(_xlpm.current<>"n/a",_xlpm.goal="Inadequate"), AND(_xlpm.goal = "Adequate", OR(_xlpm.current = "Adequate", _xlpm.current = "Optimal ")), AND(_xlpm.current = "Optimal ", _xlpm.goal <> 0)),TRUE,FALSE))),FALSE) -> FALSE | V32: =IFERROR(_xlfn.LET(_xlpm.current,INDEX($I$2:$I$241,MATCH($E32&"Yes",$G$2:$G$241,0)),_xlfn.LET(_xlpm.goal,INDEX($I$2:$I$241,MATCH($E32&"Yes",$H$2:$H$241,0)),IF(AND(_xlpm.current="n/a",_xlpm.goal="Inadequate"),TRUE,FALSE))),FALSE) -> FALSE | W32: =IFERROR(INDEX($L$2:$L$241,MATCH(E32&"Yes",$H$2:$H$241,0))=0,FALSE) -> FALSE | X32: =IFERROR(_xlfn.LET(_xlpm.current,INDEX($F$2:$F$241,MATCH($E32&"Yes",$G$2:$G$241,0)),_xlfn.LET(_xlpm.goal,INDEX($F$2:$F$241,MATCH($E32&"Yes",$H$2:$H$241,0)),IF(OR(IFERROR(_xlpm.current="Custom [Overwrite this text if selected]",FALSE),IFERROR(_xlpm.goal="Custom [Overwrite this text if selected]",FALSE),IFERROR(_xlpm.current="",FALSE),IFERROR(_xlpm.goal="",FALSE)),TRUE,FALSE))),FALSE) -> FALSE | Y32: =IFERROR(_xlfn.LET(_xlpm.current,INDEX($I$2:$I$241,MATCH($E32&"Yes",$G$2:$G$241,0)),_xlfn.LET(_xlpm.goal,INDEX($I$2:$I$241,MATCH($E32&"Yes",$H$2:$H$241,0)),IF(OR(IFERROR(_xlpm.current="[Select]",FALSE),IFERROR(_xlpm.goal="[Select]",FALSE),IFERROR(_xlpm.current="",FALSE),IFERROR(_xlpm.goal="",FALSE)),TRUE,FALSE))),FALSE) -> FALSE | Z32: =IFERROR(_xlfn.LET(_xlpm.matchPosition,MATCH(E32&"Yes",$H$2:$H$241,0),_xlpm.timescale,INDEX($L$2:$L$241,_xlpm.matchPosition),IF(OR(_xlpm.timescale=$AH$4,_xlpm.timescale=$AI$4),ISBLANK(INDEX($M$2:$M$241,_xlpm.matchPosition)))),FALSE) -> FALSE
D33: G4(F) | E33: =LEFT(D33,FIND("(",D33)-1) -> G4 | F33: Custom [Overwrite this text if selected] | G33: =$E33&J33 -> G4 | H33: =$E33&K33 -> G4 | I33: [Select] | O33: =IF(COUNTIFS(J$2:J$241,"Yes",$E$2:$E$241,$E33)=0,TRUE,FALSE) -> TRUE | P33: =IF(COUNTIFS(J$2:J$241,"Yes",$E$2:$E$241,$E33)>1,TRUE,FALSE) -> FALSE | Q33: =IF(COUNTIFS(K$2:K$241,"Yes",$E$2:$E$241,$E33)=0,TRUE,FALSE) -> TRUE | R33: =IF(K33="Yes",IF(ISBLANK(L33),TRUE,FALSE),FALSE) -> FALSE | S33: =IF(OR(L33="Next Year",L33="Next Two Years"),IF(ISBLANK(M33),TRUE,FALSE),FALSE) -> FALSE | T33: =IF(COUNTIFS(K$2:K$241,"Yes",$E$2:$E$241,$E33)>1,TRUE,FALSE) -> FALSE | U33: =IFERROR(_xlfn.LET(_xlpm.current,INDEX($I$2:$I$241,MATCH($E33&"Yes",$G$2:$G$241,0)),_xlpm.goal,INDEX($I$2:$I$241,MATCH($E33&"Yes",$H$2:$H$241,0)),IF(OR(_xlpm.current = "[Select]", _xlpm.goal = "[Select]"),FALSE,IF(OR(AND(_xlpm.current<>"n/a",_xlpm.goal="Inadequate"), AND(_xlpm.goal = "Adequate", OR(_xlpm.current = "Adequate", _xlpm.current = "Optimal ")), AND(_xlpm.current = "Optimal ", _xlpm.goal <> 0)),TRUE,FALSE))),FALSE) -> FALSE | V33: =IFERROR(_xlfn.LET(_xlpm.current,INDEX($I$2:$I$241,MATCH($E33&"Yes",$G$2:$G$241,0)),_xlfn.LET(_xlpm.goal,INDEX($I$2:$I$241,MATCH($E33&"Yes",$H$2:$H$241,0)),IF(AND(_xlpm.current="n/a",_xlpm.goal="Inadequate"),TRUE,FALSE))),FALSE) -> FALSE | W33: =IFERROR(INDEX($L$2:$L$241,MATCH(E33&"Yes",$H$2:$H$241,0))=0,FALSE) -> FALSE | X33: =IFERROR(_xlfn.LET(_xlpm.current,INDEX($F$2:$F$241,MATCH($E33&"Yes",$G$2:$G$241,0)),_xlfn.LET(_xlpm.goal,INDEX($F$2:$F$241,MATCH($E33&"Yes",$H$2:$H$241,0)),IF(OR(IFERROR(_xlpm.current="Custom [Overwrite this text if selected]",FALSE),IFERROR(_xlpm.goal="Custom [Overwrite this text if selected]",FALSE),IFERROR(_xlpm.current="",FALSE),IFERROR(_xlpm.goal="",FALSE)),TRUE,FALSE))),FALSE) -> FALSE | Y33: =IFERROR(_xlfn.LET(_xlpm.current,INDEX($I$2:$I$241,MATCH($E33&"Yes",$G$2:$G$241,0)),_xlfn.LET(_xlpm.goal,INDEX($I$2:$I$241,MATCH($E33&"Yes",$H$2:$H$241,0)),IF(OR(IFERROR(_xlpm.current="[Select]",FALSE),IFERROR(_xlpm.goal="[Select]",FALSE),IFERROR(_xlpm.current="",FALSE),IFERROR(_xlpm.goal="",FALSE)),TRUE,FALSE))),FALSE) -> FALSE | Z33: =IFERROR(_xlfn.LET(_xlpm.matchPosition,MATCH(E33&"Yes",$H$2:$H$241,0),_xlpm.timescale,INDEX($L$2:$L$241,_xlpm.matchPosition),IF(OR(_xlpm.timescale=$AH$4,_xlpm.timescale=$AI$4),ISBLANK(INDEX($M$2:$M$241,_xlpm.matchPosition)))),FALSE) -> FALSE
A34: G5 | B34: Governance | C34: Are you actively monitoring upcoming changes to the Microsoft 365 platform so that you can prepare for their implications? | D34: G5(NA) | E34: =LEFT(D34,FIND("(",D34)-1) -> G5 | F34: Not applicable | G34: =$E34&J34 -> G5 | H34: =$E34&K34 -> G5 | I34: n/a | O34: =IF(COUNTIFS(J$2:J$241,"Yes",$E$2:$E$241,$E34)=0,TRUE,FALSE) -> TRUE | P34: =IF(COUNTIFS(J$2:J$241,"Yes",$E$2:$E$241,$E34)>1,TRUE,FALSE) -> FALSE | Q34: =IF(COUNTIFS(K$2:K$241,"Yes",$E$2:$E$241,$E34)=0,TRUE,FALSE) -> TRUE | R34: =IF(K34="Yes",IF(ISBLANK(L34),TRUE,FALSE),FALSE) -> FALSE | S34: =IF(OR(L34="Next Year",L34="Next Two Years"),IF(ISBLANK(M34),TRUE,FALSE),FALSE) -> FALSE | T34: =IF(COUNTIFS(K$2:K$241,"Yes",$E$2:$E$241,$E34)>1,TRUE,FALSE) -> FALSE | U34: =IFERROR(_xlfn.LET(_xlpm.current,INDEX($I$2:$I$241,MATCH($E34&"Yes",$G$2:$G$241,0)),_xlpm.goal,INDEX($I$2:$I$241,MATCH($E34&"Yes",$H$2:$H$241,0)),IF(OR(_xlpm.current = "[Select]", _xlpm.goal = "[Select]"),FALSE,IF(OR(AND(_xlpm.current<>"n/a",_xlpm.goal="Inadequate"), AND(_xlpm.goal = "Adequate", OR(_xlpm.current = "Adequate", _xlpm.current = "Optimal ")), AND(_xlpm.current = "Optimal ", _xlpm.goal <> 0)),TRUE,FALSE))),FALSE) -> FALSE | V34: =IFERROR(_xlfn.LET(_xlpm.current,INDEX($I$2:$I$241,MATCH($E34&"Yes",$G$2:$G$241,0)),_xlfn.LET(_xlpm.goal,INDEX($I$2:$I$241,MATCH($E34&"Yes",$H$2:$H$241,0)),IF(AND(_xlpm.current="n/a",_xlpm.goal="Inadequate"),TRUE,FALSE))),FALSE) -> FALSE | W34: =IFERROR(INDEX($L$2:$L$241,MATCH(E34&"Yes",$H$2:$H$241,0))=0,FALSE) -> FALSE | X34: =IFERROR(_xlfn.LET(_xlpm.current,INDEX($F$2:$F$241,MATCH($E34&"Yes",$G$2:$G$241,0)),_xlfn.LET(_xlpm.goal,INDEX($F$2:$F$241,MATCH($E34&"Yes",$H$2:$H$241,0)),IF(OR(IFERROR(_xlpm.current="Custom [Overwrite this text if selected]",FALSE),IFERROR(_xlpm.goal="Custom [Overwrite this text if selected]",FALSE),IFERROR(_xlpm.current="",FALSE),IFERROR(_xlpm.goal="",FALSE)),TRUE,FALSE))),FALSE) -> FALSE | Y34: =IFERROR(_xlfn.LET(_xlpm.current,INDEX($I$2:$I$241,MATCH($E34&"Yes",$G$2:$G$241,0)),_xlfn.LET(_xlpm.goal,INDEX($I$2:$I$241,MATCH($E34&"Yes",$H$2:$H$241,0)),IF(OR(IFERROR(_xlpm.current="[Select]",FALSE),IFERROR(_xlpm.goal="[Select]",FALSE),IFERROR(_xlpm.current="",FALSE),IFERROR(_xlpm.goal="",FALSE)),TRUE,FALSE))),FALSE) -> FALSE | Z34: =IFERROR(_xlfn.LET(_xlpm.matchPosition,MATCH(E34&"Yes",$H$2:$H$241,0),_xlpm.timescale,INDEX($L$2:$L$241,_xlpm.matchPosition),IF(OR(_xlpm.timescale=$AH$4,_xlpm.timescale=$AI$4),ISBLANK(INDEX($M$2:$M$241,_xlpm.matchPosition)))),FALSE) -> FALSE | AA34: {=_xlfn.LET( _xlpm.currentText,IF(OR(O34,P34),"- Please select exactly one current practice (or 'Not applicable')",""), _xlpm.goalsText,IF(T34,"- Please select exactly one goal",""), _xlpm.insufficientGoal,IF(U34,"- Note: selected goal is at same or lower level than current state",""), _xlpm.naToInadequate,IF(V34,"- Note: selected goal is inadequate",""), _xlpm.customGoalButNoDescription,IF(X34,"- Please provide a description for your custom state in column F",""), _xlpm.customGoalButNoMaturitySpecified,IF(Y34,"- Please select a maturity level for custom state",""), _xlpm.goalButNoTimescale,IF(W34,"- Please use the 'Improvement timescale' field to indicate how quickly improvement is planned for",""), _xlpm.timescaleButNoAction,IF(Z34,"- Please indicate what actions you intend to take to improve within the " & LOWER(L34),""), _xlpm.texts,_xlfn.VSTACK(_xlpm.currentText,_xlpm.goalsText,_xlpm.insufficientGoal,_xlpm.naToInadequate,_xlpm.customGoalButNoDescription,_xlpm.customGoalButNoMaturitySpecified,_xlpm.goalButNoTimescale,_xlpm.timescaleButNoAction), IFERROR(_xlfn.TEXTJOIN(CHAR(10),TRUE,_xlfn._xlws.FILTER(_xlpm.texts,_xlpm.texts <> "")),""))} -> - Please select exactly one current practice (or 'Not applicable')
D35: G5(A) | E35: =LEFT(D35,FIND("(",D35)-1) -> G5 | F35: We (or an organisation working on our behalf) occasionally monitor the Message Center and/or Microsoft 365 road-map for upcoming changes. We sometimes identify changes before they appear in the tenancy, and often aren't able to assess the impact of each change. | G35: =$E35&J35 -> G5 | H35: =$E35&K35 -> G5 | I35: Inadequate | O35: =IF(COUNTIFS(J$2:J$241,"Yes",$E$2:$E$241,$E35)=0,TRUE,FALSE) -> TRUE | P35: =IF(COUNTIFS(J$2:J$241,"Yes",$E$2:$E$241,$E35)>1,TRUE,FALSE) -> FALSE | Q35: =IF(COUNTIFS(K$2:K$241,"Yes",$E$2:$E$241,$E35)=0,TRUE,FALSE) -> TRUE | R35: =IF(K35="Yes",IF(ISBLANK(L35),TRUE,FALSE),FALSE) -> FALSE | S35: =IF(OR(L35="Next Year",L35="Next Two Years"),IF(ISBLANK(M35),TRUE,FALSE),FALSE) -> FALSE | T35: =IF(COUNTIFS(K$2:K$241,"Yes",$E$2:$E$241,$E35)>1,TRUE,FALSE) -> FALSE | U35: =IFERROR(_xlfn.LET(_xlpm.current,INDEX($I$2:$I$241,MATCH($E35&"Yes",$G$2:$G$241,0)),_xlpm.goal,INDEX($I$2:$I$241,MATCH($E35&"Yes",$H$2:$H$241,0)),IF(OR(_xlpm.current = "[Select]", _xlpm.goal = "[Select]"),FALSE,IF(OR(AND(_xlpm.current<>"n/a",_xlpm.goal="Inadequate"), AND(_xlpm.goal = "Adequate", OR(_xlpm.current = "Adequate", _xlpm.current = "Optimal ")), AND(_xlpm.current = "Optimal ", _xlpm.goal <> 0)),TRUE,FALSE))),FALSE) -> FALSE | V35: =IFERROR(_xlfn.LET(_xlpm.current,INDEX($I$2:$I$241,MATCH($E35&"Yes",$G$2:$G$241,0)),_xlfn.LET(_xlpm.goal,INDEX($I$2:$I$241,MATCH($E35&"Yes",$H$2:$H$241,0)),IF(AND(_xlpm.current="n/a",_xlpm.goal="Inadequate"),TRUE,FALSE))),FALSE) -> FALSE | W35: =IFERROR(INDEX($L$2:$L$241,MATCH(E35&"Yes",$H$2:$H$241,0))=0,FALSE) -> FALSE | X35: =IFERROR(_xlfn.LET(_xlpm.current,INDEX($F$2:$F$241,MATCH($E35&"Yes",$G$2:$G$241,0)),_xlfn.LET(_xlpm.goal,INDEX($F$2:$F$241,MATCH($E35&"Yes",$H$2:$H$241,0)),IF(OR(IFERROR(_xlpm.current="Custom [Overwrite this text if selected]",FALSE),IFERROR(_xlpm.goal="Custom [Overwrite this text if selected]",FALSE),IFERROR(_xlpm.current="",FALSE),IFERROR(_xlpm.goal="",FALSE)),TRUE,FALSE))),FALSE) -> FALSE | Y35: =IFERROR(_xlfn.LET(_xlpm.current,INDEX($I$2:$I$241,MATCH($E35&"Yes",$G$2:$G$241,0)),_xlfn.LET(_xlpm.goal,INDEX($I$2:$I$241,MATCH($E35&"Yes",$H$2:$H$241,0)),IF(OR(IFERROR(_xlpm.current="[Select]",FALSE),IFERROR(_xlpm.goal="[Select]",FALSE),IFERROR(_xlpm.current="",FALSE),IFERROR(_xlpm.goal="",FALSE)),TRUE,FALSE))),FALSE) -> FALSE | Z35: =IFERROR(_xlfn.LET(_xlpm.matchPosition,MATCH(E35&"Yes",$H$2:$H$241,0),_xlpm.timescale,INDEX($L$2:$L$241,_xlpm.matchPosition),IF(OR(_xlpm.timescale=$AH$4,_xlpm.timescale=$AI$4),ISBLANK(INDEX($M$2:$M$241,_xlpm.matchPosition)))),FALSE) -> FALSE
D36: G5(B) | E36: =LEFT(D36,FIND("(",D36)-1) -> G5 | F36: We don't tend to monitor for upcoming changes in Microsoft 365 | G36: =$E36&J36 -> G5 | H36: =$E36&K36 -> G5 | I36: Inadequate | O36: =IF(COUNTIFS(J$2:J$241,"Yes",$E$2:$E$241,$E36)=0,TRUE,FALSE) -> TRUE | P36: =IF(COUNTIFS(J$2:J$241,"Yes",$E$2:$E$241,$E36)>1,TRUE,FALSE) -> FALSE | Q36: =IF(COUNTIFS(K$2:K$241,"Yes",$E$2:$E$241,$E36)=0,TRUE,FALSE) -> TRUE | R36: =IF(K36="Yes",IF(ISBLANK(L36),TRUE,FALSE),FALSE) -> FALSE | S36: =IF(OR(L36="Next Year",L36="Next Two Years"),IF(ISBLANK(M36),TRUE,FALSE),FALSE) -> FALSE | T36: =IF(COUNTIFS(K$2:K$241,"Yes",$E$2:$E$241,$E36)>1,TRUE,FALSE) -> FALSE | U36: =IFERROR(_xlfn.LET(_xlpm.current,INDEX($I$2:$I$241,MATCH($E36&"Yes",$G$2:$G$241,0)),_xlpm.goal,INDEX($I$2:$I$241,MATCH($E36&"Yes",$H$2:$H$241,0)),IF(OR(_xlpm.current = "[Select]", _xlpm.goal = "[Select]"),FALSE,IF(OR(AND(_xlpm.current<>"n/a",_xlpm.goal="Inadequate"), AND(_xlpm.goal = "Adequate", OR(_xlpm.current = "Adequate", _xlpm.current = "Optimal ")), AND(_xlpm.current = "Optimal ", _xlpm.goal <> 0)),TRUE,FALSE))),FALSE) -> FALSE | V36: =IFERROR(_xlfn.LET(_xlpm.current,INDEX($I$2:$I$241,MATCH($E36&"Yes",$G$2:$G$241,0)),_xlfn.LET(_xlpm.goal,INDEX($I$2:$I$241,MATCH($E36&"Yes",$H$2:$H$241,0)),IF(AND(_xlpm.current="n/a",_xlpm.goal="Inadequate"),TRUE,FALSE))),FALSE) -> FALSE | W36: =IFERROR(INDEX($L$2:$L$241,MATCH(E36&"Yes",$H$2:$H$241,0))=0,FALSE) -> FALSE | X36: =IFERROR(_xlfn.LET(_xlpm.current,INDEX($F$2:$F$241,MATCH($E36&"Yes",$G$2:$G$241,0)),_xlfn.LET(_xlpm.goal,INDEX($F$2:$F$241,MATCH($E36&"Yes",$H$2:$H$241,0)),IF(OR(IFERROR(_xlpm.current="Custom [Overwrite this text if selected]",FALSE),IFERROR(_xlpm.goal="Custom [Overwrite this text if selected]",FALSE),IFERROR(_xlpm.current="",FALSE),IFERROR(_xlpm.goal="",FALSE)),TRUE,FALSE))),FALSE) -> FALSE | Y36: =IFERROR(_xlfn.LET(_xlpm.current,INDEX($I$2:$I$241,MATCH($E36&"Yes",$G$2:$G$241,0)),_xlfn.LET(_xlpm.goal,INDEX($I$2:$I$241,MATCH($E36&"Yes",$H$2:$H$241,0)),IF(OR(IFERROR(_xlpm.current="[Select]",FALSE),IFERROR(_xlpm.goal="[Select]",FALSE),IFERROR(_xlpm.current="",FALSE),IFERROR(_xlpm.goal="",FALSE)),TRUE,FALSE))),FALSE) -> FALSE | Z36: =IFERROR(_xlfn.LET(_xlpm.matchPosition,MATCH(E36&"Yes",$H$2:$H$241,0),_xlpm.timescale,INDEX($L$2:$L$241,_xlpm.matchPosition),IF(OR(_xlpm.timescale=$AH$4,_xlpm.timescale=$AI$4),ISBLANK(INDEX($M$2:$M$241,_xlpm.matchPosition)))),FALSE) -> FALSE
D37: G5(C) | E37: =LEFT(D37,FIND("(",D37)-1) -> G5 | F37: We (or an organisation working on our behalf) frequently monitor the Message Center and/or Microsoft 365 road-map for upcoming changes. We don't always identify changes before they appear in the tenancy, or aren't always able to fully assess the impact of each change. | G37: =$E37&J37 -> G5 | H37: =$E37&K37 -> G5 | I37: Adequate | O37: =IF(COUNTIFS(J$2:J$241,"Yes",$E$2:$E$241,$E37)=0,TRUE,FALSE) -> TRUE | P37: =IF(COUNTIFS(J$2:J$241,"Yes",$E$2:$E$241,$E37)>1,TRUE,FALSE) -> FALSE | Q37: =IF(COUNTIFS(K$2:K$241,"Yes",$E$2:$E$241,$E37)=0,TRUE,FALSE) -> TRUE | R37: =IF(K37="Yes",IF(ISBLANK(L37),TRUE,FALSE),FALSE) -> FALSE | S37: =IF(OR(L37="Next Year",L37="Next Two Years"),IF(ISBLANK(M37),TRUE,FALSE),FALSE) -> FALSE | T37: =IF(COUNTIFS(K$2:K$241,"Yes",$E$2:$E$241,$E37)>1,TRUE,FALSE) -> FALSE | U37: =IFERROR(_xlfn.LET(_xlpm.current,INDEX($I$2:$I$241,MATCH($E37&"Yes",$G$2:$G$241,0)),_xlpm.goal,INDEX($I$2:$I$241,MATCH($E37&"Yes",$H$2:$H$241,0)),IF(OR(_xlpm.current = "[Select]", _xlpm.goal = "[Select]"),FALSE,IF(OR(AND(_xlpm.current<>"n/a",_xlpm.goal="Inadequate"), AND(_xlpm.goal = "Adequate", OR(_xlpm.current = "Adequate", _xlpm.current = "Optimal ")), AND(_xlpm.current = "Optimal ", _xlpm.goal <> 0)),TRUE,FALSE))),FALSE) -> FALSE | V37: =IFERROR(_xlfn.LET(_xlpm.current,INDEX($I$2:$I$241,MATCH($E37&"Yes",$G$2:$G$241,0)),_xlfn.LET(_xlpm.goal,INDEX($I$2:$I$241,MATCH($E37&"Yes",$H$2:$H$241,0)),IF(AND(_xlpm.current="n/a",_xlpm.goal="Inadequate"),TRUE,FALSE))),FALSE) -> FALSE | W37: =IFERROR(INDEX($L$2:$L$241,MATCH(E37&"Yes",$H$2:$H$241,0))=0,FALSE) -> FALSE | X37: =IFERROR(_xlfn.LET(_xlpm.current,INDEX($F$2:$F$241,MATCH($E37&"Yes",$G$2:$G$241,0)),_xlfn.LET(_xlpm.goal,INDEX($F$2:$F$241,MATCH($E37&"Yes",$H$2:$H$241,0)),IF(OR(IFERROR(_xlpm.current="Custom [Overwrite this text if selected]",FALSE),IFERROR(_xlpm.goal="Custom [Overwrite this text if selected]",FALSE),IFERROR(_xlpm.current="",FALSE),IFERROR(_xlpm.goal="",FALSE)),TRUE,FALSE))),FALSE) -> FALSE | Y37: =IFERROR(_xlfn.LET(_xlpm.current,INDEX($I$2:$I$241,MATCH($E37&"Yes",$G$2:$G$241,0)),_xlfn.LET(_xlpm.goal,INDEX($I$2:$I$241,MATCH($E37&"Yes",$H$2:$H$241,0)),IF(OR(IFERROR(_xlpm.current="[Select]",FALSE),IFERROR(_xlpm.goal="[Select]",FALSE),IFERROR(_xlpm.current="",FALSE),IFERROR(_xlpm.goal="",FALSE)),TRUE,FALSE))),FALSE) -> FALSE | Z37: =IFERROR(_xlfn.LET(_xlpm.matchPosition,MATCH(E37&"Yes",$H$2:$H$241,0),_xlpm.timescale,INDEX($L$2:$L$241,_xlpm.matchPosition),IF(OR(_xlpm.timescale=$AH$4,_xlpm.timescale=$AI$4),ISBLANK(INDEX($M$2:$M$241,_xlpm.matchPosition)))),FALSE) -> FALSE
D38: G5(D) | E38: =LEFT(D38,FIND("(",D38)-1) -> G5 | F38: We have a defined process for proactively monitoring changes in Microsoft 365 and considering their impact. The process assesses the Microsoft 365 road-map and Message Center among other sources. This process might be conducted internally, or by an organisation working on our behalf. | G38: =$E38&J38 -> G5 | H38: =$E38&K38 -> G5 | I38: Optimal | O38: =IF(COUNTIFS(J$2:J$241,"Yes",$E$2:$E$241,$E38)=0,TRUE,FALSE) -> TRUE | P38: =IF(COUNTIFS(J$2:J$241,"Yes",$E$2:$E$241,$E38)>1,TRUE,FALSE) -> FALSE | Q38: =IF(COUNTIFS(K$2:K$241,"Yes",$E$2:$E$241,$E38)=0,TRUE,FALSE) -> TRUE | R38: =IF(K38="Yes",IF(ISBLANK(L38),TRUE,FALSE),FALSE) -> FALSE | S38: =IF(OR(L38="Next Year",L38="Next Two Years"),IF(ISBLANK(M38),TRUE,FALSE),FALSE) -> FALSE | T38: =IF(COUNTIFS(K$2:K$241,"Yes",$E$2:$E$241,$E38)>1,TRUE,FALSE) -> FALSE | U38: =IFERROR(_xlfn.LET(_xlpm.current,INDEX($I$2:$I$241,MATCH($E38&"Yes",$G$2:$G$241,0)),_xlpm.goal,INDEX($I$2:$I$241,MATCH($E38&"Yes",$H$2:$H$241,0)),IF(OR(_xlpm.current = "[Select]", _xlpm.goal = "[Select]"),FALSE,IF(OR(AND(_xlpm.current<>"n/a",_xlpm.goal="Inadequate"), AND(_xlpm.goal = "Adequate", OR(_xlpm.current = "Adequate", _xlpm.current = "Optimal ")), AND(_xlpm.current = "Optimal ", _xlpm.goal <> 0)),TRUE,FALSE))),FALSE) -> FALSE | V38: =IFERROR(_xlfn.LET(_xlpm.current,INDEX($I$2:$I$241,MATCH($E38&"Yes",$G$2:$G$241,0)),_xlfn.LET(_xlpm.goal,INDEX($I$2:$I$241,MATCH($E38&"Yes",$H$2:$H$241,0)),IF(AND(_xlpm.current="n/a",_xlpm.goal="Inadequate"),TRUE,FALSE))),FALSE) -> FALSE | W38: =IFERROR(INDEX($L$2:$L$241,MATCH(E38&"Yes",$H$2:$H$241,0))=0,FALSE) -> FALSE | X38: =IFERROR(_xlfn.LET(_xlpm.current,INDEX($F$2:$F$241,MATCH($E38&"Yes",$G$2:$G$241,0)),_xlfn.LET(_xlpm.goal,INDEX($F$2:$F$241,MATCH($E38&"Yes",$H$2:$H$241,0)),IF(OR(IFERROR(_xlpm.current="Custom [Overwrite this text if selected]",FALSE),IFERROR(_xlpm.goal="Custom [Overwrite this text if selected]",FALSE),IFERROR(_xlpm.current="",FALSE),IFERROR(_xlpm.goal="",FALSE)),TRUE,FALSE))),FALSE) -> FALSE | Y38: =IFERROR(_xlfn.LET(_xlpm.current,INDEX($I$2:$I$241,MATCH($E38&"Yes",$G$2:$G$241,0)),_xlfn.LET(_xlpm.goal,INDEX($I$2:$I$241,MATCH($E38&"Yes",$H$2:$H$241,0)),IF(OR(IFERROR(_xlpm.current="[Select]",FALSE),IFERROR(_xlpm.goal="[Select]",FALSE),IFERROR(_xlpm.current="",FALSE),IFERROR(_xlpm.goal="",FALSE)),TRUE,FALSE))),FALSE) -> FALSE | Z38: =IFERROR(_xlfn.LET(_xlpm.matchPosition,MATCH(E38&"Yes",$H$2:$H$241,0),_xlpm.timescale,INDEX($L$2:$L$241,_xlpm.matchPosition),IF(OR(_xlpm.timescale=$AH$4,_xlpm.timescale=$AI$4),ISBLANK(INDEX($M$2:$M$241,_xlpm.matchPosition)))),FALSE) -> FALSE
D39: G5(E) | E39: =LEFT(D39,FIND("(",D39)-1) -> G5 | F39: Custom [Overwrite this text if selected] | G39: =$E39&J39 -> G5 | H39: =$E39&K39 -> G5 | I39: [Select] | O39: =IF(COUNTIFS(J$2:J$241,"Yes",$E$2:$E$241,$E39)=0,TRUE,FALSE) -> TRUE | P39: =IF(COUNTIFS(J$2:J$241,"Yes",$E$2:$E$241,$E39)>1,TRUE,FALSE) -> FALSE | Q39: =IF(COUNTIFS(K$2:K$241,"Yes",$E$2:$E$241,$E39)=0,TRUE,FALSE) -> TRUE | R39: =IF(K39="Yes",IF(ISBLANK(L39),TRUE,FALSE),FALSE) -> FALSE | S39: =IF(OR(L39="Next Year",L39="Next Two Years"),IF(ISBLANK(M39),TRUE,FALSE),FALSE) -> FALSE | T39: =IF(COUNTIFS(K$2:K$241,"Yes",$E$2:$E$241,$E39)>1,TRUE,FALSE) -> FALSE | U39: =IFERROR(_xlfn.LET(_xlpm.current,INDEX($I$2:$I$241,MATCH($E39&"Yes",$G$2:$G$241,0)),_xlpm.goal,INDEX($I$2:$I$241,MATCH($E39&"Yes",$H$2:$H$241,0)),IF(OR(_xlpm.current = "[Select]", _xlpm.goal = "[Select]"),FALSE,IF(OR(AND(_xlpm.current<>"n/a",_xlpm.goal="Inadequate"), AND(_xlpm.goal = "Adequate", OR(_xlpm.current = "Adequate", _xlpm.current = "Optimal ")), AND(_xlpm.current = "Optimal ", _xlpm.goal <> 0)),TRUE,FALSE))),FALSE) -> FALSE | V39: =IFERROR(_xlfn.LET(_xlpm.current,INDEX($I$2:$I$241,MATCH($E39&"Yes",$G$2:$G$241,0)),_xlfn.LET(_xlpm.goal,INDEX($I$2:$I$241,MATCH($E39&"Yes",$H$2:$H$241,0)),IF(AND(_xlpm.current="n/a",_xlpm.goal="Inadequate"),TRUE,FALSE))),FALSE) -> FALSE | W39: =IFERROR(INDEX($L$2:$L$241,MATCH(E39&"Yes",$H$2:$H$241,0))=0,FALSE) -> FALSE | X39: =IFERROR(_xlfn.LET(_xlpm.current,INDEX($F$2:$F$241,MATCH($E39&"Yes",$G$2:$G$241,0)),_xlfn.LET(_xlpm.goal,INDEX($F$2:$F$241,MATCH($E39&"Yes",$H$2:$H$241,0)),IF(OR(IFERROR(_xlpm.current="Custom [Overwrite this text if selected]",FALSE),IFERROR(_xlpm.goal="Custom [Overwrite this text if selected]",FALSE),IFERROR(_xlpm.current="",FALSE),IFERROR(_xlpm.goal="",FALSE)),TRUE,FALSE))),FALSE) -> FALSE | Y39: =IFERROR(_xlfn.LET(_xlpm.current,INDEX($I$2:$I$241,MATCH($E39&"Yes",$G$2:$G$241,0)),_xlfn.LET(_xlpm.goal,INDEX($I$2:$I$241,MATCH($E39&"Yes",$H$2:$H$241,0)),IF(OR(IFERROR(_xlpm.current="[Select]",FALSE),IFERROR(_xlpm.goal="[Select]",FALSE),IFERROR(_xlpm.current="",FALSE),IFERROR(_xlpm.goal="",FALSE)),TRUE,FALSE))),FALSE) -> FALSE | Z39: =IFERROR(_xlfn.LET(_xlpm.matchPosition,MATCH(E39&"Yes",$H$2:$H$241,0),_xlpm.timescale,INDEX($L$2:$L$241,_xlpm.matchPosition),IF(OR(_xlpm.timescale=$AH$4,_xlpm.timescale=$AI$4),ISBLANK(INDEX($M$2:$M$241,_xlpm.matchPosition)))),FALSE) -> FALSE
D40: G5(F) | E40: =LEFT(D40,FIND("(",D40)-1) -> G5 | F40: Custom [Overwrite this text if selected] | G40: =$E40&J40 -> G5 | H40: =$E40&K40 -> G5 | I40: [Select] | O40: =IF(COUNTIFS(J$2:J$241,"Yes",$E$2:$E$241,$E40)=0,TRUE,FALSE) -> TRUE | P40: =IF(COUNTIFS(J$2:J$241,"Yes",$E$2:$E$241,$E40)>1,TRUE,FALSE) -> FALSE | Q40: =IF(COUNTIFS(K$2:K$241,"Yes",$E$2:$E$241,$E40)=0,TRUE,FALSE) -> TRUE | R40: =IF(K40="Yes",IF(ISBLANK(L40),TRUE,FALSE),FALSE) -> FALSE | S40: =IF(OR(L40="Next Year",L40="Next Two Years"),IF(ISBLANK(M40),TRUE,FALSE),FALSE) -> FALSE | T40: =IF(COUNTIFS(K$2:K$241,"Yes",$E$2:$E$241,$E40)>1,TRUE,FALSE) -> FALSE | U40: =IFERROR(_xlfn.LET(_xlpm.current,INDEX($I$2:$I$241,MATCH($E40&"Yes",$G$2:$G$241,0)),_xlpm.goal,INDEX($I$2:$I$241,MATCH($E40&"Yes",$H$2:$H$241,0)),IF(OR(_xlpm.current = "[Select]", _xlpm.goal = "[Select]"),FALSE,IF(OR(AND(_xlpm.current<>"n/a",_xlpm.goal="Inadequate"), AND(_xlpm.goal = "Adequate", OR(_xlpm.current = "Adequate", _xlpm.current = "Optimal ")), AND(_xlpm.current = "Optimal ", _xlpm.goal <> 0)),TRUE,FALSE))),FALSE) -> FALSE | V40: =IFERROR(_xlfn.LET(_xlpm.current,INDEX($I$2:$I$241,MATCH($E40&"Yes",$G$2:$G$241,0)),_xlfn.LET(_xlpm.goal,INDEX($I$2:$I$241,MATCH($E40&"Yes",$H$2:$H$241,0)),IF(AND(_xlpm.current="n/a",_xlpm.goal="Inadequate"),TRUE,FALSE))),FALSE) -> FALSE | W40: =IFERROR(INDEX($L$2:$L$241,MATCH(E40&"Yes",$H$2:$H$241,0))=0,FALSE) -> FALSE | X40: =IFERROR(_xlfn.LET(_xlpm.current,INDEX($F$2:$F$241,MATCH($E40&"Yes",$G$2:$G$241,0)),_xlfn.LET(_xlpm.goal,INDEX($F$2:$F$241,MATCH($E40&"Yes",$H$2:$H$241,0)),IF(OR(IFERROR(_xlpm.current="Custom [Overwrite this text if selected]",FALSE),IFERROR(_xlpm.goal="Custom [Overwrite this text if selected]",FALSE),IFERROR(_xlpm.current="",FALSE),IFERROR(_xlpm.goal="",FALSE)),TRUE,FALSE))),FALSE) -> FALSE | Y40: =IFERROR(_xlfn.LET(_xlpm.current,INDEX($I$2:$I$241,MATCH($E40&"Yes",$G$2:$G$241,0)),_xlfn.LET(_xlpm.goal,INDEX($I$2:$I$241,MATCH($E40&"Yes",$H$2:$H$241,0)),IF(OR(IFERROR(_xlpm.current="[Select]",FALSE),IFERROR(_xlpm.goal="[Select]",FALSE),IFERROR(_xlpm.current="",FALSE),IFERROR(_xlpm.goal="",FALSE)),TRUE,FALSE))),FALSE) -> FALSE | Z40: =IFERROR(_xlfn.LET(_xlpm.matchPosition,MATCH(E40&"Yes",$H$2:$H$241,0),_xlpm.timescale,INDEX($L$2:$L$241,_xlpm.matchPosition),IF(OR(_xlpm.timescale=$AH$4,_xlpm.timescale=$AI$4),ISBLANK(INDEX($M$2:$M$241,_xlpm.matchPosition)))),FALSE) -> FALSE

Sheet Provisioning
A1: ID | B1: Theme | C1: Question | G1: Current concat | H1: Goal concat | J1: Current Practice (Select one) | K1: Improvement goal (Select one) | L1: Improvement timescale | M1: We will take the following action(s)… | N1: Comments | O1: No current | P1: Multiple Current | Q1: No goal | R1: Inidividual goal no timescale | S1: Individual need following action | T1: Multiple Goals | U1: Goal <= Current | V1: n/a -> inadequate | W1: Goal but no timescale | X1: Custom selected but description not changed | Y1: Custom level needed but not specified | Z1: Timescale but no action
A2: PR1 | B2: Provisioning | C2: If you use Teams and/or SharePoint sites, do you have a process that controls the creation of new sites? | D2: PR1(NA) | E2: =LEFT(D2,FIND("(",D2)-1) -> PR1 | F2: Not applicable | G2: =$E2&J2 -> PR1 | H2: =$E2&K2 -> PR1 | I2: n/a | O2: =IF(COUNTIFS(J$2:J$247,"Yes",$E$2:$E$247,$E2)=0,TRUE,FALSE) -> TRUE | P2: =IF(COUNTIFS(J$2:J$247,"Yes",$E$2:$E$247,$E2)>1,TRUE,FALSE) -> FALSE | Q2: =IF(COUNTIFS(K$2:K$247,"Yes",$E$2:$E$247,$E2)=0,TRUE,FALSE) -> TRUE | R2: =IF(K2="Yes",IF(ISBLANK(L2),TRUE,FALSE),FALSE) -> FALSE | S2: =IF(OR(L2="Next Year",L2="Next Two Years"),IF(ISBLANK(M2),TRUE,FALSE),FALSE) -> FALSE | T2: =IF(COUNTIFS(K$2:K$247,"Yes",$E$2:$E$247,$E2)>1,TRUE,FALSE) -> FALSE | U2: =IFERROR(_xlfn.LET(_xlpm.current,INDEX($I$2:$I$241,MATCH($E2&"Yes",$G$2:$G$241,0)),_xlpm.goal,INDEX($I$2:$I$241,MATCH($E2&"Yes",$H$2:$H$241,0)),IF(OR(_xlpm.current = "[Select]", _xlpm.goal = "[Select]"),FALSE,IF(OR(AND(_xlpm.current<>"n/a",_xlpm.goal="Inadequate"), AND(_xlpm.goal = "Adequate", OR(_xlpm.current = "Adequate", _xlpm.current = "Optimal ")), AND(_xlpm.current = "Optimal ", _xlpm.goal <> 0)),TRUE,FALSE))),FALSE) -> FALSE | V2: =IFERROR(_xlfn.LET(_xlpm.current,INDEX($I$2:$I$252,MATCH($E2&"Yes",$G$2:$G$252,0)),_xlfn.LET(_xlpm.goal,INDEX($I$2:$I$252,MATCH($E2&"Yes",$H$2:$H$252,0)),IF(AND(_xlpm.current="n/a",_xlpm.goal="Inadequate"),TRUE,FALSE))),FALSE) -> FALSE | W2: =IFERROR(INDEX($L$2:$L$247,MATCH(E2&"Yes",$H$2:$H$247,0))=0,FALSE) -> FALSE | X2: =IFERROR(_xlfn.LET(_xlpm.current,INDEX($F$2:$F$241,MATCH($E2&"Yes",$G$2:$G$241,0)),_xlfn.LET(_xlpm.goal,INDEX($F$2:$F$241,MATCH($E2&"Yes",$H$2:$H$241,0)),IF(OR(IFERROR(_xlpm.current="Custom [Overwrite this text if selected]",FALSE),IFERROR(_xlpm.goal="Custom [Overwrite this text if selected]",FALSE),IFERROR(_xlpm.current="",FALSE),IFERROR(_xlpm.goal="",FALSE)),TRUE,FALSE))),FALSE) -> FALSE | Y2: =IFERROR(_xlfn.LET(_xlpm.current,INDEX($I$2:$I$241,MATCH($E2&"Yes",$G$2:$G$241,0)),_xlfn.LET(_xlpm.goal,INDEX($I$2:$I$241,MATCH($E2&"Yes",$H$2:$H$241,0)),IF(OR(IFERROR(_xlpm.current="[Select]",FALSE),IFERROR(_xlpm.goal="[Select]",FALSE),IFERROR(_xlpm.current="",FALSE),IFERROR(_xlpm.goal="",FALSE)),TRUE,FALSE))),FALSE) -> FALSE | Z2: =IFERROR(_xlfn.LET(_xlpm.matchPosition,MATCH(E2&"Yes",$H$2:$H$247,0),_xlpm.timescale,INDEX($L$2:$L$247,_xlpm.matchPosition),IF(OR(_xlpm.timescale=$AH$4,_xlpm.timescale=$AI$4),ISBLANK(INDEX($M$2:$M$247,_xlpm.matchPosition)))),FALSE) -> FALSE | AA2: {=_xlfn.LET( _xlpm.currentText,IF(OR(O2,P2),"- Please select exactly one current practice (or 'Not applicable')",""), _xlpm.goalsText,IF(T2,"- Please select exactly one goal",""), _xlpm.insufficientGoal,IF(U2,"- Note: selected goal is at same or lower level than current state",""), _xlpm.naToInadequate,IF(V2,"- Note: selected goal is inadequate",""), _xlpm.customGoalButNoDescription,IF(X2,"- Please provide a description for your custom state in column F",""), _xlpm.customGoalButNoMaturitySpecified,IF(Y2,"- Please select a maturity level for custom state",""), _xlpm.goalButNoTimescale,IF(W2,"- Please use the 'Improvement timescale' field to indicate how quickly improvement is planned for",""), _xlpm.timescaleButNoAction,IF(Z2,"- Please indicate what actions you intend to take to improve within the " & LOWER(L2),""), _xlpm.texts,_xlfn.VSTACK(_xlpm.currentText,_xlpm.goalsText,_xlpm.insufficientGoal,_xlpm.naToInadequate,_xlpm.customGoalButNoDescription,_xlpm.customGoalButNoMaturitySpecified,_xlpm.goalButNoTimescale,_xlpm.timescaleButNoAction), IFERROR(_xlfn.TEXTJOIN(CHAR(10),TRUE,_xlfn._xlws.FILTER(_xlpm.texts,_xlpm.texts <> "")),""))} -> - Please select exactly one current practice (or 'Not applicable') | AH2: Yes
D3: PR1(A) | E3: =LEFT(D3,FIND("(",D3)-1) -> PR1 | F3: Any user can freely create new Teams and/or SharePoint sites without any process or configuration | G3: =$E3&J3 -> PR1 | H3: =$E3&K3 -> PR1 | I3: Inadequate | O3: =IF(COUNTIFS(J$2:J$247,"Yes",$E$2:$E$247,$E3)=0,TRUE,FALSE) -> TRUE | P3: =IF(COUNTIFS(J$2:J$247,"Yes",$E$2:$E$247,$E3)>1,TRUE,FALSE) -> FALSE | Q3: =IF(COUNTIFS(K$2:K$247,"Yes",$E$2:$E$247,$E3)=0,TRUE,FALSE) -> TRUE | R3: =IF(K3="Yes",IF(ISBLANK(L3),TRUE,FALSE),FALSE) -> FALSE | S3: =IF(OR(L3="Next Year",L3="Next Two Years"),IF(ISBLANK(M3),TRUE,FALSE),FALSE) -> FALSE | T3: =IF(COUNTIFS(K$2:K$247,"Yes",$E$2:$E$247,$E3)>1,TRUE,FALSE) -> FALSE | U3: =IFERROR(_xlfn.LET(_xlpm.current,INDEX($I$2:$I$241,MATCH($E3&"Yes",$G$2:$G$241,0)),_xlpm.goal,INDEX($I$2:$I$241,MATCH($E3&"Yes",$H$2:$H$241,0)),IF(OR(_xlpm.current = "[Select]", _xlpm.goal = "[Select]"),FALSE,IF(OR(AND(_xlpm.current<>"n/a",_xlpm.goal="Inadequate"), AND(_xlpm.goal = "Adequate", OR(_xlpm.current = "Adequate", _xlpm.current = "Optimal ")), AND(_xlpm.current = "Optimal ", _xlpm.goal <> 0)),TRUE,FALSE))),FALSE) -> FALSE | V3: =IFERROR(_xlfn.LET(_xlpm.current,INDEX($I$2:$I$252,MATCH($E3&"Yes",$G$2:$G$252,0)),_xlfn.LET(_xlpm.goal,INDEX($I$2:$I$252,MATCH($E3&"Yes",$H$2:$H$252,0)),IF(AND(_xlpm.current="n/a",_xlpm.goal="Inadequate"),TRUE,FALSE))),FALSE) -> FALSE | W3: =IFERROR(INDEX($L$2:$L$247,MATCH(E3&"Yes",$H$2:$H$247,0))=0,FALSE) -> FALSE | X3: =IFERROR(_xlfn.LET(_xlpm.current,INDEX($F$2:$F$241,MATCH($E3&"Yes",$G$2:$G$241,0)),_xlfn.LET(_xlpm.goal,INDEX($F$2:$F$241,MATCH($E3&"Yes",$H$2:$H$241,0)),IF(OR(IFERROR(_xlpm.current="Custom [Overwrite this text if selected]",FALSE),IFERROR(_xlpm.goal="Custom [Overwrite this text if selected]",FALSE),IFERROR(_xlpm.current="",FALSE),IFERROR(_xlpm.goal="",FALSE)),TRUE,FALSE))),FALSE) -> FALSE | Y3: =IFERROR(_xlfn.LET(_xlpm.current,INDEX($I$2:$I$241,MATCH($E3&"Yes",$G$2:$G$241,0)),_xlfn.LET(_xlpm.goal,INDEX($I$2:$I$241,MATCH($E3&"Yes",$H$2:$H$241,0)),IF(OR(IFERROR(_xlpm.current="[Select]",FALSE),IFERROR(_xlpm.goal="[Select]",FALSE),IFERROR(_xlpm.current="",FALSE),IFERROR(_xlpm.goal="",FALSE)),TRUE,FALSE))),FALSE) -> FALSE | Z3: =IFERROR(_xlfn.LET(_xlpm.matchPosition,MATCH(E3&"Yes",$H$2:$H$247,0),_xlpm.timescale,INDEX($L$2:$L$247,_xlpm.matchPosition),IF(OR(_xlpm.timescale=$AH$4,_xlpm.timescale=$AI$4),ISBLANK(INDEX($M$2:$M$247,_xlpm.matchPosition)))),FALSE) -> FALSE
D4: PR1(B) | E4: =LEFT(D4,FIND("(",D4)-1) -> PR1 | F4: We have provided staff with guidance on how they should manually configure their new Teams and/or SharePoint sites. | G4: =$E4&J4 -> PR1 | H4: =$E4&K4 -> PR1 | I4: Inadequate | O4: =IF(COUNTIFS(J$2:J$247,"Yes",$E$2:$E$247,$E4)=0,TRUE,FALSE) -> TRUE | P4: =IF(COUNTIFS(J$2:J$247,"Yes",$E$2:$E$247,$E4)>1,TRUE,FALSE) -> FALSE | Q4: =IF(COUNTIFS(K$2:K$247,"Yes",$E$2:$E$247,$E4)=0,TRUE,FALSE) -> TRUE | R4: =IF(K4="Yes",IF(ISBLANK(L4),TRUE,FALSE),FALSE) -> FALSE | S4: =IF(OR(L4="Next Year",L4="Next Two Years"),IF(ISBLANK(M4),TRUE,FALSE),FALSE) -> FALSE | T4: =IF(COUNTIFS(K$2:K$247,"Yes",$E$2:$E$247,$E4)>1,TRUE,FALSE) -> FALSE | U4: =IFERROR(_xlfn.LET(_xlpm.current,INDEX($I$2:$I$241,MATCH($E4&"Yes",$G$2:$G$241,0)),_xlpm.goal,INDEX($I$2:$I$241,MATCH($E4&"Yes",$H$2:$H$241,0)),IF(OR(_xlpm.current = "[Select]", _xlpm.goal = "[Select]"),FALSE,IF(OR(AND(_xlpm.current<>"n/a",_xlpm.goal="Inadequate"), AND(_xlpm.goal = "Adequate", OR(_xlpm.current = "Adequate", _xlpm.current = "Optimal ")), AND(_xlpm.current = "Optimal ", _xlpm.goal <> 0)),TRUE,FALSE))),FALSE) -> FALSE | V4: =IFERROR(_xlfn.LET(_xlpm.current,INDEX($I$2:$I$252,MATCH($E4&"Yes",$G$2:$G$252,0)),_xlfn.LET(_xlpm.goal,INDEX($I$2:$I$252,MATCH($E4&"Yes",$H$2:$H$252,0)),IF(AND(_xlpm.current="n/a",_xlpm.goal="Inadequate"),TRUE,FALSE))),FALSE) -> FALSE | W4: =IFERROR(INDEX($L$2:$L$247,MATCH(E4&"Yes",$H$2:$H$247,0))=0,FALSE) -> FALSE | X4: =IFERROR(_xlfn.LET(_xlpm.current,INDEX($F$2:$F$241,MATCH($E4&"Yes",$G$2:$G$241,0)),_xlfn.LET(_xlpm.goal,INDEX($F$2:$F$241,MATCH($E4&"Yes",$H$2:$H$241,0)),IF(OR(IFERROR(_xlpm.current="Custom [Overwrite this text if selected]",FALSE),IFERROR(_xlpm.goal="Custom [Overwrite this text if selected]",FALSE),IFERROR(_xlpm.current="",FALSE),IFERROR(_xlpm.goal="",FALSE)),TRUE,FALSE))),FALSE) -> FALSE | Y4: =IFERROR(_xlfn.LET(_xlpm.current,INDEX($I$2:$I$241,MATCH($E4&"Yes",$G$2:$G$241,0)),_xlfn.LET(_xlpm.goal,INDEX($I$2:$I$241,MATCH($E4&"Yes",$H$2:$H$241,0)),IF(OR(IFERROR(_xlpm.current="[Select]",FALSE),IFERROR(_xlpm.goal="[Select]",FALSE),IFERROR(_xlpm.current="",FALSE),IFERROR(_xlpm.goal="",FALSE)),TRUE,FALSE))),FALSE) -> FALSE | Z4: =IFERROR(_xlfn.LET(_xlpm.matchPosition,MATCH(E4&"Yes",$H$2:$H$247,0),_xlpm.timescale,INDEX($L$2:$L$247,_xlpm.matchPosition),IF(OR(_xlpm.timescale=$AH$4,_xlpm.timescale=$AI$4),ISBLANK(INDEX($M$2:$M$247,_xlpm.matchPosition)))),FALSE) -> FALSE | AH4: Next Year | AI4: Next Two Years | AJ4: Long Term | AK4: No Action
D5: PR1(C) | E5: =LEFT(D5,FIND("(",D5)-1) -> PR1 | F5: We have provided staff with a pre-designed and configured structure of Teams and/or SharePoint sites. Typically, they are not able to request more | G5: =$E5&J5 -> PR1 | H5: =$E5&K5 -> PR1 | I5: Adequate | O5: =IF(COUNTIFS(J$2:J$247,"Yes",$E$2:$E$247,$E5)=0,TRUE,FALSE) -> TRUE | P5: =IF(COUNTIFS(J$2:J$247,"Yes",$E$2:$E$247,$E5)>1,TRUE,FALSE) -> FALSE | Q5: =IF(COUNTIFS(K$2:K$247,"Yes",$E$2:$E$247,$E5)=0,TRUE,FALSE) -> TRUE | R5: =IF(K5="Yes",IF(ISBLANK(L5),TRUE,FALSE),FALSE) -> FALSE | S5: =IF(OR(L5="Next Year",L5="Next Two Years"),IF(ISBLANK(M5),TRUE,FALSE),FALSE) -> FALSE | T5: =IF(COUNTIFS(K$2:K$247,"Yes",$E$2:$E$247,$E5)>1,TRUE,FALSE) -> FALSE | U5: =IFERROR(_xlfn.LET(_xlpm.current,INDEX($I$2:$I$241,MATCH($E5&"Yes",$G$2:$G$241,0)),_xlpm.goal,INDEX($I$2:$I$241,MATCH($E5&"Yes",$H$2:$H$241,0)),IF(OR(_xlpm.current = "[Select]", _xlpm.goal = "[Select]"),FALSE,IF(OR(AND(_xlpm.current<>"n/a",_xlpm.goal="Inadequate"), AND(_xlpm.goal = "Adequate", OR(_xlpm.current = "Adequate", _xlpm.current = "Optimal ")), AND(_xlpm.current = "Optimal ", _xlpm.goal <> 0)),TRUE,FALSE))),FALSE) -> FALSE | V5: =IFERROR(_xlfn.LET(_xlpm.current,INDEX($I$2:$I$252,MATCH($E5&"Yes",$G$2:$G$252,0)),_xlfn.LET(_xlpm.goal,INDEX($I$2:$I$252,MATCH($E5&"Yes",$H$2:$H$252,0)),IF(AND(_xlpm.current="n/a",_xlpm.goal="Inadequate"),TRUE,FALSE))),FALSE) -> FALSE | W5: =IFERROR(INDEX($L$2:$L$247,MATCH(E5&"Yes",$H$2:$H$247,0))=0,FALSE) -> FALSE | X5: =IFERROR(_xlfn.LET(_xlpm.current,INDEX($F$2:$F$241,MATCH($E5&"Yes",$G$2:$G$241,0)),_xlfn.LET(_xlpm.goal,INDEX($F$2:$F$241,MATCH($E5&"Yes",$H$2:$H$241,0)),IF(OR(IFERROR(_xlpm.current="Custom [Overwrite this text if selected]",FALSE),IFERROR(_xlpm.goal="Custom [Overwrite this text if selected]",FALSE),IFERROR(_xlpm.current="",FALSE),IFERROR(_xlpm.goal="",FALSE)),TRUE,FALSE))),FALSE) -> FALSE | Y5: =IFERROR(_xlfn.LET(_xlpm.current,INDEX($I$2:$I$241,MATCH($E5&"Yes",$G$2:$G$241,0)),_xlfn.LET(_xlpm.goal,INDEX($I$2:$I$241,MATCH($E5&"Yes",$H$2:$H$241,0)),IF(OR(IFERROR(_xlpm.current="[Select]",FALSE),IFERROR(_xlpm.goal="[Select]",FALSE),IFERROR(_xlpm.current="",FALSE),IFERROR(_xlpm.goal="",FALSE)),TRUE,FALSE))),FALSE) -> FALSE | Z5: =IFERROR(_xlfn.LET(_xlpm.matchPosition,MATCH(E5&"Yes",$H$2:$H$247,0),_xlpm.timescale,INDEX($L$2:$L$247,_xlpm.matchPosition),IF(OR(_xlpm.timescale=$AH$4,_xlpm.timescale=$AI$4),ISBLANK(INDEX($M$2:$M$247,_xlpm.matchPosition)))),FALSE) -> FALSE
D6: PR1(D) | E6: =LEFT(D6,FIND("(",D6)-1) -> PR1 | F6: We have a largely manual, or semi-automated process for requesting and configuring new Teams or SharePoint sites. Each new Site or Team is configured before users are given access to it. There might be an approval stage as part of this process. | G6: =$E6&J6 -> PR1 | H6: =$E6&K6 -> PR1 | I6: Adequate | O6: =IF(COUNTIFS(J$2:J$247,"Yes",$E$2:$E$247,$E6)=0,TRUE,FALSE) -> TRUE | P6: =IF(COUNTIFS(J$2:J$247,"Yes",$E$2:$E$247,$E6)>1,TRUE,FALSE) -> FALSE | Q6: =IF(COUNTIFS(K$2:K$247,"Yes",$E$2:$E$247,$E6)=0,TRUE,FALSE) -> TRUE | R6: =IF(K6="Yes",IF(ISBLANK(L6),TRUE,FALSE),FALSE) -> FALSE | S6: =IF(OR(L6="Next Year",L6="Next Two Years"),IF(ISBLANK(M6),TRUE,FALSE),FALSE) -> FALSE | T6: =IF(COUNTIFS(K$2:K$247,"Yes",$E$2:$E$247,$E6)>1,TRUE,FALSE) -> FALSE | U6: =IFERROR(_xlfn.LET(_xlpm.current,INDEX($I$2:$I$241,MATCH($E6&"Yes",$G$2:$G$241,0)),_xlpm.goal,INDEX($I$2:$I$241,MATCH($E6&"Yes",$H$2:$H$241,0)),IF(OR(_xlpm.current = "[Select]", _xlpm.goal = "[Select]"),FALSE,IF(OR(AND(_xlpm.current<>"n/a",_xlpm.goal="Inadequate"), AND(_xlpm.goal = "Adequate", OR(_xlpm.current = "Adequate", _xlpm.current = "Optimal ")), AND(_xlpm.current = "Optimal ", _xlpm.goal <> 0)),TRUE,FALSE))),FALSE) -> FALSE | V6: =IFERROR(_xlfn.LET(_xlpm.current,INDEX($I$2:$I$252,MATCH($E6&"Yes",$G$2:$G$252,0)),_xlfn.LET(_xlpm.goal,INDEX($I$2:$I$252,MATCH($E6&"Yes",$H$2:$H$252,0)),IF(AND(_xlpm.current="n/a",_xlpm.goal="Inadequate"),TRUE,FALSE))),FALSE) -> FALSE | W6: =IFERROR(INDEX($L$2:$L$247,MATCH(E6&"Yes",$H$2:$H$247,0))=0,FALSE) -> FALSE | X6: =IFERROR(_xlfn.LET(_xlpm.current,INDEX($F$2:$F$241,MATCH($E6&"Yes",$G$2:$G$241,0)),_xlfn.LET(_xlpm.goal,INDEX($F$2:$F$241,MATCH($E6&"Yes",$H$2:$H$241,0)),IF(OR(IFERROR(_xlpm.current="Custom [Overwrite this text if selected]",FALSE),IFERROR(_xlpm.goal="Custom [Overwrite this text if selected]",FALSE),IFERROR(_xlpm.current="",FALSE),IFERROR(_xlpm.goal="",FALSE)),TRUE,FALSE))),FALSE) -> FALSE | Y6: =IFERROR(_xlfn.LET(_xlpm.current,INDEX($I$2:$I$241,MATCH($E6&"Yes",$G$2:$G$241,0)),_xlfn.LET(_xlpm.goal,INDEX($I$2:$I$241,MATCH($E6&"Yes",$H$2:$H$241,0)),IF(OR(IFERROR(_xlpm.current="[Select]",FALSE),IFERROR(_xlpm.goal="[Select]",FALSE),IFERROR(_xlpm.current="",FALSE),IFERROR(_xlpm.goal="",FALSE)),TRUE,FALSE))),FALSE) -> FALSE | Z6: =IFERROR(_xlfn.LET(_xlpm.matchPosition,MATCH(E6&"Yes",$H$2:$H$247,0),_xlpm.timescale,INDEX($L$2:$L$247,_xlpm.matchPosition),IF(OR(_xlpm.timescale=$AH$4,_xlpm.timescale=$AI$4),ISBLANK(INDEX($M$2:$M$247,_xlpm.matchPosition)))),FALSE) -> FALSE
D7: PR1(E) | E7: =LEFT(D7,FIND("(",D7)-1) -> PR1 | F7: We have a fully automated process, which consistently creates and configures new Teams and/or SharePoint sites. There might be an approval stage as part of this process. | G7: =$E7&J7 -> PR1 | H7: =$E7&K7 -> PR1 | I7: Optimal | O7: =IF(COUNTIFS(J$2:J$247,"Yes",$E$2:$E$247,$E7)=0,TRUE,FALSE) -> TRUE | P7: =IF(COUNTIFS(J$2:J$247,"Yes",$E$2:$E$247,$E7)>1,TRUE,FALSE) -> FALSE | Q7: =IF(COUNTIFS(K$2:K$247,"Yes",$E$2:$E$247,$E7)=0,TRUE,FALSE) -> TRUE | R7: =IF(K7="Yes",IF(ISBLANK(L7),TRUE,FALSE),FALSE) -> FALSE | S7: =IF(OR(L7="Next Year",L7="Next Two Years"),IF(ISBLANK(M7),TRUE,FALSE),FALSE) -> FALSE | T7: =IF(COUNTIFS(K$2:K$247,"Yes",$E$2:$E$247,$E7)>1,TRUE,FALSE) -> FALSE | U7: =IFERROR(_xlfn.LET(_xlpm.current,INDEX($I$2:$I$241,MATCH($E7&"Yes",$G$2:$G$241,0)),_xlpm.goal,INDEX($I$2:$I$241,MATCH($E7&"Yes",$H$2:$H$241,0)),IF(OR(_xlpm.current = "[Select]", _xlpm.goal = "[Select]"),FALSE,IF(OR(AND(_xlpm.current<>"n/a",_xlpm.goal="Inadequate"), AND(_xlpm.goal = "Adequate", OR(_xlpm.current = "Adequate", _xlpm.current = "Optimal ")), AND(_xlpm.current = "Optimal ", _xlpm.goal <> 0)),TRUE,FALSE))),FALSE) -> FALSE | V7: =IFERROR(_xlfn.LET(_xlpm.current,INDEX($I$2:$I$252,MATCH($E7&"Yes",$G$2:$G$252,0)),_xlfn.LET(_xlpm.goal,INDEX($I$2:$I$252,MATCH($E7&"Yes",$H$2:$H$252,0)),IF(AND(_xlpm.current="n/a",_xlpm.goal="Inadequate"),TRUE,FALSE))),FALSE) -> FALSE | W7: =IFERROR(INDEX($L$2:$L$247,MATCH(E7&"Yes",$H$2:$H$247,0))=0,FALSE) -> FALSE | X7: =IFERROR(_xlfn.LET(_xlpm.current,INDEX($F$2:$F$241,MATCH($E7&"Yes",$G$2:$G$241,0)),_xlfn.LET(_xlpm.goal,INDEX($F$2:$F$241,MATCH($E7&"Yes",$H$2:$H$241,0)),IF(OR(IFERROR(_xlpm.current="Custom [Overwrite this text if selected]",FALSE),IFERROR(_xlpm.goal="Custom [Overwrite this text if selected]",FALSE),IFERROR(_xlpm.current="",FALSE),IFERROR(_xlpm.goal="",FALSE)),TRUE,FALSE))),FALSE) -> FALSE | Y7: =IFERROR(_xlfn.LET(_xlpm.current,INDEX($I$2:$I$241,MATCH($E7&"Yes",$G$2:$G$241,0)),_xlfn.LET(_xlpm.goal,INDEX($I$2:$I$241,MATCH($E7&"Yes",$H$2:$H$241,0)),IF(OR(IFERROR(_xlpm.current="[Select]",FALSE),IFERROR(_xlpm.goal="[Select]",FALSE),IFERROR(_xlpm.current="",FALSE),IFERROR(_xlpm.goal="",FALSE)),TRUE,FALSE))),FALSE) -> FALSE | Z7: =IFERROR(_xlfn.LET(_xlpm.matchPosition,MATCH(E7&"Yes",$H$2:$H$247,0),_xlpm.timescale,INDEX($L$2:$L$247,_xlpm.matchPosition),IF(OR(_xlpm.timescale=$AH$4,_xlpm.timescale=$AI$4),ISBLANK(INDEX($M$2:$M$247,_xlpm.matchPosition)))),FALSE) -> FALSE
D8: PR1(F) | E8: =LEFT(D8,FIND("(",D8)-1) -> PR1 | F8: Custom [Overwrite this text if selected] | G8: =$E8&J8 -> PR1 | H8: =$E8&K8 -> PR1 | I8: [Select] | O8: =IF(COUNTIFS(J$2:J$241,"Yes",$E$2:$E$241,$E8)=0,TRUE,FALSE) -> TRUE | P8: =IF(COUNTIFS(J$2:J$241,"Yes",$E$2:$E$241,$E8)>1,TRUE,FALSE) -> FALSE | Q8: =IF(COUNTIFS(K$2:K$241,"Yes",$E$2:$E$241,$E8)=0,TRUE,FALSE) -> TRUE | R8: =IF(K8="Yes",IF(ISBLANK(L8),TRUE,FALSE),FALSE) -> FALSE | S8: =IF(OR(L8="Next Year",L8="Next Two Years"),IF(ISBLANK(M8),TRUE,FALSE),FALSE) -> FALSE | T8: =IF(COUNTIFS(K$2:K$241,"Yes",$E$2:$E$241,$E8)>1,TRUE,FALSE) -> FALSE | U8: =IFERROR(_xlfn.LET(_xlpm.current,INDEX($I$2:$I$241,MATCH($E8&"Yes",$G$2:$G$241,0)),_xlpm.goal,INDEX($I$2:$I$241,MATCH($E8&"Yes",$H$2:$H$241,0)),IF(OR(_xlpm.current = "[Select]", _xlpm.goal = "[Select]"),FALSE,IF(OR(AND(_xlpm.current<>"n/a",_xlpm.goal="Inadequate"), AND(_xlpm.goal = "Adequate", OR(_xlpm.current = "Adequate", _xlpm.current = "Optimal ")), AND(_xlpm.current = "Optimal ", _xlpm.goal <> 0)),TRUE,FALSE))),FALSE) -> FALSE | V8: =IFERROR(_xlfn.LET(_xlpm.current,INDEX($I$2:$I$241,MATCH($E8&"Yes",$G$2:$G$241,0)),_xlfn.LET(_xlpm.goal,INDEX($I$2:$I$241,MATCH($E8&"Yes",$H$2:$H$241,0)),IF(AND(_xlpm.current="n/a",_xlpm.goal="Inadequate"),TRUE,FALSE))),FALSE) -> FALSE | W8: =IFERROR(INDEX($L$2:$L$241,MATCH(E8&"Yes",$H$2:$H$241,0))=0,FALSE) -> FALSE | X8: =IFERROR(_xlfn.LET(_xlpm.current,INDEX($F$2:$F$241,MATCH($E8&"Yes",$G$2:$G$241,0)),_xlfn.LET(_xlpm.goal,INDEX($F$2:$F$241,MATCH($E8&"Yes",$H$2:$H$241,0)),IF(OR(IFERROR(_xlpm.current="Custom [Overwrite this text if selected]",FALSE),IFERROR(_xlpm.goal="Custom [Overwrite this text if selected]",FALSE),IFERROR(_xlpm.current="",FALSE),IFERROR(_xlpm.goal="",FALSE)),TRUE,FALSE))),FALSE) -> FALSE | Y8: =IFERROR(_xlfn.LET(_xlpm.current,INDEX($I$2:$I$241,MATCH($E8&"Yes",$G$2:$G$241,0)),_xlfn.LET(_xlpm.goal,INDEX($I$2:$I$241,MATCH($E8&"Yes",$H$2:$H$241,0)),IF(OR(IFERROR(_xlpm.current="[Select]",FALSE),IFERROR(_xlpm.goal="[Select]",FALSE),IFERROR(_xlpm.current="",FALSE),IFERROR(_xlpm.goal="",FALSE)),TRUE,FALSE))),FALSE) -> FALSE | Z8: =IFERROR(_xlfn.LET(_xlpm.matchPosition,MATCH(E8&"Yes",$H$2:$H$241,0),_xlpm.timescale,INDEX($L$2:$L$241,_xlpm.matchPosition),IF(OR(_xlpm.timescale=$AH$4,_xlpm.timescale=$AI$4),ISBLANK(INDEX($M$2:$M$241,_xlpm.matchPosition)))),FALSE) -> FALSE
D9: PR1(G) | E9: =LEFT(D9,FIND("(",D9)-1) -> PR1 | F9: Custom [Overwrite this text if selected] | G9: =$E9&J9 -> PR1 | H9: =$E9&K9 -> PR1 | I9: [Select] | O9: =IF(COUNTIFS(J$2:J$241,"Yes",$E$2:$E$241,$E9)=0,TRUE,FALSE) -> TRUE | P9: =IF(COUNTIFS(J$2:J$241,"Yes",$E$2:$E$241,$E9)>1,TRUE,FALSE) -> FALSE | Q9: =IF(COUNTIFS(K$2:K$241,"Yes",$E$2:$E$241,$E9)=0,TRUE,FALSE) -> TRUE | R9: =IF(K9="Yes",IF(ISBLANK(L9),TRUE,FALSE),FALSE) -> FALSE | S9: =IF(OR(L9="Next Year",L9="Next Two Years"),IF(ISBLANK(M9),TRUE,FALSE),FALSE) -> FALSE | T9: =IF(COUNTIFS(K$2:K$241,"Yes",$E$2:$E$241,$E9)>1,TRUE,FALSE) -> FALSE | U9: =IFERROR(_xlfn.LET(_xlpm.current,INDEX($I$2:$I$241,MATCH($E9&"Yes",$G$2:$G$241,0)),_xlpm.goal,INDEX($I$2:$I$241,MATCH($E9&"Yes",$H$2:$H$241,0)),IF(OR(_xlpm.current = "[Select]", _xlpm.goal = "[Select]"),FALSE,IF(OR(AND(_xlpm.current<>"n/a",_xlpm.goal="Inadequate"), AND(_xlpm.goal = "Adequate", OR(_xlpm.current = "Adequate", _xlpm.current = "Optimal ")), AND(_xlpm.current = "Optimal ", _xlpm.goal <> 0)),TRUE,FALSE))),FALSE) -> FALSE | V9: =IFERROR(_xlfn.LET(_xlpm.current,INDEX($I$2:$I$241,MATCH($E9&"Yes",$G$2:$G$241,0)),_xlfn.LET(_xlpm.goal,INDEX($I$2:$I$241,MATCH($E9&"Yes",$H$2:$H$241,0)),IF(AND(_xlpm.current="n/a",_xlpm.goal="Inadequate"),TRUE,FALSE))),FALSE) -> FALSE | W9: =IFERROR(INDEX($L$2:$L$241,MATCH(E9&"Yes",$H$2:$H$241,0))=0,FALSE) -> FALSE | X9: =IFERROR(_xlfn.LET(_xlpm.current,INDEX($F$2:$F$241,MATCH($E9&"Yes",$G$2:$G$241,0)),_xlfn.LET(_xlpm.goal,INDEX($F$2:$F$241,MATCH($E9&"Yes",$H$2:$H$241,0)),IF(OR(IFERROR(_xlpm.current="Custom [Overwrite this text if selected]",FALSE),IFERROR(_xlpm.goal="Custom [Overwrite this text if selected]",FALSE),IFERROR(_xlpm.current="",FALSE),IFERROR(_xlpm.goal="",FALSE)),TRUE,FALSE))),FALSE) -> FALSE | Y9: =IFERROR(_xlfn.LET(_xlpm.current,INDEX($I$2:$I$241,MATCH($E9&"Yes",$G$2:$G$241,0)),_xlfn.LET(_xlpm.goal,INDEX($I$2:$I$241,MATCH($E9&"Yes",$H$2:$H$241,0)),IF(OR(IFERROR(_xlpm.current="[Select]",FALSE),IFERROR(_xlpm.goal="[Select]",FALSE),IFERROR(_xlpm.current="",FALSE),IFERROR(_xlpm.goal="",FALSE)),TRUE,FALSE))),FALSE) -> FALSE | Z9: =IFERROR(_xlfn.LET(_xlpm.matchPosition,MATCH(E9&"Yes",$H$2:$H$241,0),_xlpm.timescale,INDEX($L$2:$L$241,_xlpm.matchPosition),IF(OR(_xlpm.timescale=$AH$4,_xlpm.timescale=$AI$4),ISBLANK(INDEX($M$2:$M$241,_xlpm.matchPosition)))),FALSE) -> FALSE
A10: PR2 | B10: Provisioning | C10: If you use Teams and/or SharePoint, how consistently is metadata applied to content? | D10: PR2(NA) | E10: =LEFT(D10,FIND("(",D10)-1) -> PR2 | F10: Not applicable | G10: =$E10&J10 -> PR2 | H10: =$E10&K10 -> PR2 | I10: n/a | O10: =IF(COUNTIFS(J$2:J$247,"Yes",$E$2:$E$247,$E10)=0,TRUE,FALSE) -> TRUE | P10: =IF(COUNTIFS(J$2:J$247,"Yes",$E$2:$E$247,$E10)>1,TRUE,FALSE) -> FALSE | Q10: =IF(COUNTIFS(K$2:K$247,"Yes",$E$2:$E$247,$E10)=0,TRUE,FALSE) -> TRUE | R10: =IF(K10="Yes",IF(ISBLANK(L10),TRUE,FALSE),FALSE) -> FALSE | S10: =IF(OR(L10="Next Year",L10="Next Two Years"),IF(ISBLANK(M10),TRUE,FALSE),FALSE) -> FALSE | T10: =IF(COUNTIFS(K$2:K$247,"Yes",$E$2:$E$247,$E10)>1,TRUE,FALSE) -> FALSE | U10: =IFERROR(_xlfn.LET(_xlpm.current,INDEX($I$2:$I$241,MATCH($E10&"Yes",$G$2:$G$241,0)),_xlpm.goal,INDEX($I$2:$I$241,MATCH($E10&"Yes",$H$2:$H$241,0)),IF(OR(_xlpm.current = "[Select]", _xlpm.goal = "[Select]"),FALSE,IF(OR(AND(_xlpm.current<>"n/a",_xlpm.goal="Inadequate"), AND(_xlpm.goal = "Adequate", OR(_xlpm.current = "Adequate", _xlpm.current = "Optimal ")), AND(_xlpm.current = "Optimal ", _xlpm.goal <> 0)),TRUE,FALSE))),FALSE) -> FALSE | V10: =IFERROR(_xlfn.LET(_xlpm.current,INDEX($I$2:$I$252,MATCH($E10&"Yes",$G$2:$G$252,0)),_xlfn.LET(_xlpm.goal,INDEX($I$2:$I$252,MATCH($E10&"Yes",$H$2:$H$252,0)),IF(AND(_xlpm.current="n/a",_xlpm.goal="Inadequate"),TRUE,FALSE))),FALSE) -> FALSE | W10: =IFERROR(INDEX($L$2:$L$247,MATCH(E10&"Yes",$H$2:$H$247,0))=0,FALSE) -> FALSE | X10: =IFERROR(_xlfn.LET(_xlpm.current,INDEX($F$2:$F$241,MATCH($E10&"Yes",$G$2:$G$241,0)),_xlfn.LET(_xlpm.goal,INDEX($F$2:$F$241,MATCH($E10&"Yes",$H$2:$H$241,0)),IF(OR(IFERROR(_xlpm.current="Custom [Overwrite this text if selected]",FALSE),IFERROR(_xlpm.goal="Custom [Overwrite this text if selected]",FALSE),IFERROR(_xlpm.current="",FALSE),IFERROR(_xlpm.goal="",FALSE)),TRUE,FALSE))),FALSE) -> FALSE | Y10: =IFERROR(_xlfn.LET(_xlpm.current,INDEX($I$2:$I$241,MATCH($E10&"Yes",$G$2:$G$241,0)),_xlfn.LET(_xlpm.goal,INDEX($I$2:$I$241,MATCH($E10&"Yes",$H$2:$H$241,0)),IF(OR(IFERROR(_xlpm.current="[Select]",FALSE),IFERROR(_xlpm.goal="[Select]",FALSE),IFERROR(_xlpm.current="",FALSE),IFERROR(_xlpm.goal="",FALSE)),TRUE,FALSE))),FALSE) -> FALSE | Z10: =IFERROR(_xlfn.LET(_xlpm.matchPosition,MATCH(E10&"Yes",$H$2:$H$247,0),_xlpm.timescale,INDEX($L$2:$L$247,_xlpm.matchPosition),IF(OR(_xlpm.timescale=$AH$4,_xlpm.timescale=$AI$4),ISBLANK(INDEX($M$2:$M$247,_xlpm.matchPosition)))),FALSE) -> FALSE | AA10: {=_xlfn.LET( _xlpm.currentText,IF(OR(O10,P10),"- Please select exactly one current practice (or 'Not applicable')",""), _xlpm.goalsText,IF(T10,"- Please select exactly one goal",""), _xlpm.insufficientGoal,IF(U10,"- Note: selected goal is at same or lower level than current state",""), _xlpm.naToInadequate,IF(V10,"- Note: selected goal is inadequate",""), _xlpm.customGoalButNoDescription,IF(X10,"- Please provide a description for your custom state in column F",""), _xlpm.customGoalButNoMaturitySpecified,IF(Y10,"- Please select a maturity level for custom state",""), _xlpm.goalButNoTimescale,IF(W10,"- Please use the 'Improvement timescale' field to indicate how quickly improvement is planned for",""), _xlpm.timescaleButNoAction,IF(Z10,"- Please indicate what actions you intend to take to improve within the " & LOWER(L10),""), _xlpm.texts,_xlfn.VSTACK(_xlpm.currentText,_xlpm.goalsText,_xlpm.insufficientGoal,_xlpm.naToInadequate,_xlpm.customGoalButNoDescription,_xlpm.customGoalButNoMaturitySpecified,_xlpm.goalButNoTimescale,_xlpm.timescaleButNoAction), IFERROR(_xlfn.TEXTJOIN(CHAR(10),TRUE,_xlfn._xlws.FILTER(_xlpm.texts,_xlpm.texts <> "")),""))} -> - Please select exactly one current practice (or 'Not applicable')
D11: PR2(A) | E11: =LEFT(D11,FIND("(",D11)-1) -> PR2 | F11: We don't provide organisation-wide metadata in our Teams and/or SharePoint sites. | G11: =$E11&J11 -> PR2 | H11: =$E11&K11 -> PR2 | I11: Inadequate | O11: =IF(COUNTIFS(J$2:J$247,"Yes",$E$2:$E$247,$E11)=0,TRUE,FALSE) -> TRUE | P11: =IF(COUNTIFS(J$2:J$247,"Yes",$E$2:$E$247,$E11)>1,TRUE,FALSE) -> FALSE | Q11: =IF(COUNTIFS(K$2:K$247,"Yes",$E$2:$E$247,$E11)=0,TRUE,FALSE) -> TRUE | R11: =IF(K11="Yes",IF(ISBLANK(L11),TRUE,FALSE),FALSE) -> FALSE | S11: =IF(OR(L11="Next Year",L11="Next Two Years"),IF(ISBLANK(M11),TRUE,FALSE),FALSE) -> FALSE | T11: =IF(COUNTIFS(K$2:K$247,"Yes",$E$2:$E$247,$E11)>1,TRUE,FALSE) -> FALSE | U11: =IFERROR(_xlfn.LET(_xlpm.current,INDEX($I$2:$I$241,MATCH($E11&"Yes",$G$2:$G$241,0)),_xlpm.goal,INDEX($I$2:$I$241,MATCH($E11&"Yes",$H$2:$H$241,0)),IF(OR(_xlpm.current = "[Select]", _xlpm.goal = "[Select]"),FALSE,IF(OR(AND(_xlpm.current<>"n/a",_xlpm.goal="Inadequate"), AND(_xlpm.goal = "Adequate", OR(_xlpm.current = "Adequate", _xlpm.current = "Optimal ")), AND(_xlpm.current = "Optimal ", _xlpm.goal <> 0)),TRUE,FALSE))),FALSE) -> FALSE | V11: =IFERROR(_xlfn.LET(_xlpm.current,INDEX($I$2:$I$252,MATCH($E11&"Yes",$G$2:$G$252,0)),_xlfn.LET(_xlpm.goal,INDEX($I$2:$I$252,MATCH($E11&"Yes",$H$2:$H$252,0)),IF(AND(_xlpm.current="n/a",_xlpm.goal="Inadequate"),TRUE,FALSE))),FALSE) -> FALSE | W11: =IFERROR(INDEX($L$2:$L$247,MATCH(E11&"Yes",$H$2:$H$247,0))=0,FALSE) -> FALSE | X11: =IFERROR(_xlfn.LET(_xlpm.current,INDEX($F$2:$F$241,MATCH($E11&"Yes",$G$2:$G$241,0)),_xlfn.LET(_xlpm.goal,INDEX($F$2:$F$241,MATCH($E11&"Yes",$H$2:$H$241,0)),IF(OR(IFERROR(_xlpm.current="Custom [Overwrite this text if selected]",FALSE),IFERROR(_xlpm.goal="Custom [Overwrite this text if selected]",FALSE),IFERROR(_xlpm.current="",FALSE),IFERROR(_xlpm.goal="",FALSE)),TRUE,FALSE))),FALSE) -> FALSE | Y11: =IFERROR(_xlfn.LET(_xlpm.current,INDEX($I$2:$I$241,MATCH($E11&"Yes",$G$2:$G$241,0)),_xlfn.LET(_xlpm.goal,INDEX($I$2:$I$241,MATCH($E11&"Yes",$H$2:$H$241,0)),IF(OR(IFERROR(_xlpm.current="[Select]",FALSE),IFERROR(_xlpm.goal="[Select]",FALSE),IFERROR(_xlpm.current="",FALSE),IFERROR(_xlpm.goal="",FALSE)),TRUE,FALSE))),FALSE) -> FALSE | Z11: =IFERROR(_xlfn.LET(_xlpm.matchPosition,MATCH(E11&"Yes",$H$2:$H$247,0),_xlpm.timescale,INDEX($L$2:$L$247,_xlpm.matchPosition),IF(OR(_xlpm.timescale=$AH$4,_xlpm.timescale=$AI$4),ISBLANK(INDEX($M$2:$M$247,_xlpm.matchPosition)))),FALSE) -> FALSE
D12: PR2(B) | E12: =LEFT(D12,FIND("(",D12)-1) -> PR2 | F12: We provide organisation-wide metadata for staff to use across all our Teams and/or SharePoint sites, however it isn't always reliably applied to content. | G12: =$E12&J12 -> PR2 | H12: =$E12&K12 -> PR2 | I12: Inadequate | O12: =IF(COUNTIFS(J$2:J$247,"Yes",$E$2:$E$247,$E12)=0,TRUE,FALSE) -> TRUE | P12: =IF(COUNTIFS(J$2:J$247,"Yes",$E$2:$E$247,$E12)>1,TRUE,FALSE) -> FALSE | Q12: =IF(COUNTIFS(K$2:K$247,"Yes",$E$2:$E$247,$E12)=0,TRUE,FALSE) -> TRUE | R12: =IF(K12="Yes",IF(ISBLANK(L12),TRUE,FALSE),FALSE) -> FALSE | S12: =IF(OR(L12="Next Year",L12="Next Two Years"),IF(ISBLANK(M12),TRUE,FALSE),FALSE) -> FALSE | T12: =IF(COUNTIFS(K$2:K$247,"Yes",$E$2:$E$247,$E12)>1,TRUE,FALSE) -> FALSE | U12: =IFERROR(_xlfn.LET(_xlpm.current,INDEX($I$2:$I$241,MATCH($E12&"Yes",$G$2:$G$241,0)),_xlpm.goal,INDEX($I$2:$I$241,MATCH($E12&"Yes",$H$2:$H$241,0)),IF(OR(_xlpm.current = "[Select]", _xlpm.goal = "[Select]"),FALSE,IF(OR(AND(_xlpm.current<>"n/a",_xlpm.goal="Inadequate"), AND(_xlpm.goal = "Adequate", OR(_xlpm.current = "Adequate", _xlpm.current = "Optimal ")), AND(_xlpm.current = "Optimal ", _xlpm.goal <> 0)),TRUE,FALSE))),FALSE) -> FALSE | V12: =IFERROR(_xlfn.LET(_xlpm.current,INDEX($I$2:$I$252,MATCH($E12&"Yes",$G$2:$G$252,0)),_xlfn.LET(_xlpm.goal,INDEX($I$2:$I$252,MATCH($E12&"Yes",$H$2:$H$252,0)),IF(AND(_xlpm.current="n/a",_xlpm.goal="Inadequate"),TRUE,FALSE))),FALSE) -> FALSE | W12: =IFERROR(INDEX($L$2:$L$247,MATCH(E12&"Yes",$H$2:$H$247,0))=0,FALSE) -> FALSE | X12: =IFERROR(_xlfn.LET(_xlpm.current,INDEX($F$2:$F$241,MATCH($E12&"Yes",$G$2:$G$241,0)),_xlfn.LET(_xlpm.goal,INDEX($F$2:$F$241,MATCH($E12&"Yes",$H$2:$H$241,0)),IF(OR(IFERROR(_xlpm.current="Custom [Overwrite this text if selected]",FALSE),IFERROR(_xlpm.goal="Custom [Overwrite this text if selected]",FALSE),IFERROR(_xlpm.current="",FALSE),IFERROR(_xlpm.goal="",FALSE)),TRUE,FALSE))),FALSE) -> FALSE | Y12: =IFERROR(_xlfn.LET(_xlpm.current,INDEX($I$2:$I$241,MATCH($E12&"Yes",$G$2:$G$241,0)),_xlfn.LET(_xlpm.goal,INDEX($I$2:$I$241,MATCH($E12&"Yes",$H$2:$H$241,0)),IF(OR(IFERROR(_xlpm.current="[Select]",FALSE),IFERROR(_xlpm.goal="[Select]",FALSE),IFERROR(_xlpm.current="",FALSE),IFERROR(_xlpm.goal="",FALSE)),TRUE,FALSE))),FALSE) -> FALSE | Z12: =IFERROR(_xlfn.LET(_xlpm.matchPosition,MATCH(E12&"Yes",$H$2:$H$247,0),_xlpm.timescale,INDEX($L$2:$L$247,_xlpm.matchPosition),IF(OR(_xlpm.timescale=$AH$4,_xlpm.timescale=$AI$4),ISBLANK(INDEX($M$2:$M$247,_xlpm.matchPosition)))),FALSE) -> FALSE
D13: PR2(C) | E13: =LEFT(D13,FIND("(",D13)-1) -> PR2 | F13: We consistently apply metadata to content in Teams and/or SharePoint sites, making efforts to ensure that it is as relevant and contextual as possible. The vast majority of our content in Teams and/or SharePoint is well classified. | G13: =$E13&J13 -> PR2 | H13: =$E13&K13 -> PR2 | I13: Optimal | O13: =IF(COUNTIFS(J$2:J$247,"Yes",$E$2:$E$247,$E13)=0,TRUE,FALSE) -> TRUE | P13: =IF(COUNTIFS(J$2:J$247,"Yes",$E$2:$E$247,$E13)>1,TRUE,FALSE) -> FALSE | Q13: =IF(COUNTIFS(K$2:K$247,"Yes",$E$2:$E$247,$E13)=0,TRUE,FALSE) -> TRUE | R13: =IF(K13="Yes",IF(ISBLANK(L13),TRUE,FALSE),FALSE) -> FALSE | S13: =IF(OR(L13="Next Year",L13="Next Two Years"),IF(ISBLANK(M13),TRUE,FALSE),FALSE) -> FALSE | T13: =IF(COUNTIFS(K$2:K$247,"Yes",$E$2:$E$247,$E13)>1,TRUE,FALSE) -> FALSE | U13: =IFERROR(_xlfn.LET(_xlpm.current,INDEX($I$2:$I$241,MATCH($E13&"Yes",$G$2:$G$241,0)),_xlpm.goal,INDEX($I$2:$I$241,MATCH($E13&"Yes",$H$2:$H$241,0)),IF(OR(_xlpm.current = "[Select]", _xlpm.goal = "[Select]"),FALSE,IF(OR(AND(_xlpm.current<>"n/a",_xlpm.goal="Inadequate"), AND(_xlpm.goal = "Adequate", OR(_xlpm.current = "Adequate", _xlpm.current = "Optimal ")), AND(_xlpm.current = "Optimal ", _xlpm.goal <> 0)),TRUE,FALSE))),FALSE) -> FALSE | V13: =IFERROR(_xlfn.LET(_xlpm.current,INDEX($I$2:$I$252,MATCH($E13&"Yes",$G$2:$G$252,0)),_xlfn.LET(_xlpm.goal,INDEX($I$2:$I$252,MATCH($E13&"Yes",$H$2:$H$252,0)),IF(AND(_xlpm.current="n/a",_xlpm.goal="Inadequate"),TRUE,FALSE))),FALSE) -> FALSE | W13: =IFERROR(INDEX($L$2:$L$247,MATCH(E13&"Yes",$H$2:$H$247,0))=0,FALSE) -> FALSE | X13: =IFERROR(_xlfn.LET(_xlpm.current,INDEX($F$2:$F$241,MATCH($E13&"Yes",$G$2:$G$241,0)),_xlfn.LET(_xlpm.goal,INDEX($F$2:$F$241,MATCH($E13&"Yes",$H$2:$H$241,0)),IF(OR(IFERROR(_xlpm.current="Custom [Overwrite this text if selected]",FALSE),IFERROR(_xlpm.goal="Custom [Overwrite this text if selected]",FALSE),IFERROR(_xlpm.current="",FALSE),IFERROR(_xlpm.goal="",FALSE)),TRUE,FALSE))),FALSE) -> FALSE | Y13: =IFERROR(_xlfn.LET(_xlpm.current,INDEX($I$2:$I$241,MATCH($E13&"Yes",$G$2:$G$241,0)),_xlfn.LET(_xlpm.goal,INDEX($I$2:$I$241,MATCH($E13&"Yes",$H$2:$H$241,0)),IF(OR(IFERROR(_xlpm.current="[Select]",FALSE),IFERROR(_xlpm.goal="[Select]",FALSE),IFERROR(_xlpm.current="",FALSE),IFERROR(_xlpm.goal="",FALSE)),TRUE,FALSE))),FALSE) -> FALSE | Z13: =IFERROR(_xlfn.LET(_xlpm.matchPosition,MATCH(E13&"Yes",$H$2:$H$247,0),_xlpm.timescale,INDEX($L$2:$L$247,_xlpm.matchPosition),IF(OR(_xlpm.timescale=$AH$4,_xlpm.timescale=$AI$4),ISBLANK(INDEX($M$2:$M$247,_xlpm.matchPosition)))),FALSE) -> FALSE
D14: PR2(D) | E14: =LEFT(D14,FIND("(",D14)-1) -> PR2 | F14: Custom [Overwrite this text if selected] | G14: =$E14&J14 -> PR2 | H14: =$E14&K14 -> PR2 | I14: [Select] | O14: =IF(COUNTIFS(J$2:J$241,"Yes",$E$2:$E$241,$E14)=0,TRUE,FALSE) -> TRUE | P14: =IF(COUNTIFS(J$2:J$241,"Yes",$E$2:$E$241,$E14)>1,TRUE,FALSE) -> FALSE | Q14: =IF(COUNTIFS(K$2:K$241,"Yes",$E$2:$E$241,$E14)=0,TRUE,FALSE) -> TRUE | R14: =IF(K14="Yes",IF(ISBLANK(L14),TRUE,FALSE),FALSE) -> FALSE | S14: =IF(OR(L14="Next Year",L14="Next Two Years"),IF(ISBLANK(M14),TRUE,FALSE),FALSE) -> FALSE | T14: =IF(COUNTIFS(K$2:K$241,"Yes",$E$2:$E$241,$E14)>1,TRUE,FALSE) -> FALSE | U14: =IFERROR(_xlfn.LET(_xlpm.current,INDEX($I$2:$I$241,MATCH($E14&"Yes",$G$2:$G$241,0)),_xlpm.goal,INDEX($I$2:$I$241,MATCH($E14&"Yes",$H$2:$H$241,0)),IF(OR(_xlpm.current = "[Select]", _xlpm.goal = "[Select]"),FALSE,IF(OR(AND(_xlpm.current<>"n/a",_xlpm.goal="Inadequate"), AND(_xlpm.goal = "Adequate", OR(_xlpm.current = "Adequate", _xlpm.current = "Optimal ")), AND(_xlpm.current = "Optimal ", _xlpm.goal <> 0)),TRUE,FALSE))),FALSE) -> FALSE | V14: =IFERROR(_xlfn.LET(_xlpm.current,INDEX($I$2:$I$241,MATCH($E14&"Yes",$G$2:$G$241,0)),_xlfn.LET(_xlpm.goal,INDEX($I$2:$I$241,MATCH($E14&"Yes",$H$2:$H$241,0)),IF(AND(_xlpm.current="n/a",_xlpm.goal="Inadequate"),TRUE,FALSE))),FALSE) -> FALSE | W14: =IFERROR(INDEX($L$2:$L$241,MATCH(E14&"Yes",$H$2:$H$241,0))=0,FALSE) -> FALSE | X14: =IFERROR(_xlfn.LET(_xlpm.current,INDEX($F$2:$F$241,MATCH($E14&"Yes",$G$2:$G$241,0)),_xlfn.LET(_xlpm.goal,INDEX($F$2:$F$241,MATCH($E14&"Yes",$H$2:$H$241,0)),IF(OR(IFERROR(_xlpm.current="Custom [Overwrite this text if selected]",FALSE),IFERROR(_xlpm.goal="Custom [Overwrite this text if selected]",FALSE),IFERROR(_xlpm.current="",FALSE),IFERROR(_xlpm.goal="",FALSE)),TRUE,FALSE))),FALSE) -> FALSE | Y14: =IFERROR(_xlfn.LET(_xlpm.current,INDEX($I$2:$I$241,MATCH($E14&"Yes",$G$2:$G$241,0)),_xlfn.LET(_xlpm.goal,INDEX($I$2:$I$241,MATCH($E14&"Yes",$H$2:$H$241,0)),IF(OR(IFERROR(_xlpm.current="[Select]",FALSE),IFERROR(_xlpm.goal="[Select]",FALSE),IFERROR(_xlpm.current="",FALSE),IFERROR(_xlpm.goal="",FALSE)),TRUE,FALSE))),FALSE) -> FALSE | Z14: =IFERROR(_xlfn.LET(_xlpm.matchPosition,MATCH(E14&"Yes",$H$2:$H$241,0),_xlpm.timescale,INDEX($L$2:$L$241,_xlpm.matchPosition),IF(OR(_xlpm.timescale=$AH$4,_xlpm.timescale=$AI$4),ISBLANK(INDEX($M$2:$M$241,_xlpm.matchPosition)))),FALSE) -> FALSE
D15: PR2(E) | E15: =LEFT(D15,FIND("(",D15)-1) -> PR2 | F15: Custom [Overwrite this text if selected] | G15: =$E15&J15 -> PR2 | H15: =$E15&K15 -> PR2 | I15: [Select] | O15: =IF(COUNTIFS(J$2:J$241,"Yes",$E$2:$E$241,$E15)=0,TRUE,FALSE) -> TRUE | P15: =IF(COUNTIFS(J$2:J$241,"Yes",$E$2:$E$241,$E15)>1,TRUE,FALSE) -> FALSE | Q15: =IF(COUNTIFS(K$2:K$241,"Yes",$E$2:$E$241,$E15)=0,TRUE,FALSE) -> TRUE | R15: =IF(K15="Yes",IF(ISBLANK(L15),TRUE,FALSE),FALSE) -> FALSE | S15: =IF(OR(L15="Next Year",L15="Next Two Years"),IF(ISBLANK(M15),TRUE,FALSE),FALSE) -> FALSE | T15: =IF(COUNTIFS(K$2:K$241,"Yes",$E$2:$E$241,$E15)>1,TRUE,FALSE) -> FALSE | U15: =IFERROR(_xlfn.LET(_xlpm.current,INDEX($I$2:$I$241,MATCH($E15&"Yes",$G$2:$G$241,0)),_xlpm.goal,INDEX($I$2:$I$241,MATCH($E15&"Yes",$H$2:$H$241,0)),IF(OR(_xlpm.current = "[Select]", _xlpm.goal = "[Select]"),FALSE,IF(OR(AND(_xlpm.current<>"n/a",_xlpm.goal="Inadequate"), AND(_xlpm.goal = "Adequate", OR(_xlpm.current = "Adequate", _xlpm.current = "Optimal ")), AND(_xlpm.current = "Optimal ", _xlpm.goal <> 0)),TRUE,FALSE))),FALSE) -> FALSE | V15: =IFERROR(_xlfn.LET(_xlpm.current,INDEX($I$2:$I$241,MATCH($E15&"Yes",$G$2:$G$241,0)),_xlfn.LET(_xlpm.goal,INDEX($I$2:$I$241,MATCH($E15&"Yes",$H$2:$H$241,0)),IF(AND(_xlpm.current="n/a",_xlpm.goal="Inadequate"),TRUE,FALSE))),FALSE) -> FALSE | W15: =IFERROR(INDEX($L$2:$L$241,MATCH(E15&"Yes",$H$2:$H$241,0))=0,FALSE) -> FALSE | X15: =IFERROR(_xlfn.LET(_xlpm.current,INDEX($F$2:$F$241,MATCH($E15&"Yes",$G$2:$G$241,0)),_xlfn.LET(_xlpm.goal,INDEX($F$2:$F$241,MATCH($E15&"Yes",$H$2:$H$241,0)),IF(OR(IFERROR(_xlpm.current="Custom [Overwrite this text if selected]",FALSE),IFERROR(_xlpm.goal="Custom [Overwrite this text if selected]",FALSE),IFERROR(_xlpm.current="",FALSE),IFERROR(_xlpm.goal="",FALSE)),TRUE,FALSE))),FALSE) -> FALSE | Y15: =IFERROR(_xlfn.LET(_xlpm.current,INDEX($I$2:$I$241,MATCH($E15&"Yes",$G$2:$G$241,0)),_xlfn.LET(_xlpm.goal,INDEX($I$2:$I$241,MATCH($E15&"Yes",$H$2:$H$241,0)),IF(OR(IFERROR(_xlpm.current="[Select]",FALSE),IFERROR(_xlpm.goal="[Select]",FALSE),IFERROR(_xlpm.current="",FALSE),IFERROR(_xlpm.goal="",FALSE)),TRUE,FALSE))),FALSE) -> FALSE | Z15: =IFERROR(_xlfn.LET(_xlpm.matchPosition,MATCH(E15&"Yes",$H$2:$H$241,0),_xlpm.timescale,INDEX($L$2:$L$241,_xlpm.matchPosition),IF(OR(_xlpm.timescale=$AH$4,_xlpm.timescale=$AI$4),ISBLANK(INDEX($M$2:$M$241,_xlpm.matchPosition)))),FALSE) -> FALSE
A16: PR3 | B16: Provisioning | C16: If you use Teams and/or SharePoint sites, are new sites configured for records management purposes as part of their creation process? | D16: PR3(NA) | E16: =LEFT(D16,FIND("(",D16)-1) -> PR3 | F16: Not applicable | G16: =$E16&J16 -> PR3 | H16: =$E16&K16 -> PR3 | I16: n/a | O16: =IF(COUNTIFS(J$2:J$247,"Yes",$E$2:$E$247,$E16)=0,TRUE,FALSE) -> TRUE | P16: =IF(COUNTIFS(J$2:J$247,"Yes",$E$2:$E$247,$E16)>1,TRUE,FALSE) -> FALSE | Q16: =IF(COUNTIFS(K$2:K$247,"Yes",$E$2:$E$247,$E16)=0,TRUE,FALSE) -> TRUE | R16: =IF(K16="Yes",IF(ISBLANK(L16),TRUE,FALSE),FALSE) -> FALSE | S16: =IF(OR(L16="Next Year",L16="Next Two Years"),IF(ISBLANK(M16),TRUE,FALSE),FALSE) -> FALSE | T16: =IF(COUNTIFS(K$2:K$247,"Yes",$E$2:$E$247,$E16)>1,TRUE,FALSE) -> FALSE | U16: =IFERROR(_xlfn.LET(_xlpm.current,INDEX($I$2:$I$241,MATCH($E16&"Yes",$G$2:$G$241,0)),_xlpm.goal,INDEX($I$2:$I$241,MATCH($E16&"Yes",$H$2:$H$241,0)),IF(OR(_xlpm.current = "[Select]", _xlpm.goal = "[Select]"),FALSE,IF(OR(AND(_xlpm.current<>"n/a",_xlpm.goal="Inadequate"), AND(_xlpm.goal = "Adequate", OR(_xlpm.current = "Adequate", _xlpm.current = "Optimal ")), AND(_xlpm.current = "Optimal ", _xlpm.goal <> 0)),TRUE,FALSE))),FALSE) -> FALSE | V16: =IFERROR(_xlfn.LET(_xlpm.current,INDEX($I$2:$I$252,MATCH($E16&"Yes",$G$2:$G$252,0)),_xlfn.LET(_xlpm.goal,INDEX($I$2:$I$252,MATCH($E16&"Yes",$H$2:$H$252,0)),IF(AND(_xlpm.current="n/a",_xlpm.goal="Inadequate"),TRUE,FALSE))),FALSE) -> FALSE | W16: =IFERROR(INDEX($L$2:$L$247,MATCH(E16&"Yes",$H$2:$H$247,0))=0,FALSE) -> FALSE | X16: =IFERROR(_xlfn.LET(_xlpm.current,INDEX($F$2:$F$241,MATCH($E16&"Yes",$G$2:$G$241,0)),_xlfn.LET(_xlpm.goal,INDEX($F$2:$F$241,MATCH($E16&"Yes",$H$2:$H$241,0)),IF(OR(IFERROR(_xlpm.current="Custom [Overwrite this text if selected]",FALSE),IFERROR(_xlpm.goal="Custom [Overwrite this text if selected]",FALSE),IFERROR(_xlpm.current="",FALSE),IFERROR(_xlpm.goal="",FALSE)),TRUE,FALSE))),FALSE) -> FALSE | Y16: =IFERROR(_xlfn.LET(_xlpm.current,INDEX($I$2:$I$241,MATCH($E16&"Yes",$G$2:$G$241,0)),_xlfn.LET(_xlpm.goal,INDEX($I$2:$I$241,MATCH($E16&"Yes",$H$2:$H$241,0)),IF(OR(IFERROR(_xlpm.current="[Select]",FALSE),IFERROR(_xlpm.goal="[Select]",FALSE),IFERROR(_xlpm.current="",FALSE),IFERROR(_xlpm.goal="",FALSE)),TRUE,FALSE))),FALSE) -> FALSE | Z16: =IFERROR(_xlfn.LET(_xlpm.matchPosition,MATCH(E16&"Yes",$H$2:$H$247,0),_xlpm.timescale,INDEX($L$2:$L$247,_xlpm.matchPosition),IF(OR(_xlpm.timescale=$AH$4,_xlpm.timescale=$AI$4),ISBLANK(INDEX($M$2:$M$247,_xlpm.matchPosition)))),FALSE) -> FALSE | AA16: {=_xlfn.LET( _xlpm.currentText,IF(OR(O16,P16),"- Please select exactly one current practice (or 'Not applicable')",""), _xlpm.goalsText,IF(T16,"- Please select exactly one goal",""), _xlpm.insufficientGoal,IF(U16,"- Note: selected goal is at same or lower level than current state",""), _xlpm.naToInadequate,IF(V16,"- Note: selected goal is inadequate",""), _xlpm.customGoalButNoDescription,IF(X16,"- Please provide a description for your custom state in column F",""), _xlpm.customGoalButNoMaturitySpecified,IF(Y16,"- Please select a maturity level for custom state",""), _xlpm.goalButNoTimescale,IF(W16,"- Please use the 'Improvement timescale' field to indicate how quickly improvement is planned for",""), _xlpm.timescaleButNoAction,IF(Z16,"- Please indicate what actions you intend to take to improve within the " & LOWER(L16),""), _xlpm.texts,_xlfn.VSTACK(_xlpm.currentText,_xlpm.goalsText,_xlpm.insufficientGoal,_xlpm.naToInadequate,_xlpm.customGoalButNoDescription,_xlpm.customGoalButNoMaturitySpecified,_xlpm.goalButNoTimescale,_xlpm.timescaleButNoAction), IFERROR(_xlfn.TEXTJOIN(CHAR(10),TRUE,_xlfn._xlws.FILTER(_xlpm.texts,_xlpm.texts <> "")),""))} -> - Please select exactly one current practice (or 'Not applicable')
D17: PR3(A) | E17: =LEFT(D17,FIND("(",D17)-1) -> PR3 | F17: No, we ask staff to manually configure each new Team and/or Site before any records are managed. | G17: =$E17&J17 -> PR3 | H17: =$E17&K17 -> PR3 | I17: Inadequate | O17: =IF(COUNTIFS(J$2:J$247,"Yes",$E$2:$E$247,$E17)=0,TRUE,FALSE) -> TRUE | P17: =IF(COUNTIFS(J$2:J$247,"Yes",$E$2:$E$247,$E17)>1,TRUE,FALSE) -> FALSE | Q17: =IF(COUNTIFS(K$2:K$247,"Yes",$E$2:$E$247,$E17)=0,TRUE,FALSE) -> TRUE | R17: =IF(K17="Yes",IF(ISBLANK(L17),TRUE,FALSE),FALSE) -> FALSE | S17: =IF(OR(L17="Next Year",L17="Next Two Years"),IF(ISBLANK(M17),TRUE,FALSE),FALSE) -> FALSE | T17: =IF(COUNTIFS(K$2:K$247,"Yes",$E$2:$E$247,$E17)>1,TRUE,FALSE) -> FALSE | U17: =IFERROR(_xlfn.LET(_xlpm.current,INDEX($I$2:$I$241,MATCH($E17&"Yes",$G$2:$G$241,0)),_xlpm.goal,INDEX($I$2:$I$241,MATCH($E17&"Yes",$H$2:$H$241,0)),IF(OR(_xlpm.current = "[Select]", _xlpm.goal = "[Select]"),FALSE,IF(OR(AND(_xlpm.current<>"n/a",_xlpm.goal="Inadequate"), AND(_xlpm.goal = "Adequate", OR(_xlpm.current = "Adequate", _xlpm.current = "Optimal ")), AND(_xlpm.current = "Optimal ", _xlpm.goal <> 0)),TRUE,FALSE))),FALSE) -> FALSE | V17: =IFERROR(_xlfn.LET(_xlpm.current,INDEX($I$2:$I$252,MATCH($E17&"Yes",$G$2:$G$252,0)),_xlfn.LET(_xlpm.goal,INDEX($I$2:$I$252,MATCH($E17&"Yes",$H$2:$H$252,0)),IF(AND(_xlpm.current="n/a",_xlpm.goal="Inadequate"),TRUE,FALSE))),FALSE) -> FALSE | W17: =IFERROR(INDEX($L$2:$L$247,MATCH(E17&"Yes",$H$2:$H$247,0))=0,FALSE) -> FALSE | X17: =IFERROR(_xlfn.LET(_xlpm.current,INDEX($F$2:$F$241,MATCH($E17&"Yes",$G$2:$G$241,0)),_xlfn.LET(_xlpm.goal,INDEX($F$2:$F$241,MATCH($E17&"Yes",$H$2:$H$241,0)),IF(OR(IFERROR(_xlpm.current="Custom [Overwrite this text if selected]",FALSE),IFERROR(_xlpm.goal="Custom [Overwrite this text if selected]",FALSE),IFERROR(_xlpm.current="",FALSE),IFERROR(_xlpm.goal="",FALSE)),TRUE,FALSE))),FALSE) -> FALSE | Y17: =IFERROR(_xlfn.LET(_xlpm.current,INDEX($I$2:$I$241,MATCH($E17&"Yes",$G$2:$G$241,0)),_xlfn.LET(_xlpm.goal,INDEX($I$2:$I$241,MATCH($E17&"Yes",$H$2:$H$241,0)),IF(OR(IFERROR(_xlpm.current="[Select]",FALSE),IFERROR(_xlpm.goal="[Select]",FALSE),IFERROR(_xlpm.current="",FALSE),IFERROR(_xlpm.goal="",FALSE)),TRUE,FALSE))),FALSE) -> FALSE | Z17: =IFERROR(_xlfn.LET(_xlpm.matchPosition,MATCH(E17&"Yes",$H$2:$H$247,0),_xlpm.timescale,INDEX($L$2:$L$247,_xlpm.matchPosition),IF(OR(_xlpm.timescale=$AH$4,_xlpm.timescale=$AI$4),ISBLANK(INDEX($M$2:$M$247,_xlpm.matchPosition)))),FALSE) -> FALSE
D18: PR3(B) | E18: =LEFT(D18,FIND("(",D18)-1) -> PR3 | F18: No, we rely on users correctly classifying content manually. | G18: =$E18&J18 -> PR3 | H18: =$E18&K18 -> PR3 | I18: Inadequate | O18: =IF(COUNTIFS(J$2:J$247,"Yes",$E$2:$E$247,$E18)=0,TRUE,FALSE) -> TRUE | P18: =IF(COUNTIFS(J$2:J$247,"Yes",$E$2:$E$247,$E18)>1,TRUE,FALSE) -> FALSE | Q18: =IF(COUNTIFS(K$2:K$247,"Yes",$E$2:$E$247,$E18)=0,TRUE,FALSE) -> TRUE | R18: =IF(K18="Yes",IF(ISBLANK(L18),TRUE,FALSE),FALSE) -> FALSE | S18: =IF(OR(L18="Next Year",L18="Next Two Years"),IF(ISBLANK(M18),TRUE,FALSE),FALSE) -> FALSE | T18: =IF(COUNTIFS(K$2:K$247,"Yes",$E$2:$E$247,$E18)>1,TRUE,FALSE) -> FALSE | U18: =IFERROR(_xlfn.LET(_xlpm.current,INDEX($I$2:$I$241,MATCH($E18&"Yes",$G$2:$G$241,0)),_xlpm.goal,INDEX($I$2:$I$241,MATCH($E18&"Yes",$H$2:$H$241,0)),IF(OR(_xlpm.current = "[Select]", _xlpm.goal = "[Select]"),FALSE,IF(OR(AND(_xlpm.current<>"n/a",_xlpm.goal="Inadequate"), AND(_xlpm.goal = "Adequate", OR(_xlpm.current = "Adequate", _xlpm.current = "Optimal ")), AND(_xlpm.current = "Optimal ", _xlpm.goal <> 0)),TRUE,FALSE))),FALSE) -> FALSE | V18: =IFERROR(_xlfn.LET(_xlpm.current,INDEX($I$2:$I$252,MATCH($E18&"Yes",$G$2:$G$252,0)),_xlfn.LET(_xlpm.goal,INDEX($I$2:$I$252,MATCH($E18&"Yes",$H$2:$H$252,0)),IF(AND(_xlpm.current="n/a",_xlpm.goal="Inadequate"),TRUE,FALSE))),FALSE) -> FALSE | W18: =IFERROR(INDEX($L$2:$L$247,MATCH(E18&"Yes",$H$2:$H$247,0))=0,FALSE) -> FALSE | X18: =IFERROR(_xlfn.LET(_xlpm.current,INDEX($F$2:$F$241,MATCH($E18&"Yes",$G$2:$G$241,0)),_xlfn.LET(_xlpm.goal,INDEX($F$2:$F$241,MATCH($E18&"Yes",$H$2:$H$241,0)),IF(OR(IFERROR(_xlpm.current="Custom [Overwrite this text if selected]",FALSE),IFERROR(_xlpm.goal="Custom [Overwrite this text if selected]",FALSE),IFERROR(_xlpm.current="",FALSE),IFERROR(_xlpm.goal="",FALSE)),TRUE,FALSE))),FALSE) -> FALSE | Y18: =IFERROR(_xlfn.LET(_xlpm.current,INDEX($I$2:$I$241,MATCH($E18&"Yes",$G$2:$G$241,0)),_xlfn.LET(_xlpm.goal,INDEX($I$2:$I$241,MATCH($E18&"Yes",$H$2:$H$241,0)),IF(OR(IFERROR(_xlpm.current="[Select]",FALSE),IFERROR(_xlpm.goal="[Select]",FALSE),IFERROR(_xlpm.current="",FALSE),IFERROR(_xlpm.goal="",FALSE)),TRUE,FALSE))),FALSE) -> FALSE | Z18: =IFERROR(_xlfn.LET(_xlpm.matchPosition,MATCH(E18&"Yes",$H$2:$H$247,0),_xlpm.timescale,INDEX($L$2:$L$247,_xlpm.matchPosition),IF(OR(_xlpm.timescale=$AH$4,_xlpm.timescale=$AI$4),ISBLANK(INDEX($M$2:$M$247,_xlpm.matchPosition)))),FALSE) -> FALSE
D19: PR3(C) | E19: =LEFT(D19,FIND("(",D19)-1) -> PR3 | F19: No, we plan to assess Teams / SharePoint sites for potential records at a later date. | G19: =$E19&J19 -> PR3 | H19: =$E19&K19 -> PR3 | I19: Inadequate | O19: =IF(COUNTIFS(J$2:J$247,"Yes",$E$2:$E$247,$E19)=0,TRUE,FALSE) -> TRUE | P19: =IF(COUNTIFS(J$2:J$247,"Yes",$E$2:$E$247,$E19)>1,TRUE,FALSE) -> FALSE | Q19: =IF(COUNTIFS(K$2:K$247,"Yes",$E$2:$E$247,$E19)=0,TRUE,FALSE) -> TRUE | R19: =IF(K19="Yes",IF(ISBLANK(L19),TRUE,FALSE),FALSE) -> FALSE | S19: =IF(OR(L19="Next Year",L19="Next Two Years"),IF(ISBLANK(M19),TRUE,FALSE),FALSE) -> FALSE | T19: =IF(COUNTIFS(K$2:K$247,"Yes",$E$2:$E$247,$E19)>1,TRUE,FALSE) -> FALSE | U19: =IFERROR(_xlfn.LET(_xlpm.current,INDEX($I$2:$I$241,MATCH($E19&"Yes",$G$2:$G$241,0)),_xlpm.goal,INDEX($I$2:$I$241,MATCH($E19&"Yes",$H$2:$H$241,0)),IF(OR(_xlpm.current = "[Select]", _xlpm.goal = "[Select]"),FALSE,IF(OR(AND(_xlpm.current<>"n/a",_xlpm.goal="Inadequate"), AND(_xlpm.goal = "Adequate", OR(_xlpm.current = "Adequate", _xlpm.current = "Optimal ")), AND(_xlpm.current = "Optimal ", _xlpm.goal <> 0)),TRUE,FALSE))),FALSE) -> FALSE | V19: =IFERROR(_xlfn.LET(_xlpm.current,INDEX($I$2:$I$252,MATCH($E19&"Yes",$G$2:$G$252,0)),_xlfn.LET(_xlpm.goal,INDEX($I$2:$I$252,MATCH($E19&"Yes",$H$2:$H$252,0)),IF(AND(_xlpm.current="n/a",_xlpm.goal="Inadequate"),TRUE,FALSE))),FALSE) -> FALSE | W19: =IFERROR(INDEX($L$2:$L$247,MATCH(E19&"Yes",$H$2:$H$247,0))=0,FALSE) -> FALSE | X19: =IFERROR(_xlfn.LET(_xlpm.current,INDEX($F$2:$F$241,MATCH($E19&"Yes",$G$2:$G$241,0)),_xlfn.LET(_xlpm.goal,INDEX($F$2:$F$241,MATCH($E19&"Yes",$H$2:$H$241,0)),IF(OR(IFERROR(_xlpm.current="Custom [Overwrite this text if selected]",FALSE),IFERROR(_xlpm.goal="Custom [Overwrite this text if selected]",FALSE),IFERROR(_xlpm.current="",FALSE),IFERROR(_xlpm.goal="",FALSE)),TRUE,FALSE))),FALSE) -> FALSE | Y19: =IFERROR(_xlfn.LET(_xlpm.current,INDEX($I$2:$I$241,MATCH($E19&"Yes",$G$2:$G$241,0)),_xlfn.LET(_xlpm.goal,INDEX($I$2:$I$241,MATCH($E19&"Yes",$H$2:$H$241,0)),IF(OR(IFERROR(_xlpm.current="[Select]",FALSE),IFERROR(_xlpm.goal="[Select]",FALSE),IFERROR(_xlpm.current="",FALSE),IFERROR(_xlpm.goal="",FALSE)),TRUE,FALSE))),FALSE) -> FALSE | Z19: =IFERROR(_xlfn.LET(_xlpm.matchPosition,MATCH(E19&"Yes",$H$2:$H$247,0),_xlpm.timescale,INDEX($L$2:$L$247,_xlpm.matchPosition),IF(OR(_xlpm.timescale=$AH$4,_xlpm.timescale=$AI$4),ISBLANK(INDEX($M$2:$M$247,_xlpm.matchPosition)))),FALSE) -> FALSE
D20: PR3(D) | E20: =LEFT(D20,FIND("(",D20)-1) -> PR3 | F20: No, we don't manage Microsoft 365 content as a record | G20: =$E20&J20 -> PR3 | H20: =$E20&K20 -> PR3 | I20: Inadequate | O20: =IF(COUNTIFS(J$2:J$247,"Yes",$E$2:$E$247,$E20)=0,TRUE,FALSE) -> TRUE | P20: =IF(COUNTIFS(J$2:J$247,"Yes",$E$2:$E$247,$E20)>1,TRUE,FALSE) -> FALSE | Q20: =IF(COUNTIFS(K$2:K$247,"Yes",$E$2:$E$247,$E20)=0,TRUE,FALSE) -> TRUE | R20: =IF(K20="Yes",IF(ISBLANK(L20),TRUE,FALSE),FALSE) -> FALSE | S20: =IF(OR(L20="Next Year",L20="Next Two Years"),IF(ISBLANK(M20),TRUE,FALSE),FALSE) -> FALSE | T20: =IF(COUNTIFS(K$2:K$247,"Yes",$E$2:$E$247,$E20)>1,TRUE,FALSE) -> FALSE | U20: =IFERROR(_xlfn.LET(_xlpm.current,INDEX($I$2:$I$241,MATCH($E20&"Yes",$G$2:$G$241,0)),_xlpm.goal,INDEX($I$2:$I$241,MATCH($E20&"Yes",$H$2:$H$241,0)),IF(OR(_xlpm.current = "[Select]", _xlpm.goal = "[Select]"),FALSE,IF(OR(AND(_xlpm.current<>"n/a",_xlpm.goal="Inadequate"), AND(_xlpm.goal = "Adequate", OR(_xlpm.current = "Adequate", _xlpm.current = "Optimal ")), AND(_xlpm.current = "Optimal ", _xlpm.goal <> 0)),TRUE,FALSE))),FALSE) -> FALSE | V20: =IFERROR(_xlfn.LET(_xlpm.current,INDEX($I$2:$I$252,MATCH($E20&"Yes",$G$2:$G$252,0)),_xlfn.LET(_xlpm.goal,INDEX($I$2:$I$252,MATCH($E20&"Yes",$H$2:$H$252,0)),IF(AND(_xlpm.current="n/a",_xlpm.goal="Inadequate"),TRUE,FALSE))),FALSE) -> FALSE | W20: =IFERROR(INDEX($L$2:$L$247,MATCH(E20&"Yes",$H$2:$H$247,0))=0,FALSE) -> FALSE | X20: =IFERROR(_xlfn.LET(_xlpm.current,INDEX($F$2:$F$241,MATCH($E20&"Yes",$G$2:$G$241,0)),_xlfn.LET(_xlpm.goal,INDEX($F$2:$F$241,MATCH($E20&"Yes",$H$2:$H$241,0)),IF(OR(IFERROR(_xlpm.current="Custom [Overwrite this text if selected]",FALSE),IFERROR(_xlpm.goal="Custom [Overwrite this text if selected]",FALSE),IFERROR(_xlpm.current="",FALSE),IFERROR(_xlpm.goal="",FALSE)),TRUE,FALSE))),FALSE) -> FALSE | Y20: =IFERROR(_xlfn.LET(_xlpm.current,INDEX($I$2:$I$241,MATCH($E20&"Yes",$G$2:$G$241,0)),_xlfn.LET(_xlpm.goal,INDEX($I$2:$I$241,MATCH($E20&"Yes",$H$2:$H$241,0)),IF(OR(IFERROR(_xlpm.current="[Select]",FALSE),IFERROR(_xlpm.goal="[Select]",FALSE),IFERROR(_xlpm.current="",FALSE),IFERROR(_xlpm.goal="",FALSE)),TRUE,FALSE))),FALSE) -> FALSE | Z20: =IFERROR(_xlfn.LET(_xlpm.matchPosition,MATCH(E20&"Yes",$H$2:$H$247,0),_xlpm.timescale,INDEX($L$2:$L$247,_xlpm.matchPosition),IF(OR(_xlpm.timescale=$AH$4,_xlpm.timescale=$AI$4),ISBLANK(INDEX($M$2:$M$247,_xlpm.matchPosition)))),FALSE) -> FALSE
D21: PR3(E) | E21: =LEFT(D21,FIND("(",D21)-1) -> PR3 | F21: Partially, however there are still some manual steps for owners/users. | G21: =$E21&J21 -> PR3 | H21: =$E21&K21 -> PR3 | I21: Adequate | O21: =IF(COUNTIFS(J$2:J$247,"Yes",$E$2:$E$247,$E21)=0,TRUE,FALSE) -> TRUE | P21: =IF(COUNTIFS(J$2:J$247,"Yes",$E$2:$E$247,$E21)>1,TRUE,FALSE) -> FALSE | Q21: =IF(COUNTIFS(K$2:K$247,"Yes",$E$2:$E$247,$E21)=0,TRUE,FALSE) -> TRUE | R21: =IF(K21="Yes",IF(ISBLANK(L21),TRUE,FALSE),FALSE) -> FALSE | S21: =IF(OR(L21="Next Year",L21="Next Two Years"),IF(ISBLANK(M21),TRUE,FALSE),FALSE) -> FALSE | T21: =IF(COUNTIFS(K$2:K$247,"Yes",$E$2:$E$247,$E21)>1,TRUE,FALSE) -> FALSE | U21: =IFERROR(_xlfn.LET(_xlpm.current,INDEX($I$2:$I$241,MATCH($E21&"Yes",$G$2:$G$241,0)),_xlpm.goal,INDEX($I$2:$I$241,MATCH($E21&"Yes",$H$2:$H$241,0)),IF(OR(_xlpm.current = "[Select]", _xlpm.goal = "[Select]"),FALSE,IF(OR(AND(_xlpm.current<>"n/a",_xlpm.goal="Inadequate"), AND(_xlpm.goal = "Adequate", OR(_xlpm.current = "Adequate", _xlpm.current = "Optimal ")), AND(_xlpm.current = "Optimal ", _xlpm.goal <> 0)),TRUE,FALSE))),FALSE) -> FALSE | V21: =IFERROR(_xlfn.LET(_xlpm.current,INDEX($I$2:$I$252,MATCH($E21&"Yes",$G$2:$G$252,0)),_xlfn.LET(_xlpm.goal,INDEX($I$2:$I$252,MATCH($E21&"Yes",$H$2:$H$252,0)),IF(AND(_xlpm.current="n/a",_xlpm.goal="Inadequate"),TRUE,FALSE))),FALSE) -> FALSE | W21: =IFERROR(INDEX($L$2:$L$247,MATCH(E21&"Yes",$H$2:$H$247,0))=0,FALSE) -> FALSE | X21: =IFERROR(_xlfn.LET(_xlpm.current,INDEX($F$2:$F$241,MATCH($E21&"Yes",$G$2:$G$241,0)),_xlfn.LET(_xlpm.goal,INDEX($F$2:$F$241,MATCH($E21&"Yes",$H$2:$H$241,0)),IF(OR(IFERROR(_xlpm.current="Custom [Overwrite this text if selected]",FALSE),IFERROR(_xlpm.goal="Custom [Overwrite this text if selected]",FALSE),IFERROR(_xlpm.current="",FALSE),IFERROR(_xlpm.goal="",FALSE)),TRUE,FALSE))),FALSE) -> FALSE | Y21: =IFERROR(_xlfn.LET(_xlpm.current,INDEX($I$2:$I$241,MATCH($E21&"Yes",$G$2:$G$241,0)),_xlfn.LET(_xlpm.goal,INDEX($I$2:$I$241,MATCH($E21&"Yes",$H$2:$H$241,0)),IF(OR(IFERROR(_xlpm.current="[Select]",FALSE),IFERROR(_xlpm.goal="[Select]",FALSE),IFERROR(_xlpm.current="",FALSE),IFERROR(_xlpm.goal="",FALSE)),TRUE,FALSE))),FALSE) -> FALSE | Z21: =IFERROR(_xlfn.LET(_xlpm.matchPosition,MATCH(E21&"Yes",$H$2:$H$247,0),_xlpm.timescale,INDEX($L$2:$L$247,_xlpm.matchPosition),IF(OR(_xlpm.timescale=$AH$4,_xlpm.timescale=$AI$4),ISBLANK(INDEX($M$2:$M$247,_xlpm.matchPosition)))),FALSE) -> FALSE
D22: PR3(F) | E22: =LEFT(D22,FIND("(",D22)-1) -> PR3 | F22: Yes, all of the settings/configuration required for records to be managed are applied when the Team and/or Site is created, without any manual steps for owners/users | G22: =$E22&J22 -> PR3 | H22: =$E22&K22 -> PR3 | I22: Optimal | O22: =IF(COUNTIFS(J$2:J$247,"Yes",$E$2:$E$247,$E22)=0,TRUE,FALSE) -> TRUE | P22: =IF(COUNTIFS(J$2:J$247,"Yes",$E$2:$E$247,$E22)>1,TRUE,FALSE) -> FALSE | Q22: =IF(COUNTIFS(K$2:K$247,"Yes",$E$2:$E$247,$E22)=0,TRUE,FALSE) -> TRUE | R22: =IF(K22="Yes",IF(ISBLANK(L22),TRUE,FALSE),FALSE) -> FALSE | S22: =IF(OR(L22="Next Year",L22="Next Two Years"),IF(ISBLANK(M22),TRUE,FALSE),FALSE) -> FALSE | T22: =IF(COUNTIFS(K$2:K$247,"Yes",$E$2:$E$247,$E22)>1,TRUE,FALSE) -> FALSE | U22: =IFERROR(_xlfn.LET(_xlpm.current,INDEX($I$2:$I$241,MATCH($E22&"Yes",$G$2:$G$241,0)),_xlpm.goal,INDEX($I$2:$I$241,MATCH($E22&"Yes",$H$2:$H$241,0)),IF(OR(_xlpm.current = "[Select]", _xlpm.goal = "[Select]"),FALSE,IF(OR(AND(_xlpm.current<>"n/a",_xlpm.goal="Inadequate"), AND(_xlpm.goal = "Adequate", OR(_xlpm.current = "Adequate", _xlpm.current = "Optimal ")), AND(_xlpm.current = "Optimal ", _xlpm.goal <> 0)),TRUE,FALSE))),FALSE) -> FALSE | V22: =IFERROR(_xlfn.LET(_xlpm.current,INDEX($I$2:$I$252,MATCH($E22&"Yes",$G$2:$G$252,0)),_xlfn.LET(_xlpm.goal,INDEX($I$2:$I$252,MATCH($E22&"Yes",$H$2:$H$252,0)),IF(AND(_xlpm.current="n/a",_xlpm.goal="Inadequate"),TRUE,FALSE))),FALSE) -> FALSE | W22: =IFERROR(INDEX($L$2:$L$247,MATCH(E22&"Yes",$H$2:$H$247,0))=0,FALSE) -> FALSE | X22: =IFERROR(_xlfn.LET(_xlpm.current,INDEX($F$2:$F$241,MATCH($E22&"Yes",$G$2:$G$241,0)),_xlfn.LET(_xlpm.goal,INDEX($F$2:$F$241,MATCH($E22&"Yes",$H$2:$H$241,0)),IF(OR(IFERROR(_xlpm.current="Custom [Overwrite this text if selected]",FALSE),IFERROR(_xlpm.goal="Custom [Overwrite this text if selected]",FALSE),IFERROR(_xlpm.current="",FALSE),IFERROR(_xlpm.goal="",FALSE)),TRUE,FALSE))),FALSE) -> FALSE | Y22: =IFERROR(_xlfn.LET(_xlpm.current,INDEX($I$2:$I$241,MATCH($E22&"Yes",$G$2:$G$241,0)),_xlfn.LET(_xlpm.goal,INDEX($I$2:$I$241,MATCH($E22&"Yes",$H$2:$H$241,0)),IF(OR(IFERROR(_xlpm.current="[Select]",FALSE),IFERROR(_xlpm.goal="[Select]",FALSE),IFERROR(_xlpm.current="",FALSE),IFERROR(_xlpm.goal="",FALSE)),TRUE,FALSE))),FALSE) -> FALSE | Z22: =IFERROR(_xlfn.LET(_xlpm.matchPosition,MATCH(E22&"Yes",$H$2:$H$247,0),_xlpm.timescale,INDEX($L$2:$L$247,_xlpm.matchPosition),IF(OR(_xlpm.timescale=$AH$4,_xlpm.timescale=$AI$4),ISBLANK(INDEX($M$2:$M$247,_xlpm.matchPosition)))),FALSE) -> FALSE
D23: PR3(G) | E23: =LEFT(D23,FIND("(",D23)-1) -> PR3 | F23: Custom [Overwrite this text if selected] | G23: =$E23&J23 -> PR3 | H23: =$E23&K23 -> PR3 | I23: [Select] | O23: =IF(COUNTIFS(J$2:J$241,"Yes",$E$2:$E$241,$E23)=0,TRUE,FALSE) -> TRUE | P23: =IF(COUNTIFS(J$2:J$241,"Yes",$E$2:$E$241,$E23)>1,TRUE,FALSE) -> FALSE | Q23: =IF(COUNTIFS(K$2:K$241,"Yes",$E$2:$E$241,$E23)=0,TRUE,FALSE) -> TRUE | R23: =IF(K23="Yes",IF(ISBLANK(L23),TRUE,FALSE),FALSE) -> FALSE | S23: =IF(OR(L23="Next Year",L23="Next Two Years"),IF(ISBLANK(M23),TRUE,FALSE),FALSE) -> FALSE | T23: =IF(COUNTIFS(K$2:K$241,"Yes",$E$2:$E$241,$E23)>1,TRUE,FALSE) -> FALSE | U23: =IFERROR(_xlfn.LET(_xlpm.current,INDEX($I$2:$I$241,MATCH($E23&"Yes",$G$2:$G$241,0)),_xlpm.goal,INDEX($I$2:$I$241,MATCH($E23&"Yes",$H$2:$H$241,0)),IF(OR(_xlpm.current = "[Select]", _xlpm.goal = "[Select]"),FALSE,IF(OR(AND(_xlpm.current<>"n/a",_xlpm.goal="Inadequate"), AND(_xlpm.goal = "Adequate", OR(_xlpm.current = "Adequate", _xlpm.current = "Optimal ")), AND(_xlpm.current = "Optimal ", _xlpm.goal <> 0)),TRUE,FALSE))),FALSE) -> FALSE | V23: =IFERROR(_xlfn.LET(_xlpm.current,INDEX($I$2:$I$241,MATCH($E23&"Yes",$G$2:$G$241,0)),_xlfn.LET(_xlpm.goal,INDEX($I$2:$I$241,MATCH($E23&"Yes",$H$2:$H$241,0)),IF(AND(_xlpm.current="n/a",_xlpm.goal="Inadequate"),TRUE,FALSE))),FALSE) -> FALSE | W23: =IFERROR(INDEX($L$2:$L$241,MATCH(E23&"Yes",$H$2:$H$241,0))=0,FALSE) -> FALSE | X23: =IFERROR(_xlfn.LET(_xlpm.current,INDEX($F$2:$F$241,MATCH($E23&"Yes",$G$2:$G$241,0)),_xlfn.LET(_xlpm.goal,INDEX($F$2:$F$241,MATCH($E23&"Yes",$H$2:$H$241,0)),IF(OR(IFERROR(_xlpm.current="Custom [Overwrite this text if selected]",FALSE),IFERROR(_xlpm.goal="Custom [Overwrite this text if selected]",FALSE),IFERROR(_xlpm.current="",FALSE),IFERROR(_xlpm.goal="",FALSE)),TRUE,FALSE))),FALSE) -> FALSE | Y23: =IFERROR(_xlfn.LET(_xlpm.current,INDEX($I$2:$I$241,MATCH($E23&"Yes",$G$2:$G$241,0)),_xlfn.LET(_xlpm.goal,INDEX($I$2:$I$241,MATCH($E23&"Yes",$H$2:$H$241,0)),IF(OR(IFERROR(_xlpm.current="[Select]",FALSE),IFERROR(_xlpm.goal="[Select]",FALSE),IFERROR(_xlpm.current="",FALSE),IFERROR(_xlpm.goal="",FALSE)),TRUE,FALSE))),FALSE) -> FALSE | Z23: =IFERROR(_xlfn.LET(_xlpm.matchPosition,MATCH(E23&"Yes",$H$2:$H$241,0),_xlpm.timescale,INDEX($L$2:$L$241,_xlpm.matchPosition),IF(OR(_xlpm.timescale=$AH$4,_xlpm.timescale=$AI$4),ISBLANK(INDEX($M$2:$M$241,_xlpm.matchPosition)))),FALSE) -> FALSE
D24: PR3(H) | E24: =LEFT(D24,FIND("(",D24)-1) -> PR3 | F24: Custom [Overwrite this text if selected] | G24: =$E24&J24 -> PR3 | H24: =$E24&K24 -> PR3 | I24: [Select] | O24: =IF(COUNTIFS(J$2:J$241,"Yes",$E$2:$E$241,$E24)=0,TRUE,FALSE) -> TRUE | P24: =IF(COUNTIFS(J$2:J$241,"Yes",$E$2:$E$241,$E24)>1,TRUE,FALSE) -> FALSE | Q24: =IF(COUNTIFS(K$2:K$241,"Yes",$E$2:$E$241,$E24)=0,TRUE,FALSE) -> TRUE | R24: =IF(K24="Yes",IF(ISBLANK(L24),TRUE,FALSE),FALSE) -> FALSE | S24: =IF(OR(L24="Next Year",L24="Next Two Years"),IF(ISBLANK(M24),TRUE,FALSE),FALSE) -> FALSE | T24: =IF(COUNTIFS(K$2:K$241,"Yes",$E$2:$E$241,$E24)>1,TRUE,FALSE) -> FALSE | U24: =IFERROR(_xlfn.LET(_xlpm.current,INDEX($I$2:$I$241,MATCH($E24&"Yes",$G$2:$G$241,0)),_xlpm.goal,INDEX($I$2:$I$241,MATCH($E24&"Yes",$H$2:$H$241,0)),IF(OR(_xlpm.current = "[Select]", _xlpm.goal = "[Select]"),FALSE,IF(OR(AND(_xlpm.current<>"n/a",_xlpm.goal="Inadequate"), AND(_xlpm.goal = "Adequate", OR(_xlpm.current = "Adequate", _xlpm.current = "Optimal ")), AND(_xlpm.current = "Optimal ", _xlpm.goal <> 0)),TRUE,FALSE))),FALSE) -> FALSE | V24: =IFERROR(_xlfn.LET(_xlpm.current,INDEX($I$2:$I$241,MATCH($E24&"Yes",$G$2:$G$241,0)),_xlfn.LET(_xlpm.goal,INDEX($I$2:$I$241,MATCH($E24&"Yes",$H$2:$H$241,0)),IF(AND(_xlpm.current="n/a",_xlpm.goal="Inadequate"),TRUE,FALSE))),FALSE) -> FALSE | W24: =IFERROR(INDEX($L$2:$L$241,MATCH(E24&"Yes",$H$2:$H$241,0))=0,FALSE) -> FALSE | X24: =IFERROR(_xlfn.LET(_xlpm.current,INDEX($F$2:$F$241,MATCH($E24&"Yes",$G$2:$G$241,0)),_xlfn.LET(_xlpm.goal,INDEX($F$2:$F$241,MATCH($E24&"Yes",$H$2:$H$241,0)),IF(OR(IFERROR(_xlpm.current="Custom [Overwrite this text if selected]",FALSE),IFERROR(_xlpm.goal="Custom [Overwrite this text if selected]",FALSE),IFERROR(_xlpm.current="",FALSE),IFERROR(_xlpm.goal="",FALSE)),TRUE,FALSE))),FALSE) -> FALSE | Y24: =IFERROR(_xlfn.LET(_xlpm.current,INDEX($I$2:$I$241,MATCH($E24&"Yes",$G$2:$G$241,0)),_xlfn.LET(_xlpm.goal,INDEX($I$2:$I$241,MATCH($E24&"Yes",$H$2:$H$241,0)),IF(OR(IFERROR(_xlpm.current="[Select]",FALSE),IFERROR(_xlpm.goal="[Select]",FALSE),IFERROR(_xlpm.current="",FALSE),IFERROR(_xlpm.goal="",FALSE)),TRUE,FALSE))),FALSE) -> FALSE | Z24: =IFERROR(_xlfn.LET(_xlpm.matchPosition,MATCH(E24&"Yes",$H$2:$H$241,0),_xlpm.timescale,INDEX($L$2:$L$241,_xlpm.matchPosition),IF(OR(_xlpm.timescale=$AH$4,_xlpm.timescale=$AI$4),ISBLANK(INDEX($M$2:$M$241,_xlpm.matchPosition)))),FALSE) -> FALSE
A25: PR4 | B25: Provisioning | C25: If you use Teams/SharePoint, how do you know which part of the organisation / business function owns a given Team or SharePoint site? | D25: PR4(NA) | E25: =LEFT(D25,FIND("(",D25)-1) -> PR4 | F25: Not applicable | G25: =$E25&J25 -> PR4 | H25: =$E25&K25 -> PR4 | I25: n/a | O25: =IF(COUNTIFS(J$2:J$247,"Yes",$E$2:$E$247,$E25)=0,TRUE,FALSE) -> TRUE | P25: =IF(COUNTIFS(J$2:J$247,"Yes",$E$2:$E$247,$E25)>1,TRUE,FALSE) -> FALSE | Q25: =IF(COUNTIFS(K$2:K$247,"Yes",$E$2:$E$247,$E25)=0,TRUE,FALSE) -> TRUE | R25: =IF(K25="Yes",IF(ISBLANK(L25),TRUE,FALSE),FALSE) -> FALSE | S25: =IF(OR(L25="Next Year",L25="Next Two Years"),IF(ISBLANK(M25),TRUE,FALSE),FALSE) -> FALSE | T25: =IF(COUNTIFS(K$2:K$247,"Yes",$E$2:$E$247,$E25)>1,TRUE,FALSE) -> FALSE | U25: =IFERROR(_xlfn.LET(_xlpm.current,INDEX($I$2:$I$241,MATCH($E25&"Yes",$G$2:$G$241,0)),_xlpm.goal,INDEX($I$2:$I$241,MATCH($E25&"Yes",$H$2:$H$241,0)),IF(OR(_xlpm.current = "[Select]", _xlpm.goal = "[Select]"),FALSE,IF(OR(AND(_xlpm.current<>"n/a",_xlpm.goal="Inadequate"), AND(_xlpm.goal = "Adequate", OR(_xlpm.current = "Adequate", _xlpm.current = "Optimal ")), AND(_xlpm.current = "Optimal ", _xlpm.goal <> 0)),TRUE,FALSE))),FALSE) -> FALSE | V25: =IFERROR(_xlfn.LET(_xlpm.current,INDEX($I$2:$I$252,MATCH($E25&"Yes",$G$2:$G$252,0)),_xlfn.LET(_xlpm.goal,INDEX($I$2:$I$252,MATCH($E25&"Yes",$H$2:$H$252,0)),IF(AND(_xlpm.current="n/a",_xlpm.goal="Inadequate"),TRUE,FALSE))),FALSE) -> FALSE | W25: =IFERROR(INDEX($L$2:$L$247,MATCH(E25&"Yes",$H$2:$H$247,0))=0,FALSE) -> FALSE | X25: =IFERROR(_xlfn.LET(_xlpm.current,INDEX($F$2:$F$241,MATCH($E25&"Yes",$G$2:$G$241,0)),_xlfn.LET(_xlpm.goal,INDEX($F$2:$F$241,MATCH($E25&"Yes",$H$2:$H$241,0)),IF(OR(IFERROR(_xlpm.current="Custom [Overwrite this text if selected]",FALSE),IFERROR(_xlpm.goal="Custom [Overwrite this text if selected]",FALSE),IFERROR(_xlpm.current="",FALSE),IFERROR(_xlpm.goal="",FALSE)),TRUE,FALSE))),FALSE) -> FALSE | Y25: =IFERROR(_xlfn.LET(_xlpm.current,INDEX($I$2:$I$241,MATCH($E25&"Yes",$G$2:$G$241,0)),_xlfn.LET(_xlpm.goal,INDEX($I$2:$I$241,MATCH($E25&"Yes",$H$2:$H$241,0)),IF(OR(IFERROR(_xlpm.current="[Select]",FALSE),IFERROR(_xlpm.goal="[Select]",FALSE),IFERROR(_xlpm.current="",FALSE),IFERROR(_xlpm.goal="",FALSE)),TRUE,FALSE))),FALSE) -> FALSE | Z25: =IFERROR(_xlfn.LET(_xlpm.matchPosition,MATCH(E25&"Yes",$H$2:$H$247,0),_xlpm.timescale,INDEX($L$2:$L$247,_xlpm.matchPosition),IF(OR(_xlpm.timescale=$AH$4,_xlpm.timescale=$AI$4),ISBLANK(INDEX($M$2:$M$247,_xlpm.matchPosition)))),FALSE) -> FALSE | AA25: {=_xlfn.LET( _xlpm.currentText,IF(OR(O25,P25),"- Please select exactly one current practice (or 'Not applicable')",""), _xlpm.goalsText,IF(T25,"- Please select exactly one goal",""), _xlpm.insufficientGoal,IF(U25,"- Note: selected goal is at same or lower level than current state",""), _xlpm.naToInadequate,IF(V25,"- Note: selected goal is inadequate",""), _xlpm.customGoalButNoDescription,IF(X25,"- Please provide a description for your custom state in column F",""), _xlpm.customGoalButNoMaturitySpecified,IF(Y25,"- Please select a maturity level for custom state",""), _xlpm.goalButNoTimescale,IF(W25,"- Please use the 'Improvement timescale' field to indicate how quickly improvement is planned for",""), _xlpm.timescaleButNoAction,IF(Z25,"- Please indicate what actions you intend to take to improve within the " & LOWER(L25),""), _xlpm.texts,_xlfn.VSTACK(_xlpm.currentText,_xlpm.goalsText,_xlpm.insufficientGoal,_xlpm.naToInadequate,_xlpm.customGoalButNoDescription,_xlpm.customGoalButNoMaturitySpecified,_xlpm.goalButNoTimescale,_xlpm.timescaleButNoAction), IFERROR(_xlfn.TEXTJOIN(CHAR(10),TRUE,_xlfn._xlws.FILTER(_xlpm.texts,_xlpm.texts <> "")),""))} -> - Please select exactly one current practice (or 'Not applicable')
D26: PR4(A) | E26: =LEFT(D26,FIND("(",D26)-1) -> PR4 | F26: It is not clear who owns each Team and/or SharePoint site. | G26: =$E26&J26 -> PR4 | H26: =$E26&K26 -> PR4 | I26: Inadequate | O26: =IF(COUNTIFS(J$2:J$247,"Yes",$E$2:$E$247,$E26)=0,TRUE,FALSE) -> TRUE | P26: =IF(COUNTIFS(J$2:J$247,"Yes",$E$2:$E$247,$E26)>1,TRUE,FALSE) -> FALSE | Q26: =IF(COUNTIFS(K$2:K$247,"Yes",$E$2:$E$247,$E26)=0,TRUE,FALSE) -> TRUE | R26: =IF(K26="Yes",IF(ISBLANK(L26),TRUE,FALSE),FALSE) -> FALSE | S26: =IF(OR(L26="Next Year",L26="Next Two Years"),IF(ISBLANK(M26),TRUE,FALSE),FALSE) -> FALSE | T26: =IF(COUNTIFS(K$2:K$247,"Yes",$E$2:$E$247,$E26)>1,TRUE,FALSE) -> FALSE | U26: =IFERROR(_xlfn.LET(_xlpm.current,INDEX($I$2:$I$241,MATCH($E26&"Yes",$G$2:$G$241,0)),_xlpm.goal,INDEX($I$2:$I$241,MATCH($E26&"Yes",$H$2:$H$241,0)),IF(OR(_xlpm.current = "[Select]", _xlpm.goal = "[Select]"),FALSE,IF(OR(AND(_xlpm.current<>"n/a",_xlpm.goal="Inadequate"), AND(_xlpm.goal = "Adequate", OR(_xlpm.current = "Adequate", _xlpm.current = "Optimal ")), AND(_xlpm.current = "Optimal ", _xlpm.goal <> 0)),TRUE,FALSE))),FALSE) -> FALSE | V26: =IFERROR(_xlfn.LET(_xlpm.current,INDEX($I$2:$I$252,MATCH($E26&"Yes",$G$2:$G$252,0)),_xlfn.LET(_xlpm.goal,INDEX($I$2:$I$252,MATCH($E26&"Yes",$H$2:$H$252,0)),IF(AND(_xlpm.current="n/a",_xlpm.goal="Inadequate"),TRUE,FALSE))),FALSE) -> FALSE | W26: =IFERROR(INDEX($L$2:$L$247,MATCH(E26&"Yes",$H$2:$H$247,0))=0,FALSE) -> FALSE | X26: =IFERROR(_xlfn.LET(_xlpm.current,INDEX($F$2:$F$241,MATCH($E26&"Yes",$G$2:$G$241,0)),_xlfn.LET(_xlpm.goal,INDEX($F$2:$F$241,MATCH($E26&"Yes",$H$2:$H$241,0)),IF(OR(IFERROR(_xlpm.current="Custom [Overwrite this text if selected]",FALSE),IFERROR(_xlpm.goal="Custom [Overwrite this text if selected]",FALSE),IFERROR(_xlpm.current="",FALSE),IFERROR(_xlpm.goal="",FALSE)),TRUE,FALSE))),FALSE) -> FALSE | Y26: =IFERROR(_xlfn.LET(_xlpm.current,INDEX($I$2:$I$241,MATCH($E26&"Yes",$G$2:$G$241,0)),_xlfn.LET(_xlpm.goal,INDEX($I$2:$I$241,MATCH($E26&"Yes",$H$2:$H$241,0)),IF(OR(IFERROR(_xlpm.current="[Select]",FALSE),IFERROR(_xlpm.goal="[Select]",FALSE),IFERROR(_xlpm.current="",FALSE),IFERROR(_xlpm.goal="",FALSE)),TRUE,FALSE))),FALSE) -> FALSE | Z26: =IFERROR(_xlfn.LET(_xlpm.matchPosition,MATCH(E26&"Yes",$H$2:$H$247,0),_xlpm.timescale,INDEX($L$2:$L$247,_xlpm.matchPosition),IF(OR(_xlpm.timescale=$AH$4,_xlpm.timescale=$AI$4),ISBLANK(INDEX($M$2:$M$247,_xlpm.matchPosition)))),FALSE) -> FALSE
D27: PR4(B) | E27: =LEFT(D27,FIND("(",D27)-1) -> PR4 | F27: A list of which Team and/or Site is owned by which part of the organisation / business function is maintained, allowing us to look up who is responsible for any given Team or Site | G27: =$E27&J27 -> PR4 | H27: =$E27&K27 -> PR4 | I27: Adequate | O27: =IF(COUNTIFS(J$2:J$247,"Yes",$E$2:$E$247,$E27)=0,TRUE,FALSE) -> TRUE | P27: =IF(COUNTIFS(J$2:J$247,"Yes",$E$2:$E$247,$E27)>1,TRUE,FALSE) -> FALSE | Q27: =IF(COUNTIFS(K$2:K$247,"Yes",$E$2:$E$247,$E27)=0,TRUE,FALSE) -> TRUE | R27: =IF(K27="Yes",IF(ISBLANK(L27),TRUE,FALSE),FALSE) -> FALSE | S27: =IF(OR(L27="Next Year",L27="Next Two Years"),IF(ISBLANK(M27),TRUE,FALSE),FALSE) -> FALSE | T27: =IF(COUNTIFS(K$2:K$247,"Yes",$E$2:$E$247,$E27)>1,TRUE,FALSE) -> FALSE | U27: =IFERROR(_xlfn.LET(_xlpm.current,INDEX($I$2:$I$241,MATCH($E27&"Yes",$G$2:$G$241,0)),_xlpm.goal,INDEX($I$2:$I$241,MATCH($E27&"Yes",$H$2:$H$241,0)),IF(OR(_xlpm.current = "[Select]", _xlpm.goal = "[Select]"),FALSE,IF(OR(AND(_xlpm.current<>"n/a",_xlpm.goal="Inadequate"), AND(_xlpm.goal = "Adequate", OR(_xlpm.current = "Adequate", _xlpm.current = "Optimal ")), AND(_xlpm.current = "Optimal ", _xlpm.goal <> 0)),TRUE,FALSE))),FALSE) -> FALSE | V27: =IFERROR(_xlfn.LET(_xlpm.current,INDEX($I$2:$I$252,MATCH($E27&"Yes",$G$2:$G$252,0)),_xlfn.LET(_xlpm.goal,INDEX($I$2:$I$252,MATCH($E27&"Yes",$H$2:$H$252,0)),IF(AND(_xlpm.current="n/a",_xlpm.goal="Inadequate"),TRUE,FALSE))),FALSE) -> FALSE | W27: =IFERROR(INDEX($L$2:$L$247,MATCH(E27&"Yes",$H$2:$H$247,0))=0,FALSE) -> FALSE | X27: =IFERROR(_xlfn.LET(_xlpm.current,INDEX($F$2:$F$241,MATCH($E27&"Yes",$G$2:$G$241,0)),_xlfn.LET(_xlpm.goal,INDEX($F$2:$F$241,MATCH($E27&"Yes",$H$2:$H$241,0)),IF(OR(IFERROR(_xlpm.current="Custom [Overwrite this text if selected]",FALSE),IFERROR(_xlpm.goal="Custom [Overwrite this text if selected]",FALSE),IFERROR(_xlpm.current="",FALSE),IFERROR(_xlpm.goal="",FALSE)),TRUE,FALSE))),FALSE) -> FALSE | Y27: =IFERROR(_xlfn.LET(_xlpm.current,INDEX($I$2:$I$241,MATCH($E27&"Yes",$G$2:$G$241,0)),_xlfn.LET(_xlpm.goal,INDEX($I$2:$I$241,MATCH($E27&"Yes",$H$2:$H$241,0)),IF(OR(IFERROR(_xlpm.current="[Select]",FALSE),IFERROR(_xlpm.goal="[Select]",FALSE),IFERROR(_xlpm.current="",FALSE),IFERROR(_xlpm.goal="",FALSE)),TRUE,FALSE))),FALSE) -> FALSE | Z27: =IFERROR(_xlfn.LET(_xlpm.matchPosition,MATCH(E27&"Yes",$H$2:$H$247,0),_xlpm.timescale,INDEX($L$2:$L$247,_xlpm.matchPosition),IF(OR(_xlpm.timescale=$AH$4,_xlpm.timescale=$AI$4),ISBLANK(INDEX($M$2:$M$247,_xlpm.matchPosition)))),FALSE) -> FALSE
D28: PR4(C) | E28: =LEFT(D28,FIND("(",D28)-1) -> PR4 | F28: Each Team and/or SharePoint site is clearly marked as being owned by part of the organisation / business function | G28: =$E28&J28 -> PR4 | H28: =$E28&K28 -> PR4 | I28: Optimal | O28: =IF(COUNTIFS(J$2:J$247,"Yes",$E$2:$E$247,$E28)=0,TRUE,FALSE) -> TRUE | P28: =IF(COUNTIFS(J$2:J$247,"Yes",$E$2:$E$247,$E28)>1,TRUE,FALSE) -> FALSE | Q28: =IF(COUNTIFS(K$2:K$247,"Yes",$E$2:$E$247,$E28)=0,TRUE,FALSE) -> TRUE | R28: =IF(K28="Yes",IF(ISBLANK(L28),TRUE,FALSE),FALSE) -> FALSE | S28: =IF(OR(L28="Next Year",L28="Next Two Years"),IF(ISBLANK(M28),TRUE,FALSE),FALSE) -> FALSE | T28: =IF(COUNTIFS(K$2:K$247,"Yes",$E$2:$E$247,$E28)>1,TRUE,FALSE) -> FALSE | U28: =IFERROR(_xlfn.LET(_xlpm.current,INDEX($I$2:$I$241,MATCH($E28&"Yes",$G$2:$G$241,0)),_xlpm.goal,INDEX($I$2:$I$241,MATCH($E28&"Yes",$H$2:$H$241,0)),IF(OR(_xlpm.current = "[Select]", _xlpm.goal = "[Select]"),FALSE,IF(OR(AND(_xlpm.current<>"n/a",_xlpm.goal="Inadequate"), AND(_xlpm.goal = "Adequate", OR(_xlpm.current = "Adequate", _xlpm.current = "Optimal ")), AND(_xlpm.current = "Optimal ", _xlpm.goal <> 0)),TRUE,FALSE))),FALSE) -> FALSE | V28: =IFERROR(_xlfn.LET(_xlpm.current,INDEX($I$2:$I$252,MATCH($E28&"Yes",$G$2:$G$252,0)),_xlfn.LET(_xlpm.goal,INDEX($I$2:$I$252,MATCH($E28&"Yes",$H$2:$H$252,0)),IF(AND(_xlpm.current="n/a",_xlpm.goal="Inadequate"),TRUE,FALSE))),FALSE) -> FALSE | W28: =IFERROR(INDEX($L$2:$L$247,MATCH(E28&"Yes",$H$2:$H$247,0))=0,FALSE) -> FALSE | X28: =IFERROR(_xlfn.LET(_xlpm.current,INDEX($F$2:$F$241,MATCH($E28&"Yes",$G$2:$G$241,0)),_xlfn.LET(_xlpm.goal,INDEX($F$2:$F$241,MATCH($E28&"Yes",$H$2:$H$241,0)),IF(OR(IFERROR(_xlpm.current="Custom [Overwrite this text if selected]",FALSE),IFERROR(_xlpm.goal="Custom [Overwrite this text if selected]",FALSE),IFERROR(_xlpm.current="",FALSE),IFERROR(_xlpm.goal="",FALSE)),TRUE,FALSE))),FALSE) -> FALSE | Y28: =IFERROR(_xlfn.LET(_xlpm.current,INDEX($I$2:$I$241,MATCH($E28&"Yes",$G$2:$G$241,0)),_xlfn.LET(_xlpm.goal,INDEX($I$2:$I$241,MATCH($E28&"Yes",$H$2:$H$241,0)),IF(OR(IFERROR(_xlpm.current="[Select]",FALSE),IFERROR(_xlpm.goal="[Select]",FALSE),IFERROR(_xlpm.current="",FALSE),IFERROR(_xlpm.goal="",FALSE)),TRUE,FALSE))),FALSE) -> FALSE | Z28: =IFERROR(_xlfn.LET(_xlpm.matchPosition,MATCH(E28&"Yes",$H$2:$H$247,0),_xlpm.timescale,INDEX($L$2:$L$247,_xlpm.matchPosition),IF(OR(_xlpm.timescale=$AH$4,_xlpm.timescale=$AI$4),ISBLANK(INDEX($M$2:$M$247,_xlpm.matchPosition)))),FALSE) -> FALSE
D29: PR4(D) | E29: =LEFT(D29,FIND("(",D29)-1) -> PR4 | F29: Custom [Overwrite this text if selected] | G29: =$E29&J29 -> PR4 | H29: =$E29&K29 -> PR4 | I29: [Select] | O29: =IF(COUNTIFS(J$2:J$241,"Yes",$E$2:$E$241,$E29)=0,TRUE,FALSE) -> TRUE | P29: =IF(COUNTIFS(J$2:J$241,"Yes",$E$2:$E$241,$E29)>1,TRUE,FALSE) -> FALSE | Q29: =IF(COUNTIFS(K$2:K$241,"Yes",$E$2:$E$241,$E29)=0,TRUE,FALSE) -> TRUE | R29: =IF(K29="Yes",IF(ISBLANK(L29),TRUE,FALSE),FALSE) -> FALSE | S29: =IF(OR(L29="Next Year",L29="Next Two Years"),IF(ISBLANK(M29),TRUE,FALSE),FALSE) -> FALSE | T29: =IF(COUNTIFS(K$2:K$241,"Yes",$E$2:$E$241,$E29)>1,TRUE,FALSE) -> FALSE | U29: =IFERROR(_xlfn.LET(_xlpm.current,INDEX($I$2:$I$241,MATCH($E29&"Yes",$G$2:$G$241,0)),_xlpm.goal,INDEX($I$2:$I$241,MATCH($E29&"Yes",$H$2:$H$241,0)),IF(OR(_xlpm.current = "[Select]", _xlpm.goal = "[Select]"),FALSE,IF(OR(AND(_xlpm.current<>"n/a",_xlpm.goal="Inadequate"), AND(_xlpm.goal = "Adequate", OR(_xlpm.current = "Adequate", _xlpm.current = "Optimal ")), AND(_xlpm.current = "Optimal ", _xlpm.goal <> 0)),TRUE,FALSE))),FALSE) -> FALSE | V29: =IFERROR(_xlfn.LET(_xlpm.current,INDEX($I$2:$I$241,MATCH($E29&"Yes",$G$2:$G$241,0)),_xlfn.LET(_xlpm.goal,INDEX($I$2:$I$241,MATCH($E29&"Yes",$H$2:$H$241,0)),IF(AND(_xlpm.current="n/a",_xlpm.goal="Inadequate"),TRUE,FALSE))),FALSE) -> FALSE | W29: =IFERROR(INDEX($L$2:$L$241,MATCH(E29&"Yes",$H$2:$H$241,0))=0,FALSE) -> FALSE | X29: =IFERROR(_xlfn.LET(_xlpm.current,INDEX($F$2:$F$241,MATCH($E29&"Yes",$G$2:$G$241,0)),_xlfn.LET(_xlpm.goal,INDEX($F$2:$F$241,MATCH($E29&"Yes",$H$2:$H$241,0)),IF(OR(IFERROR(_xlpm.current="Custom [Overwrite this text if selected]",FALSE),IFERROR(_xlpm.goal="Custom [Overwrite this text if selected]",FALSE),IFERROR(_xlpm.current="",FALSE),IFERROR(_xlpm.goal="",FALSE)),TRUE,FALSE))),FALSE) -> FALSE | Y29: =IFERROR(_xlfn.LET(_xlpm.current,INDEX($I$2:$I$241,MATCH($E29&"Yes",$G$2:$G$241,0)),_xlfn.LET(_xlpm.goal,INDEX($I$2:$I$241,MATCH($E29&"Yes",$H$2:$H$241,0)),IF(OR(IFERROR(_xlpm.current="[Select]",FALSE),IFERROR(_xlpm.goal="[Select]",FALSE),IFERROR(_xlpm.current="",FALSE),IFERROR(_xlpm.goal="",FALSE)),TRUE,FALSE))),FALSE) -> FALSE | Z29: =IFERROR(_xlfn.LET(_xlpm.matchPosition,MATCH(E29&"Yes",$H$2:$H$241,0),_xlpm.timescale,INDEX($L$2:$L$241,_xlpm.matchPosition),IF(OR(_xlpm.timescale=$AH$4,_xlpm.timescale=$AI$4),ISBLANK(INDEX($M$2:$M$241,_xlpm.matchPosition)))),FALSE) -> FALSE
D30: PR4(E) | E30: =LEFT(D30,FIND("(",D30)-1) -> PR4 | F30: Custom [Overwrite this text if selected] | G30: =$E30&J30 -> PR4 | H30: =$E30&K30 -> PR4 | I30: [Select] | O30: =IF(COUNTIFS(J$2:J$241,"Yes",$E$2:$E$241,$E30)=0,TRUE,FALSE) -> TRUE | P30: =IF(COUNTIFS(J$2:J$241,"Yes",$E$2:$E$241,$E30)>1,TRUE,FALSE) -> FALSE | Q30: =IF(COUNTIFS(K$2:K$241,"Yes",$E$2:$E$241,$E30)=0,TRUE,FALSE) -> TRUE | R30: =IF(K30="Yes",IF(ISBLANK(L30),TRUE,FALSE),FALSE) -> FALSE | S30: =IF(OR(L30="Next Year",L30="Next Two Years"),IF(ISBLANK(M30),TRUE,FALSE),FALSE) -> FALSE | T30: =IF(COUNTIFS(K$2:K$241,"Yes",$E$2:$E$241,$E30)>1,TRUE,FALSE) -> FALSE | U30: =IFERROR(_xlfn.LET(_xlpm.current,INDEX($I$2:$I$241,MATCH($E30&"Yes",$G$2:$G$241,0)),_xlpm.goal,INDEX($I$2:$I$241,MATCH($E30&"Yes",$H$2:$H$241,0)),IF(OR(_xlpm.current = "[Select]", _xlpm.goal = "[Select]"),FALSE,IF(OR(AND(_xlpm.current<>"n/a",_xlpm.goal="Inadequate"), AND(_xlpm.goal = "Adequate", OR(_xlpm.current = "Adequate", _xlpm.current = "Optimal ")), AND(_xlpm.current = "Optimal ", _xlpm.goal <> 0)),TRUE,FALSE))),FALSE) -> FALSE | V30: =IFERROR(_xlfn.LET(_xlpm.current,INDEX($I$2:$I$241,MATCH($E30&"Yes",$G$2:$G$241,0)),_xlfn.LET(_xlpm.goal,INDEX($I$2:$I$241,MATCH($E30&"Yes",$H$2:$H$241,0)),IF(AND(_xlpm.current="n/a",_xlpm.goal="Inadequate"),TRUE,FALSE))),FALSE) -> FALSE | W30: =IFERROR(INDEX($L$2:$L$241,MATCH(E30&"Yes",$H$2:$H$241,0))=0,FALSE) -> FALSE | X30: =IFERROR(_xlfn.LET(_xlpm.current,INDEX($F$2:$F$241,MATCH($E30&"Yes",$G$2:$G$241,0)),_xlfn.LET(_xlpm.goal,INDEX($F$2:$F$241,MATCH($E30&"Yes",$H$2:$H$241,0)),IF(OR(IFERROR(_xlpm.current="Custom [Overwrite this text if selected]",FALSE),IFERROR(_xlpm.goal="Custom [Overwrite this text if selected]",FALSE),IFERROR(_xlpm.current="",FALSE),IFERROR(_xlpm.goal="",FALSE)),TRUE,FALSE))),FALSE) -> FALSE | Y30: =IFERROR(_xlfn.LET(_xlpm.current,INDEX($I$2:$I$241,MATCH($E30&"Yes",$G$2:$G$241,0)),_xlfn.LET(_xlpm.goal,INDEX($I$2:$I$241,MATCH($E30&"Yes",$H$2:$H$241,0)),IF(OR(IFERROR(_xlpm.current="[Select]",FALSE),IFERROR(_xlpm.goal="[Select]",FALSE),IFERROR(_xlpm.current="",FALSE),IFERROR(_xlpm.goal="",FALSE)),TRUE,FALSE))),FALSE) -> FALSE | Z30: =IFERROR(_xlfn.LET(_xlpm.matchPosition,MATCH(E30&"Yes",$H$2:$H$241,0),_xlpm.timescale,INDEX($L$2:$L$241,_xlpm.matchPosition),IF(OR(_xlpm.timescale=$AH$4,_xlpm.timescale=$AI$4),ISBLANK(INDEX($M$2:$M$241,_xlpm.matchPosition)))),FALSE) -> FALSE
A31: PR5 | B31: Provisioning | C31: If you use Microsoft Teams, what, if anything do you do to extend governance to Private Channels? | D31: PR5(NA) | E31: =LEFT(D31,FIND("(",D31)-1) -> PR5 | F31: Not applicable | G31: =$E31&J31 -> PR5 | H31: =$E31&K31 -> PR5 | I31: n/a | O31: =IF(COUNTIFS(J$2:J$247,"Yes",$E$2:$E$247,$E31)=0,TRUE,FALSE) -> TRUE | P31: =IF(COUNTIFS(J$2:J$247,"Yes",$E$2:$E$247,$E31)>1,TRUE,FALSE) -> FALSE | Q31: =IF(COUNTIFS(K$2:K$247,"Yes",$E$2:$E$247,$E31)=0,TRUE,FALSE) -> TRUE | R31: =IF(K31="Yes",IF(ISBLANK(L31),TRUE,FALSE),FALSE) -> FALSE | S31: =IF(OR(L31="Next Year",L31="Next Two Years"),IF(ISBLANK(M31),TRUE,FALSE),FALSE) -> FALSE | T31: =IF(COUNTIFS(K$2:K$247,"Yes",$E$2:$E$247,$E31)>1,TRUE,FALSE) -> FALSE | U31: =IFERROR(_xlfn.LET(_xlpm.current,INDEX($I$2:$I$241,MATCH($E31&"Yes",$G$2:$G$241,0)),_xlpm.goal,INDEX($I$2:$I$241,MATCH($E31&"Yes",$H$2:$H$241,0)),IF(OR(_xlpm.current = "[Select]", _xlpm.goal = "[Select]"),FALSE,IF(OR(AND(_xlpm.current<>"n/a",_xlpm.goal="Inadequate"), AND(_xlpm.goal = "Adequate", OR(_xlpm.current = "Adequate", _xlpm.current = "Optimal ")), AND(_xlpm.current = "Optimal ", _xlpm.goal <> 0)),TRUE,FALSE))),FALSE) -> FALSE | V31: =IFERROR(_xlfn.LET(_xlpm.current,INDEX($I$2:$I$252,MATCH($E31&"Yes",$G$2:$G$252,0)),_xlfn.LET(_xlpm.goal,INDEX($I$2:$I$252,MATCH($E31&"Yes",$H$2:$H$252,0)),IF(AND(_xlpm.current="n/a",_xlpm.goal="Inadequate"),TRUE,FALSE))),FALSE) -> FALSE | W31: =IFERROR(INDEX($L$2:$L$247,MATCH(E31&"Yes",$H$2:$H$247,0))=0,FALSE) -> FALSE | X31: =IFERROR(_xlfn.LET(_xlpm.current,INDEX($F$2:$F$241,MATCH($E31&"Yes",$G$2:$G$241,0)),_xlfn.LET(_xlpm.goal,INDEX($F$2:$F$241,MATCH($E31&"Yes",$H$2:$H$241,0)),IF(OR(IFERROR(_xlpm.current="Custom [Overwrite this text if selected]",FALSE),IFERROR(_xlpm.goal="Custom [Overwrite this text if selected]",FALSE),IFERROR(_xlpm.current="",FALSE),IFERROR(_xlpm.goal="",FALSE)),TRUE,FALSE))),FALSE) -> FALSE | Y31: =IFERROR(_xlfn.LET(_xlpm.current,INDEX($I$2:$I$241,MATCH($E31&"Yes",$G$2:$G$241,0)),_xlfn.LET(_xlpm.goal,INDEX($I$2:$I$241,MATCH($E31&"Yes",$H$2:$H$241,0)),IF(OR(IFERROR(_xlpm.current="[Select]",FALSE),IFERROR(_xlpm.goal="[Select]",FALSE),IFERROR(_xlpm.current="",FALSE),IFERROR(_xlpm.goal="",FALSE)),TRUE,FALSE))),FALSE) -> FALSE | Z31: =IFERROR(_xlfn.LET(_xlpm.matchPosition,MATCH(E31&"Yes",$H$2:$H$247,0),_xlpm.timescale,INDEX($L$2:$L$247,_xlpm.matchPosition),IF(OR(_xlpm.timescale=$AH$4,_xlpm.timescale=$AI$4),ISBLANK(INDEX($M$2:$M$247,_xlpm.matchPosition)))),FALSE) -> FALSE | AA31: {=_xlfn.LET( _xlpm.currentText,IF(OR(O31,P31),"- Please select exactly one current practice (or 'Not applicable')",""), _xlpm.goalsText,IF(T31,"- Please select exactly one goal",""), _xlpm.insufficientGoal,IF(U31,"- Note: selected goal is at same or lower level than current state",""), _xlpm.naToInadequate,IF(V31,"- Note: selected goal is inadequate",""), _xlpm.customGoalButNoDescription,IF(X31,"- Please provide a description for your custom state in column F",""), _xlpm.customGoalButNoMaturitySpecified,IF(Y31,"- Please select a maturity level for custom state",""), _xlpm.goalButNoTimescale,IF(W31,"- Please use the 'Improvement timescale' field to indicate how quickly improvement is planned for",""), _xlpm.timescaleButNoAction,IF(Z31,"- Please indicate what actions you intend to take to improve within the " & LOWER(L31),""), _xlpm.texts,_xlfn.VSTACK(_xlpm.currentText,_xlpm.goalsText,_xlpm.insufficientGoal,_xlpm.naToInadequate,_xlpm.customGoalButNoDescription,_xlpm.customGoalButNoMaturitySpecified,_xlpm.goalButNoTimescale,_xlpm.timescaleButNoAction), IFERROR(_xlfn.TEXTJOIN(CHAR(10),TRUE,_xlfn._xlws.FILTER(_xlpm.texts,_xlpm.texts <> "")),""))} -> - Please select exactly one current practice (or 'Not applicable')
D32: PR5(A) | E32: =LEFT(D32,FIND("(",D32)-1) -> PR5 | F32: We allow users to create Private Channels, but currently don't have a process for extending governance to them | G32: =$E32&J32 -> PR5 | H32: =$E32&K32 -> PR5 | I32: Inadequate | O32: =IF(COUNTIFS(J$2:J$247,"Yes",$E$2:$E$247,$E32)=0,TRUE,FALSE) -> TRUE | P32: =IF(COUNTIFS(J$2:J$247,"Yes",$E$2:$E$247,$E32)>1,TRUE,FALSE) -> FALSE | Q32: =IF(COUNTIFS(K$2:K$247,"Yes",$E$2:$E$247,$E32)=0,TRUE,FALSE) -> TRUE | R32: =IF(K32="Yes",IF(ISBLANK(L32),TRUE,FALSE),FALSE) -> FALSE | S32: =IF(OR(L32="Next Year",L32="Next Two Years"),IF(ISBLANK(M32),TRUE,FALSE),FALSE) -> FALSE | T32: =IF(COUNTIFS(K$2:K$247,"Yes",$E$2:$E$247,$E32)>1,TRUE,FALSE) -> FALSE | U32: =IFERROR(_xlfn.LET(_xlpm.current,INDEX($I$2:$I$241,MATCH($E32&"Yes",$G$2:$G$241,0)),_xlpm.goal,INDEX($I$2:$I$241,MATCH($E32&"Yes",$H$2:$H$241,0)),IF(OR(_xlpm.current = "[Select]", _xlpm.goal = "[Select]"),FALSE,IF(OR(AND(_xlpm.current<>"n/a",_xlpm.goal="Inadequate"), AND(_xlpm.goal = "Adequate", OR(_xlpm.current = "Adequate", _xlpm.current = "Optimal ")), AND(_xlpm.current = "Optimal ", _xlpm.goal <> 0)),TRUE,FALSE))),FALSE) -> FALSE | V32: =IFERROR(_xlfn.LET(_xlpm.current,INDEX($I$2:$I$252,MATCH($E32&"Yes",$G$2:$G$252,0)),_xlfn.LET(_xlpm.goal,INDEX($I$2:$I$252,MATCH($E32&"Yes",$H$2:$H$252,0)),IF(AND(_xlpm.current="n/a",_xlpm.goal="Inadequate"),TRUE,FALSE))),FALSE) -> FALSE | W32: =IFERROR(INDEX($L$2:$L$247,MATCH(E32&"Yes",$H$2:$H$247,0))=0,FALSE) -> FALSE | X32: =IFERROR(_xlfn.LET(_xlpm.current,INDEX($F$2:$F$241,MATCH($E32&"Yes",$G$2:$G$241,0)),_xlfn.LET(_xlpm.goal,INDEX($F$2:$F$241,MATCH($E32&"Yes",$H$2:$H$241,0)),IF(OR(IFERROR(_xlpm.current="Custom [Overwrite this text if selected]",FALSE),IFERROR(_xlpm.goal="Custom [Overwrite this text if selected]",FALSE),IFERROR(_xlpm.current="",FALSE),IFERROR(_xlpm.goal="",FALSE)),TRUE,FALSE))),FALSE) -> FALSE | Y32: =IFERROR(_xlfn.LET(_xlpm.current,INDEX($I$2:$I$241,MATCH($E32&"Yes",$G$2:$G$241,0)),_xlfn.LET(_xlpm.goal,INDEX($I$2:$I$241,MATCH($E32&"Yes",$H$2:$H$241,0)),IF(OR(IFERROR(_xlpm.current="[Select]",FALSE),IFERROR(_xlpm.goal="[Select]",FALSE),IFERROR(_xlpm.current="",FALSE),IFERROR(_xlpm.goal="",FALSE)),TRUE,FALSE))),FALSE) -> FALSE | Z32: =IFERROR(_xlfn.LET(_xlpm.matchPosition,MATCH(E32&"Yes",$H$2:$H$247,0),_xlpm.timescale,INDEX($L$2:$L$247,_xlpm.matchPosition),IF(OR(_xlpm.timescale=$AH$4,_xlpm.timescale=$AI$4),ISBLANK(INDEX($M$2:$M$247,_xlpm.matchPosition)))),FALSE) -> FALSE
D33: PR5(B) | E33: =LEFT(D33,FIND("(",D33)-1) -> PR5 | F33: We don't allow users to create Private Channels | G33: =$E33&J33 -> PR5 | H33: =$E33&K33 -> PR5 | I33: Adequate | O33: =IF(COUNTIFS(J$2:J$247,"Yes",$E$2:$E$247,$E33)=0,TRUE,FALSE) -> TRUE | P33: =IF(COUNTIFS(J$2:J$247,"Yes",$E$2:$E$247,$E33)>1,TRUE,FALSE) -> FALSE | Q33: =IF(COUNTIFS(K$2:K$247,"Yes",$E$2:$E$247,$E33)=0,TRUE,FALSE) -> TRUE | R33: =IF(K33="Yes",IF(ISBLANK(L33),TRUE,FALSE),FALSE) -> FALSE | S33: =IF(OR(L33="Next Year",L33="Next Two Years"),IF(ISBLANK(M33),TRUE,FALSE),FALSE) -> FALSE | T33: =IF(COUNTIFS(K$2:K$247,"Yes",$E$2:$E$247,$E33)>1,TRUE,FALSE) -> FALSE | U33: =IFERROR(_xlfn.LET(_xlpm.current,INDEX($I$2:$I$241,MATCH($E33&"Yes",$G$2:$G$241,0)),_xlpm.goal,INDEX($I$2:$I$241,MATCH($E33&"Yes",$H$2:$H$241,0)),IF(OR(_xlpm.current = "[Select]", _xlpm.goal = "[Select]"),FALSE,IF(OR(AND(_xlpm.current<>"n/a",_xlpm.goal="Inadequate"), AND(_xlpm.goal = "Adequate", OR(_xlpm.current = "Adequate", _xlpm.current = "Optimal ")), AND(_xlpm.current = "Optimal ", _xlpm.goal <> 0)),TRUE,FALSE))),FALSE) -> FALSE | V33: =IFERROR(_xlfn.LET(_xlpm.current,INDEX($I$2:$I$252,MATCH($E33&"Yes",$G$2:$G$252,0)),_xlfn.LET(_xlpm.goal,INDEX($I$2:$I$252,MATCH($E33&"Yes",$H$2:$H$252,0)),IF(AND(_xlpm.current="n/a",_xlpm.goal="Inadequate"),TRUE,FALSE))),FALSE) -> FALSE | W33: =IFERROR(INDEX($L$2:$L$247,MATCH(E33&"Yes",$H$2:$H$247,0))=0,FALSE) -> FALSE | X33: =IFERROR(_xlfn.LET(_xlpm.current,INDEX($F$2:$F$241,MATCH($E33&"Yes",$G$2:$G$241,0)),_xlfn.LET(_xlpm.goal,INDEX($F$2:$F$241,MATCH($E33&"Yes",$H$2:$H$241,0)),IF(OR(IFERROR(_xlpm.current="Custom [Overwrite this text if selected]",FALSE),IFERROR(_xlpm.goal="Custom [Overwrite this text if selected]",FALSE),IFERROR(_xlpm.current="",FALSE),IFERROR(_xlpm.goal="",FALSE)),TRUE,FALSE))),FALSE) -> FALSE | Y33: =IFERROR(_xlfn.LET(_xlpm.current,INDEX($I$2:$I$241,MATCH($E33&"Yes",$G$2:$G$241,0)),_xlfn.LET(_xlpm.goal,INDEX($I$2:$I$241,MATCH($E33&"Yes",$H$2:$H$241,0)),IF(OR(IFERROR(_xlpm.current="[Select]",FALSE),IFERROR(_xlpm.goal="[Select]",FALSE),IFERROR(_xlpm.current="",FALSE),IFERROR(_xlpm.goal="",FALSE)),TRUE,FALSE))),FALSE) -> FALSE | Z33: =IFERROR(_xlfn.LET(_xlpm.matchPosition,MATCH(E33&"Yes",$H$2:$H$247,0),_xlpm.timescale,INDEX($L$2:$L$247,_xlpm.matchPosition),IF(OR(_xlpm.timescale=$AH$4,_xlpm.timescale=$AI$4),ISBLANK(INDEX($M$2:$M$247,_xlpm.matchPosition)))),FALSE) -> FALSE
D34: PR5(C) | E34: =LEFT(D34,FIND("(",D34)-1) -> PR5 | F34: We have a process that identifies Private Channels and ensures that each Private Channel is configured to meet information governance needs (e.g. application of metadata, retention policies/labels) | G34: =$E34&J34 -> PR5 | H34: =$E34&K34 -> PR5 | I34: Optimal | O34: =IF(COUNTIFS(J$2:J$247,"Yes",$E$2:$E$247,$E34)=0,TRUE,FALSE) -> TRUE | P34: =IF(COUNTIFS(J$2:J$247,"Yes",$E$2:$E$247,$E34)>1,TRUE,FALSE) -> FALSE | Q34: =IF(COUNTIFS(K$2:K$247,"Yes",$E$2:$E$247,$E34)=0,TRUE,FALSE) -> TRUE | R34: =IF(K34="Yes",IF(ISBLANK(L34),TRUE,FALSE),FALSE) -> FALSE | S34: =IF(OR(L34="Next Year",L34="Next Two Years"),IF(ISBLANK(M34),TRUE,FALSE),FALSE) -> FALSE | T34: =IF(COUNTIFS(K$2:K$247,"Yes",$E$2:$E$247,$E34)>1,TRUE,FALSE) -> FALSE | U34: =IFERROR(_xlfn.LET(_xlpm.current,INDEX($I$2:$I$241,MATCH($E34&"Yes",$G$2:$G$241,0)),_xlpm.goal,INDEX($I$2:$I$241,MATCH($E34&"Yes",$H$2:$H$241,0)),IF(OR(_xlpm.current = "[Select]", _xlpm.goal = "[Select]"),FALSE,IF(OR(AND(_xlpm.current<>"n/a",_xlpm.goal="Inadequate"), AND(_xlpm.goal = "Adequate", OR(_xlpm.current = "Adequate", _xlpm.current = "Optimal ")), AND(_xlpm.current = "Optimal ", _xlpm.goal <> 0)),TRUE,FALSE))),FALSE) -> FALSE | V34: =IFERROR(_xlfn.LET(_xlpm.current,INDEX($I$2:$I$252,MATCH($E34&"Yes",$G$2:$G$252,0)),_xlfn.LET(_xlpm.goal,INDEX($I$2:$I$252,MATCH($E34&"Yes",$H$2:$H$252,0)),IF(AND(_xlpm.current="n/a",_xlpm.goal="Inadequate"),TRUE,FALSE))),FALSE) -> FALSE | W34: =IFERROR(INDEX($L$2:$L$247,MATCH(E34&"Yes",$H$2:$H$247,0))=0,FALSE) -> FALSE | X34: =IFERROR(_xlfn.LET(_xlpm.current,INDEX($F$2:$F$241,MATCH($E34&"Yes",$G$2:$G$241,0)),_xlfn.LET(_xlpm.goal,INDEX($F$2:$F$241,MATCH($E34&"Yes",$H$2:$H$241,0)),IF(OR(IFERROR(_xlpm.current="Custom [Overwrite this text if selected]",FALSE),IFERROR(_xlpm.goal="Custom [Overwrite this text if selected]",FALSE),IFERROR(_xlpm.current="",FALSE),IFERROR(_xlpm.goal="",FALSE)),TRUE,FALSE))),FALSE) -> FALSE | Y34: =IFERROR(_xlfn.LET(_xlpm.current,INDEX($I$2:$I$241,MATCH($E34&"Yes",$G$2:$G$241,0)),_xlfn.LET(_xlpm.goal,INDEX($I$2:$I$241,MATCH($E34&"Yes",$H$2:$H$241,0)),IF(OR(IFERROR(_xlpm.current="[Select]",FALSE),IFERROR(_xlpm.goal="[Select]",FALSE),IFERROR(_xlpm.current="",FALSE),IFERROR(_xlpm.goal="",FALSE)),TRUE,FALSE))),FALSE) -> FALSE | Z34: =IFERROR(_xlfn.LET(_xlpm.matchPosition,MATCH(E34&"Yes",$H$2:$H$247,0),_xlpm.timescale,INDEX($L$2:$L$247,_xlpm.matchPosition),IF(OR(_xlpm.timescale=$AH$4,_xlpm.timescale=$AI$4),ISBLANK(INDEX($M$2:$M$247,_xlpm.matchPosition)))),FALSE) -> FALSE
D35: PR5(D) | E35: =LEFT(D35,FIND("(",D35)-1) -> PR5 | F35: Custom [Overwrite this text if selected] | G35: =$E35&J35 -> PR5 | H35: =$E35&K35 -> PR5 | I35: [Select] | O35: =IF(COUNTIFS(J$2:J$241,"Yes",$E$2:$E$241,$E35)=0,TRUE,FALSE) -> TRUE | P35: =IF(COUNTIFS(J$2:J$241,"Yes",$E$2:$E$241,$E35)>1,TRUE,FALSE) -> FALSE | Q35: =IF(COUNTIFS(K$2:K$241,"Yes",$E$2:$E$241,$E35)=0,TRUE,FALSE) -> TRUE | R35: =IF(K35="Yes",IF(ISBLANK(L35),TRUE,FALSE),FALSE) -> FALSE | S35: =IF(OR(L35="Next Year",L35="Next Two Years"),IF(ISBLANK(M35),TRUE,FALSE),FALSE) -> FALSE | T35: =IF(COUNTIFS(K$2:K$241,"Yes",$E$2:$E$241,$E35)>1,TRUE,FALSE) -> FALSE | U35: =IFERROR(_xlfn.LET(_xlpm.current,INDEX($I$2:$I$241,MATCH($E35&"Yes",$G$2:$G$241,0)),_xlpm.goal,INDEX($I$2:$I$241,MATCH($E35&"Yes",$H$2:$H$241,0)),IF(OR(_xlpm.current = "[Select]", _xlpm.goal = "[Select]"),FALSE,IF(OR(AND(_xlpm.current<>"n/a",_xlpm.goal="Inadequate"), AND(_xlpm.goal = "Adequate", OR(_xlpm.current = "Adequate", _xlpm.current = "Optimal ")), AND(_xlpm.current = "Optimal ", _xlpm.goal <> 0)),TRUE,FALSE))),FALSE) -> FALSE | V35: =IFERROR(_xlfn.LET(_xlpm.current,INDEX($I$2:$I$241,MATCH($E35&"Yes",$G$2:$G$241,0)),_xlfn.LET(_xlpm.goal,INDEX($I$2:$I$241,MATCH($E35&"Yes",$H$2:$H$241,0)),IF(AND(_xlpm.current="n/a",_xlpm.goal="Inadequate"),TRUE,FALSE))),FALSE) -> FALSE | W35: =IFERROR(INDEX($L$2:$L$241,MATCH(E35&"Yes",$H$2:$H$241,0))=0,FALSE) -> FALSE | X35: =IFERROR(_xlfn.LET(_xlpm.current,INDEX($F$2:$F$241,MATCH($E35&"Yes",$G$2:$G$241,0)),_xlfn.LET(_xlpm.goal,INDEX($F$2:$F$241,MATCH($E35&"Yes",$H$2:$H$241,0)),IF(OR(IFERROR(_xlpm.current="Custom [Overwrite this text if selected]",FALSE),IFERROR(_xlpm.goal="Custom [Overwrite this text if selected]",FALSE),IFERROR(_xlpm.current="",FALSE),IFERROR(_xlpm.goal="",FALSE)),TRUE,FALSE))),FALSE) -> FALSE | Y35: =IFERROR(_xlfn.LET(_xlpm.current,INDEX($I$2:$I$241,MATCH($E35&"Yes",$G$2:$G$241,0)),_xlfn.LET(_xlpm.goal,INDEX($I$2:$I$241,MATCH($E35&"Yes",$H$2:$H$241,0)),IF(OR(IFERROR(_xlpm.current="[Select]",FALSE),IFERROR(_xlpm.goal="[Select]",FALSE),IFERROR(_xlpm.current="",FALSE),IFERROR(_xlpm.goal="",FALSE)),TRUE,FALSE))),FALSE) -> FALSE | Z35: =IFERROR(_xlfn.LET(_xlpm.matchPosition,MATCH(E35&"Yes",$H$2:$H$241,0),_xlpm.timescale,INDEX($L$2:$L$241,_xlpm.matchPosition),IF(OR(_xlpm.timescale=$AH$4,_xlpm.timescale=$AI$4),ISBLANK(INDEX($M$2:$M$241,_xlpm.matchPosition)))),FALSE) -> FALSE
D36: PR5(E) | E36: =LEFT(D36,FIND("(",D36)-1) -> PR5 | F36: Custom [Overwrite this text if selected] | G36: =$E36&J36 -> PR5 | H36: =$E36&K36 -> PR5 | I36: [Select] | O36: =IF(COUNTIFS(J$2:J$241,"Yes",$E$2:$E$241,$E36)=0,TRUE,FALSE) -> TRUE | P36: =IF(COUNTIFS(J$2:J$241,"Yes",$E$2:$E$241,$E36)>1,TRUE,FALSE) -> FALSE | Q36: =IF(COUNTIFS(K$2:K$241,"Yes",$E$2:$E$241,$E36)=0,TRUE,FALSE) -> TRUE | R36: =IF(K36="Yes",IF(ISBLANK(L36),TRUE,FALSE),FALSE) -> FALSE | S36: =IF(OR(L36="Next Year",L36="Next Two Years"),IF(ISBLANK(M36),TRUE,FALSE),FALSE) -> FALSE | T36: =IF(COUNTIFS(K$2:K$241,"Yes",$E$2:$E$241,$E36)>1,TRUE,FALSE) -> FALSE | U36: =IFERROR(_xlfn.LET(_xlpm.current,INDEX($I$2:$I$241,MATCH($E36&"Yes",$G$2:$G$241,0)),_xlpm.goal,INDEX($I$2:$I$241,MATCH($E36&"Yes",$H$2:$H$241,0)),IF(OR(_xlpm.current = "[Select]", _xlpm.goal = "[Select]"),FALSE,IF(OR(AND(_xlpm.current<>"n/a",_xlpm.goal="Inadequate"), AND(_xlpm.goal = "Adequate", OR(_xlpm.current = "Adequate", _xlpm.current = "Optimal ")), AND(_xlpm.current = "Optimal ", _xlpm.goal <> 0)),TRUE,FALSE))),FALSE) -> FALSE | V36: =IFERROR(_xlfn.LET(_xlpm.current,INDEX($I$2:$I$241,MATCH($E36&"Yes",$G$2:$G$241,0)),_xlfn.LET(_xlpm.goal,INDEX($I$2:$I$241,MATCH($E36&"Yes",$H$2:$H$241,0)),IF(AND(_xlpm.current="n/a",_xlpm.goal="Inadequate"),TRUE,FALSE))),FALSE) -> FALSE | W36: =IFERROR(INDEX($L$2:$L$241,MATCH(E36&"Yes",$H$2:$H$241,0))=0,FALSE) -> FALSE | X36: =IFERROR(_xlfn.LET(_xlpm.current,INDEX($F$2:$F$241,MATCH($E36&"Yes",$G$2:$G$241,0)),_xlfn.LET(_xlpm.goal,INDEX($F$2:$F$241,MATCH($E36&"Yes",$H$2:$H$241,0)),IF(OR(IFERROR(_xlpm.current="Custom [Overwrite this text if selected]",FALSE),IFERROR(_xlpm.goal="Custom [Overwrite this text if selected]",FALSE),IFERROR(_xlpm.current="",FALSE),IFERROR(_xlpm.goal="",FALSE)),TRUE,FALSE))),FALSE) -> FALSE | Y36: =IFERROR(_xlfn.LET(_xlpm.current,INDEX($I$2:$I$241,MATCH($E36&"Yes",$G$2:$G$241,0)),_xlfn.LET(_xlpm.goal,INDEX($I$2:$I$241,MATCH($E36&"Yes",$H$2:$H$241,0)),IF(OR(IFERROR(_xlpm.current="[Select]",FALSE),IFERROR(_xlpm.goal="[Select]",FALSE),IFERROR(_xlpm.current="",FALSE),IFERROR(_xlpm.goal="",FALSE)),TRUE,FALSE))),FALSE) -> FALSE | Z36: =IFERROR(_xlfn.LET(_xlpm.matchPosition,MATCH(E36&"Yes",$H$2:$H$241,0),_xlpm.timescale,INDEX($L$2:$L$241,_xlpm.matchPosition),IF(OR(_xlpm.timescale=$AH$4,_xlpm.timescale=$AI$4),ISBLANK(INDEX($M$2:$M$241,_xlpm.matchPosition)))),FALSE) -> FALSE
